Workbook

Sheet Cover
B3: SEI Stockholm Environment Institute
B6: Electrification Potential Analysis for the Baltics Past and Future Developments
B8: Scenario Projections & Historical Analysis · Estonia · Latvia · Lithuania
B10: PROJECT INFORMATION
B11: Project Title | C11: Electrification Potential Analysis for Baltics – Past and Future Developments
B12: Study Carried Out By | C12: Stockholm Environment Institute (SEI), Tallinn Centre
B13: Beneficiary | C13: Sunly
B14: Countries Covered | C14: Estonia · Latvia · Lithuania
B15: Date | C15: 46266

Sheet Historical trend ass. Est_visua
A1: The main sources are:
A2: IEA: https://www.iea.org/countries/estonia
A3: Eurostat: https://ec.europa.eu/eurostat/web/main/data/database
A4: National statistics: https://www.stat.ee/et
B8: Figure 1 - Total Monthly Electricity Production | G8: Source: National Statistics Estonia | K8: Figure 2 - Sectoral final energy consumption - electricity | Q8: Source: National Statistics Estonia and IEA Estonia
B24: Figure 3 - Total yearly Electricity Production by fuel | G24: Source: National Statistics Estonia | L24: Figure 4 - Total share of fossil and renewable electricity generation | R24: Source: National Statistics Estonia
B45: Figure 5 - Final energy consumption of electricity | H45: Source: National Statistics Estonia | K45: Figure 6 - Industrial final energy consumption | P45: Source: IEA and Eurostat Estonia
B63: Figure 7 - Transport final energy consumption | G63: Source: IEA and Eurostat Estonia | L63: Figure 8 - Buildings final energy consumption | Q63: Source: IEA Estonia
B80: Figure 9 - Final energy consumption | F80: Source: National Statistics Estonia | L80: Figure 10 - Per capita electricty consumption | P80: Source: National Statistics Estonia
A100: Figure 1 - Total Monthly Electricity Production
A101: Total electricity production, GWh | B101: 2005 January | C101: 2005 February | D101: 2005 March | E101: 2005 April | F101: 2005 May | G101: 2005 June | H101: 2005 July | I101: 2005 August | J101: 2005 September | K101: 2005 October | L101: 2005 November | M101: 2005 December | N101: 2006 January | O101: 2006 February | P101: 2006 March | Q101: 2006 April | R101: 2006 May | S101: 2006 June | T101: 2006 July | U101: 2006 August | V101: 2006 September | W101: 2006 October | X101: 2006 November | Y101: 2006 December | Z101: 2007 January | AA101: 2007 February | AB101: 2007 March | AC101: 2007 April | AD101: 2007 May | AE101: 2007 June | AF101: 2007 July | AG101: 2007 August | AH101: 2007 September | AI101: 2007 October | AJ101: 2007 November | AK101: 2007 December | AL101: 2008 January | AM101: 2008 February | AN101: 2008 March | AO101: 2008 April | AP101: 2008 May | AQ101: 2008 June | AR101: 2008 July | AS101: 2008 August | AT101: 2008 September | AU101: 2008 October | AV101: 2008 November | AW101: 2008 December | AX101: 2009 January | AY101: 2009 February | AZ101: 2009 March | BA101: 2009 April | BB101: 2009 May | BC101: 2009 June | BD101: 2009 July | BE101: 2009 August | BF101: 2009 September | BG101: 2009 October | BH101: 2009 November | BI101: 2009 December | BJ101: 2010 January | BK101: 2010 February | BL101: 2010 March | BM101: 2010 April | BN101: 2010 May | BO101: 2010 June | BP101: 2010 July | BQ101: 2010 August | BR101: 2010 September | BS101: 2010 October | BT101: 2010 November | BU101: 2010 December | BV101: 2011 January | BW101: 2011 February | BX101: 2011 March | BY101: 2011 April | BZ101: 2011 May | CA101: 2011 June | CB101: 2011 July | CC101: 2011 August | CD101: 2011 September | CE101: 2011 October | CF101: 2011 November | CG101: 2011 December | CH101: 2012 January | CI101: 2012 February | CJ101: 2012 March | CK101: 2012 April | CL101: 2012 May | CM101: 2012 June | CN101: 2012 July | CO101: 2012 August | CP101: 2012 September | CQ101: 2012 October | CR101: 2012 November | CS101: 2012 December | CT101: 2013 January | CU101: 2013 February | CV101: 2013 March | CW101: 2013 April | CX101: 2013 May | CY101: 2013 June | CZ101: 2013 July | DA101: 2013 August | DB101: 2013 September | DC101: 2013 October | DD101: 2013 November | DE101: 2013 December | DF101: 2014 January | DG101: 2014 February | DH101: 2014 March | DI101: 2014 April | DJ101: 2014 May | DK101: 2014 June | DL101: 2014 July | DM101: 2014 August | DN101: 2014 September | DO101: 2014 October | DP101: 2014 November | DQ101: 2014 December | DR101: 2015 January | DS101: 2015 February | DT101: 2015 March | DU101: 2015 April | DV101: 2015 May | DW101: 2015 June | DX101: 2015 July | DY101: 2015 August | DZ101: 2015 September | EA101: 2015 October | EB101: 2015 November | EC101: 2015 December | ED101: 2016 January | EE101: 2016 February | EF101: 2016 March | EG101: 2016 April | EH101: 2016 May | EI101: 2016 June | EJ101: 2016 July | EK101: 2016 August | EL101: 2016 September | EM101: 2016 October | EN101: 2016 November | EO101: 2016 December | EP101: 2017 January | EQ101: 2017 February | ER101: 2017 March | ES101: 2017 April | ET101: 2017 May | EU101: 2017 June | EV101: 2017 July | EW101: 2017 August | EX101: 2017 September | EY101: 2017 October | EZ101: 2017 November | FA101: 2017 December | FB101: 2018 January | FC101: 2018 February | FD101: 2018 March | FE101: 2018 April | FF101: 2018 May | FG101: 2018 June | FH101: 2018 July | FI101: 2018 August | FJ101: 2018 September | FK101: 2018 October | FL101: 2018 November | FM101: 2018 December | FN101: 2019 January | FO101: 2019 February | FP101: 2019 March | FQ101: 2019 April | FR101: 2019 May | FS101: 2019 June | FT101: 2019 July | FU101: 2019 August | FV101: 2019 September | FW101: 2019 October | FX101: 2019 November | FY101: 2019 December | FZ101: 2020 January | GA101: 2020 February | GB101: 2020 March | GC101: 2020 April | GD101: 2020 May | GE101: 2020 June | GF101: 2020 July | GG101: 2020 August | GH101: 2020 September | GI101: 2020 October | GJ101: 2020 November | GK101: 2020 December | GL101: 2021 January | GM101: 2021 February | GN101: 2021 March | GO101: 2021 April | GP101: 2021 May | GQ101: 2021 June | GR101: 2021 July | GS101: 2021 August | GT101: 2021 September | GU101: 2021 October | GV101: 2021 November | GW101: 2021 December | GX101: 2022 January | GY101: 2022 February | GZ101: 2022 March | HA101: 2022 April | HB101: 2022 May | HC101: 2022 June | HD101: 2022 July | HE101: 2022 August | HF101: 2022 September | HG101: 2022 October | HH101: 2022 November | HI101: 2022 December | HJ101: 2023 January | HK101: 2023 February | HL101: 2023 March | HM101: 2023 April | HN101: 2023 May | HO101: 2023 June | HP101: 2023 July | HQ101: 2023 August | HR101: 2023 September | HS101: 2023 October | HT101: 2023 November | HU101: 2023 December | HV101: 2024 January | HW101: 2024 February | HX101: 2024 March | HY101: 2024 April | HZ101: 2024 May | IA101: 2024 June | IB101: 2024 July | IC101: 2024 August | ID101: 2024 September | IE101: 2024 October | IF101: 2024 November | IG101: 2024 December
B102: 824 | C102: 1011 | D102: 1094 | E102: 606 | F102: 616 | G102: 572 | H102: 677 | I102: 744 | J102: 1161 | K102: 1057 | L102: 881 | M102: 941 | N102: 1018 | O102: 949 | P102: 951 | Q102: 652 | R102: 724 | S102: 626 | T102: 644 | U102: 876 | V102: 636 | W102: 888 | X102: 864 | Y102: 871 | Z102: 939 | AA102: 1025 | AB102: 1000 | AC102: 895 | AD102: 891 | AE102: 836 | AF102: 926 | AG102: 1007 | AH102: 1100 | AI102: 1137 | AJ102: 1182 | AK102: 1201 | AL102: 1149 | AM102: 996 | AN102: 762 | AO102: 749 | AP102: 675 | AQ102: 599 | AR102: 658 | AS102: 970 | AT102: 1042 | AU102: 1011 | AV102: 957 | AW102: 981 | AX102: 1036 | AY102: 948 | AZ102: 901 | BA102: 603 | BB102: 577 | BC102: 724 | BD102: 554 | BE102: 594 | BF102: 671 | BG102: 673 | BH102: 649 | BI102: 808 | BJ102: 1233 | BK102: 1132 | BL102: 1183 | BM102: 854 | BN102: 950 | BO102: 945 | BP102: 959 | BQ102: 907 | BR102: 943 | BS102: 1109 | BT102: 1160 | BU102: 1375 | BV102: 1362 | BW102: 1127 | BX102: 1255 | BY102: 895 | BZ102: 972 | CA102: 1012 | CB102: 946 | CC102: 1019 | CD102: 934 | CE102: 963 | CF102: 1191 | CG102: 1194 | CH102: 1076 | CI102: 1090 | CJ102: 931 | CK102: 878 | CL102: 902 | CM102: 868 | CN102: 780 | CO102: 1058 | CP102: 971 | CQ102: 1066 | CR102: 1099 | CS102: 1247 | CT102: 1330 | CU102: 1208 | CV102: 1249 | CW102: 1050 | CX102: 1060 | CY102: 942 | CZ102: 974 | DA102: 1097 | DB102: 1131 | DC102: 1188 | DD102: 1101 | DE102: 945 | DF102: 1071 | DG102: 990 | DH102: 986 | DI102: 914 | DJ102: 1009 | DK102: 1061 | DL102: 1041 | DM102: 970 | DN102: 989 | DO102: 1106 | DP102: 1083 | DQ102: 1159 | DR102: 1127 | DS102: 1074 | DT102: 846 | DU102: 782 | DV102: 873 | DW102: 614 | DX102: 658 | DY102: 775 | DZ102: 900 | EA102: 886 | EB102: 891 | EC102: 900 | ED102: 1247 | EE102: 861 | EF102: 782 | EG102: 851 | EH102: 707 | EI102: 752 | EJ102: 948 | EK102: 1153 | EL102: 1192 | EM102: 1222 | EN102: 1239 | EO102: 1096 | EP102: 1316 | EQ102: 1145 | ER102: 1208 | ES102: 1037 | ET102: 1191 | EU102: 1021 | EV102: 901 | EW102: 986 | EX102: 952 | EY102: 1114 | EZ102: 1131 | FA102: 1027 | FB102: 1180 | FC102: 1090 | FD102: 1321 | FE102: 1152 | FF102: 830 | FG102: 808 | FH102: 955 | FI102: 1080 | FJ102: 960 | FK102: 961 | FL102: 1096 | FM102: 894 | FN102: 1218 | FO102: 804 | FP102: 796 | FQ102: 721 | FR102: 554 | FS102: 374 | FT102: 372 | FU102: 476 | FV102: 550 | FW102: 519 | FX102: 629 | FY102: 557 | FZ102: 500 | GA102: 423 | GB102: 453 | GC102: 324 | GD102: 328 | GE102: 387 | GF102: 392 | GG102: 619 | GH102: 543 | GI102: 547 | GJ102: 538 | GK102: 575 | GL102: 667 | GM102: 682 | GN102: 464 | GO102: 462 | GP102: 425 | GQ102: 506 | GR102: 547 | GS102: 486 | GT102: 647 | GU102: 683 | GV102: 762 | GW102: 961 | GX102: 820 | GY102: 589 | GZ102: 875 | HA102: 591 | HB102: 800 | HC102: 691 | HD102: 641 | HE102: 625 | HF102: 791 | HG102: 703 | HH102: 754 | HI102: 806 | HJ102: 637 | HK102: 561 | HL102: 566 | HM102: 429 | HN102: 452 | HO102: 442 | HP102: 327 | HQ102: 376 | HR102: 405 | HS102: 399 | HT102: 497 | HU102: 582 | HV102: 673 | HW102: 513 | HX102: 509 | HY102: 443 | HZ102: 518 | IA102: 500 | IB102: 463 | IC102: 415 | ID102: 492 | IE102: 481 | IF102: 454 | IG102: 584
A104: Total 2024 | B104: =SUM(HV102:IG102) -> 6045
A106: Figure 2 - Sectoral final energy consumption - electricity
B107: Industry | C107: Transport | D107: Buildings | F107: Residential | G107: Commercial and public services
A108: 2000 | B108: 1829 | C108: 92 | D108: =SUM(F108:G108) -> 2866.8445 | F108: 1466 | G108: 1400.8445
A109: 2001 | B109: 1814 | C109: 83 | D109: =SUM(F109:G109) -> 3063.9007 | F109: 1585 | G109: 1478.9007
A110: 2002 | B110: 1884 | C110: 96 | D110: =SUM(F110:G110) -> 3154.0126 | F110: 1584 | G110: 1570.0126
A111: 2003 | B111: 2030 | C111: 97 | D111: =SUM(F111:G111) -> 3257.9022 | F111: 1594 | G111: 1663.9022
A112: 2004 | B112: 2135 | C112: 99 | D112: =SUM(F112:G112) -> 3468.0148 | F112: 1618 | G112: 1850.0148
A113: 2005 | B113: 2160 | C113: 103 | D113: =SUM(F113:G113) -> 3548.9043 | F113: 1620 | G113: 1928.9043
A114: 2006 | B114: 2331 | C114: 83 | D114: =SUM(F114:G114) -> 3850.8507 | F114: 1675 | G114: 2175.8507
A115: 2007 | B115: 2386 | C115: 77 | D115: =SUM(F115:G115) -> 4130.7966 | F115: 1773 | G115: 2357.7966
A116: 2008 | B116: 2332 | C116: 80 | D116: =SUM(F116:G116) -> 4397.7982 | F116: 1845 | G116: 2552.7982
A117: 2009 | B117: 1941 | C117: 59 | D117: =SUM(F117:G117) -> 4442.9094 | F117: 1884 | G117: 2558.9094
A118: 2010 | B118: 2093 | C118: 57 | D118: =SUM(F118:G118) -> 4533.8534 | F118: 2023 | G118: 2510.8534
A119: 2011 | B119: 2055 | C119: 52 | D119: =SUM(F119:G119) -> 4311.7968 | F119: 1934 | G119: 2377.7968
... A131: 2023 | B131: 1783.0698 | C131: 59.44492 | D131: =SUM(F131:G131) -> 4013.0877 | F131: 2163.0729 | G131: 1850.0148
A133: Figure 3 - Total yearly Electricity Production by fuel
A134: Total production GWh | B134: Total | C134: Hard coal | D134: Oil shale | E134: Peat | F134: wood chips and waste | G134: Fuel oil | H134: Shale oil | I134: Diesel | J134: Natural Gas | K134: Biogases | L134: Refuse derived fuel | M134: Other renewable sources | N134: Shale oil gas | O134: Hydro energy | P134: Wind energy | Q134: Solar energy | R134: Electricity import | S134: Import electricity
A135: 2000 | B135: 8510 | C135: 0 | D135: 7719 | E135: 19 | F135: 0 | G135: 2 | H135: 32 | I135: 0 | J135: 560 | K135: 0 | L135: 0 | M135: 55 | N135: 117 | O135: 5 | P135: 0 | Q135: 0 | R135: 496 | S135: =SUM(C135:Q135) -> 8509
A136: 2001 | B136: 8481 | C136: 0 | D136: 7636 | E136: 20 | F136: 0 | G136: 2 | H136: 38 | I136: 0 | J136: 566 | K136: 0 | L136: 0 | M136: 22 | N136: 189 | O136: 7.4 | P136: 0 | Q136: 0 | R136: 412 | S136: =SUM(C136:Q136) -> 8480.4
A137: 2002 | B137: 8524 | C137: 0 | D137: 7729 | E137: 20 | F137: 0 | G137: 2 | H137: 25 | I137: 0 | J137: 518 | K137: 0 | L137: 0 | M137: 27 | N137: 196 | O137: 5.6 | P137: 1.4 | Q137: 0 | R137: 93 | S137: =SUM(C137:Q137) -> 8524
A138: 2003 | B138: 10158 | C138: 0 | D138: 9360 | E138: 20 | F138: 0 | G138: 0 | H138: 33 | I138: 0 | J138: 505 | K138: 0 | L138: 0 | M138: 26 | N138: 195 | O138: 12.8 | P138: 6.1 | Q138: 0 | R138: 347 | S138: =SUM(C138:Q138) -> 10157.9
A139: 2004 | B139: 10302 | C139: 0 | D139: 9510 | E139: 15 | F139: 0 | G139: 0 | H139: 34 | I139: 0 | J139: 486 | K139: 0 | L139: 0 | M139: 31 | N139: 195 | O139: 22.4 | P139: 7.6 | Q139: 0 | R139: 345 | S139: =SUM(C139:Q139) -> 10301
A140: 2005 | B140: 10201 | C140: 0 | D140: 9289 | E140: 14 | F140: 0 | G140: 0 | H140: 28 | I140: 0 | J140: 545 | K140: 0 | L140: 0 | M140: 33 | N140: 217 | O140: 21.5 | P140: 53.9 | Q140: 0 | R140: 346 | S140: =SUM(C140:Q140) -> 10201.4
A141: 2006 | B141: 9729 | C141: 0 | D141: 8773 | E141: 16 | F141: 0 | G141: 0 | H141: 28 | I141: 0 | J141: 541 | K141: 0 | L141: 0 | M141: 38 | N141: 243 | O141: 13.5 | P141: 76.3 | Q141: 0 | R141: 283 | S141: =SUM(C141:Q141) -> 9728.8
A142: 2007 | B142: 12188 | C142: 0 | D142: 11402 | E142: 22 | F142: 0 | G142: 1 | H142: 29 | I142: 0 | J142: 350 | K142: 0 | L142: 0 | M142: 36 | N142: 235 | O142: 22 | P142: 91 | Q142: 0 | R142: 397 | S142: =SUM(C142:Q142) -> 12188
A143: 2008 | B143: 10579 | C143: 0 | D143: 9629 | E143: 15 | F143: 0 | G143: 0 | H143: 37 | I143: 0 | J143: 422 | K143: 0 | L143: 0 | M143: 38 | N143: 277 | O143: 28 | P143: 133 | Q143: 0 | R143: 1360 | S143: =SUM(C143:Q143) -> 10579
A144: 2009 | B144: 8777 | C144: 0 | D144: 7671 | E144: 62 | F144: 283 | G144: 0 | H144: 39 | I144: 0 | J144: 107 | K144: 0 | L144: 0 | M144: 31 | N144: 356 | O144: 32 | P144: 195 | Q144: 0 | R144: 3023 | S144: =SUM(C144:Q144) -> 8776
A145: 2010 | B145: 12962 | C145: 0 | D145: 11043 | E145: 122 | F145: 706 | G145: 0 | H145: 41 | I145: 0 | J145: 304 | K145: 0 | L145: 0 | M145: 36 | N145: 407 | O145: 27 | P145: 277 | Q145: 0 | R145: 1099 | S145: =SUM(C145:Q145) -> 12963
A146: 2011 | B146: 12892 | C146: 0 | D146: 10899 | E146: 86 | F146: 740 | G146: 0 | H146: 42 | I146: 0 | J146: 249 | K146: 0 | L146: 0 | M146: 43 | N146: 435 | O146: 30 | P146: 368 | Q146: 0 | R146: 1690 | S146: =SUM(C146:Q146) -> 12892
... A159: 2024 | B159: 6110 | C159: 0 | D159: 1507 | E159: 1 | F159: 1322 | G159: 0 | H159: 18 | I159: 0 | J159: 28 | K159: 1 | L159: 134 | M159: 5 | N159: 880 | O159: 30 | P159: 1164 | Q159: 1020 | R159: 5478 | S159: =SUM(C159:Q159) -> 6110
A161: Figure 4 - Total share of fossil and renewable electricity generation
A162: Electricity generation | B162: Fossil electricity | C162: Renewable electricty | D162: Total | E162: Share of fossil | F162: Share of renewable
A163: 2000 | B163: =C135+D135+E135+G135+H135+I135+J135+N135 -> 8449 | C163: =F135+K135+M135+O135+P135+Q135+L135 -> 60 | D163: =SUM(B163:C163) -> 8509 | E163: =B163/D163 -> 0.99294864 | F163: =C163/D163 -> 0.0070513574
A164: 2001 | B164: =C136+D136+E136+G136+H136+I136+J136+N136 -> 8451 | C164: =F136+K136+M136+O136+P136+Q136+L136 -> 29.4 | D164: =SUM(B164:C164) -> 8480.4 | E164: =B164/D164 -> 0.99653318 | F164: =C164/D164 -> 0.0034668176
A165: 2002 | B165: =C137+D137+E137+G137+H137+I137+J137+N137 -> 8490 | C165: =F137+K137+M137+O137+P137+Q137+L137 -> 34 | D165: =SUM(B165:C165) -> 8524 | E165: =B165/D165 -> 0.99601126 | F165: =C165/D165 -> 0.0039887377
A166: 2003 | B166: =C138+D138+E138+G138+H138+I138+J138+N138 -> 10113 | C166: =F138+K138+M138+O138+P138+Q138+L138 -> 44.9 | D166: =SUM(B166:C166) -> 10157.9 | E166: =B166/D166 -> 0.9955798 | F166: =C166/D166 -> 0.004420205
A167: 2004 | B167: =C139+D139+E139+G139+H139+I139+J139+N139 -> 10240 | C167: =F139+K139+M139+O139+P139+Q139+L139 -> 61 | D167: =SUM(B167:C167) -> 10301 | E167: =B167/D167 -> 0.99407824 | F167: =C167/D167 -> 0.0059217552
A168: 2005 | B168: =C140+D140+E140+G140+H140+I140+J140+N140 -> 10093 | C168: =F140+K140+M140+O140+P140+Q140+L140 -> 108.4 | D168: =SUM(B168:C168) -> 10201.4 | E168: =B168/D168 -> 0.98937401 | F168: =C168/D168 -> 0.010625993
A169: 2006 | B169: =C141+D141+E141+G141+H141+I141+J141+N141 -> 9601 | C169: =F141+K141+M141+O141+P141+Q141+L141 -> 127.8 | D169: =SUM(B169:C169) -> 9728.8 | E169: =B169/D169 -> 0.98686374 | F169: =C169/D169 -> 0.013136255
A170: 2007 | B170: =C142+D142+E142+G142+H142+I142+J142+N142 -> 12039 | C170: =F142+K142+M142+O142+P142+Q142+L142 -> 149 | D170: =SUM(B170:C170) -> 12188 | E170: =B170/D170 -> 0.98777486 | F170: =C170/D170 -> 0.012225139
A171: 2008 | B171: =C143+D143+E143+G143+H143+I143+J143+N143 -> 10380 | C171: =F143+K143+M143+O143+P143+Q143+L143 -> 199 | D171: =SUM(B171:C171) -> 10579 | E171: =B171/D171 -> 0.98118915 | F171: =C171/D171 -> 0.018810852
A172: 2009 | B172: =C144+D144+E144+G144+H144+I144+J144+N144 -> 8235 | C172: =F144+K144+M144+O144+P144+Q144+L144 -> 541 | D172: =SUM(B172:C172) -> 8776 | E172: =B172/D172 -> 0.9383546 | F172: =C172/D172 -> 0.061645397
A173: 2010 | B173: =C145+D145+E145+G145+H145+I145+J145+N145 -> 11917 | C173: =F145+K145+M145+O145+P145+Q145+L145 -> 1046 | D173: =SUM(B173:C173) -> 12963 | E173: =B173/D173 -> 0.9193088 | F173: =C173/D173 -> 0.080691198
A174: 2011 | B174: =C146+D146+E146+G146+H146+I146+J146+N146 -> 11711 | C174: =F146+K146+M146+O146+P146+Q146+L146 -> 1181 | D174: =SUM(B174:C174) -> 12892 | E174: =B174/D174 -> 0.9083928 | F174: =C174/D174 -> 0.091607198
... A187: 2024 | B187: =C159+D159+E159+G159+H159+I159+J159+N159 -> 2434 | C187: =F159+K159+M159+O159+P159+Q159+L159 -> 3676 | D187: =SUM(B187:C187) -> 6110 | E187: =B187/D187 -> 0.39836334 | F187: =C187/D187 -> 0.60163666
A189: Figure 5 Total final energy consumption - electricity
A190: Year | B190: Electricity | C190: Proportion of total final energy
A191: 2000 | B191: 5015.0401 | C191: =S235/T235 -> 0.17909471
A192: 2001 | B192: 5168.0969 | C192: =S236/T236 -> 0.16792274
A193: 2002 | B193: 5335.0427 | C193: =S237/T237 -> 0.17626005
A194: 2003 | B194: 5596.1559 | C194: =S238/T238 -> 0.17749467
A195: 2004 | B195: 5913.1029 | C195: =S239/T239 -> 0.18350546
A196: 2005 | B196: 6040.0483 | C196: =S240/T240 -> 0.18488224
A197: 2006 | B197: 6490.0519 | C197: =S241/T241 -> 0.1972278
A198: 2007 | B198: 6795.0544 | C198: =S242/T242 -> 0.19323496
A199: 2008 | B199: 7003.9449 | C199: =S243/T243 -> 0.20061105
A200: 2009 | B200: 6650.0532 | C200: =S244/T244 -> 0.20986929
A201: 2010 | B201: 6908.1108 | C201: =S245/T245 -> 0.20635434
A202: 2011 | B202: 6626.9975 | C202: =S246/T246 -> 0.20484617
... A215: 2024 | B215: 6620.053 | C215: =S259/T259 -> 0.18654748
A217: Sectoral FEC
A218: Figure 6 - Industrial final energy consumption
A219: Industry GWh | B219: 2000 | C219: 2001 | D219: 2002 | E219: 2003 | F219: 2004 | G219: 2005 | H219: 2006 | I219: 2007 | J219: 2008 | K219: 2009 | L219: 2010 | M219: 2011 | N219: 2012 | O219: 2013 | P219: 2014 | Q219: 2015 | R219: 2016 | S219: 2017 | T219: 2018 | U219: 2019 | V219: 2020 | W219: 2021 | X219: 2022 | Y219: 2023 | Z219: 2024
A220: Total consumption | B220: 6747 | C220: 7485 | D220: 6803 | E220: 7730 | F220: 7937 | G220: 8268 | H220: 7968 | I220: 8790 | J220: 8518 | K220: 6167 | L220: 6723 | M220: 6822 | N220: 6570 | O220: 7446 | P220: 6470 | Q220: 6222.435 | R220: 5323.716 | S220: 5383.833 | T220: 5651.261 | U220: 5341.743 | V220: 4745.473 | W220: 4461.085 | X220: 4168.187 | Y220: 3921.238 | Z220: 5745.51
A221: Electricity share | B221: 0.2716763 | C221: 0.24261857 | D221: 0.27693665 | E221: 0.26274256 | F221: 0.27012725 | G221: 0.26221577 | H221: 0.2935492 | I221: 0.27212742 | J221: 0.27412538 | K221: 0.31473974 | L221: 0.31161684 | M221: 0.29991205 | N221: 0.33287671 | O221: 0.28955144 | P221: 0.32720247 | Q221: 0.3308994 | R221: 0.40422893 | S221: 0.42367585 | T221: 0.41760591 | U221: 0.39910943 | V221: 0.44864232 | W221: 0.49531672 | X221: 0.50107157 | Y221: 0.45478469 | Z221: 0.31282027
A223: Figure 7 - Transport final energy consumption
A224: Transport GWh | B224: 2000 | C224: 2001 | D224: 2002 | E224: 2003 | F224: 2004 | G224: 2005 | H224: 2006 | I224: 2007 | J224: 2008 | K224: 2009 | L224: 2010 | M224: 2011 | N224: 2012 | O224: 2013 | P224: 2014 | Q224: 2015 | R224: 2016 | S224: 2017 | T224: 2018 | U224: 2019 | V224: 2020 | W224: 2021 | X224: 2022 | Y224: 2023 | Z224: 2024
A225: Total consumption | B225: 7732 | C225: 7875 | D225: 7843 | E225: 8131 | F225: 8303 | G225: 9269 | H225: 9391 | I225: 9518 | J225: 8387 | K225: 8843 | L225: 8746 | M225: 8767 | N225: 8684 | O225: 9080 | P225: 8870 | Q225: 8838.848 | R225: 9035.293 | S225: 9348.919 | T225: 9708.676 | U225: 9767.347 | V225: 9253.155 | W225: 9772.096 | X225: 9836.031 | Y225: 9836.557 | Z225: 11560.096
A226: Electricity share | B226: 0.011769271 | C226: 0.010793651 | D226: 0.012367716 | E226: 0.012052638 | F226: 0.0095146333 | G226: 0.0094940123 | H226: 0.0088382494 | I226: 0.0080899349 | J226: 0.0095385716 | K226: 0.0065588601 | L226: 0.01017608 | M226: 0.0090110642 | N226: 0.0090971902 | O226: 0.0063876652 | P226: 0.0056369786 | Q226: 0.005317435 | R226: 0.0053125007 | S226: 0.004920355 | T226: 0.0044290282 | U226: 0.005733389 | V226: 0.0073358762 | W226: 0.0030633142 | X226: 0.0032992983 | Y226: 0.0060617755 | Z226: 0.005725385
A228: Figure 8 - Buildings final energy consumption
A229: Buildings GWh | B229: 2000 | C229: 2001 | D229: 2002 | E229: 2003 | F229: 2004 | G229: 2005 | H229: 2006 | I229: 2007 | J229: 2008 | K229: 2009 | L229: 2010 | M229: 2011 | N229: 2012 | O229: 2013 | P229: 2014 | Q229: 2015 | R229: 2016 | S229: 2017 | T229: 2018 | U229: 2019 | V229: 2020 | W229: 2021 | X229: 2022 | Y229: 2023
A230: Total consumption | B230: 14133 | C230: 14462 | D230: 14135 | E230: 14689 | F230: 15152 | G230: 14866 | H230: 14869 | I230: 15950 | J230: 16111 | K230: 16153 | L230: 16879 | M230: 15558 | N230: 16220 | O230: 15720 | P230: 15653 | Q230: 15387 | R230: 16619 | S230: 16415 | T230: 16649 | U230: 16441 | V230: 16423 | W230: 17179 | X230: 16514 | Y230: 15085
A231: Electricity share | B231: 0.20285856 | C231: 0.21186558 | D231: 0.22313406 | E231: 0.22179862 | F231: 0.22888068 | G231: 0.23873268 | H231: 0.25899522 | I231: 0.25899687 | J231: 0.27298119 | K231: 0.27505726 | L231: 0.26861781 | M231: 0.27715645 | N231: 0.27694205 | O231: 0.27958015 | P231: 0.28965693 | Q231: 0.29511926 | R231: 0.2938805 | S231: 0.28358209 | T231: 0.28788516 | U231: 0.30357034 | V231: 0.2949522 | W231: 0.31928517 | X231: 0.29508296 | Y231: 0.26602585
A233: Figure 9 - Final energy consumption GWh
A234: Year | B234: Coal | C234: Oil | D234: Gas | E234: Other renewables | F234: Heat | G234: Electricity | H234: Proportion of electricity | K234: Year | L234: Coal | M234: Oil Shale | N234: Oil | O234: Gas | P234: Renewables | Q234: Waste | R234: Heat | S234: Electricity | T234: Total
A235: 2000 | B235: =L235 -> 743.0615 | C235: =M235+N235 -> 9293.1299 | D235: =O235 -> 2061.4054 | E235: =P235+Q235 -> 4941.1506 | F235: =R235 -> 5948.3809 | G235: =S235 -> 5015.0401 | H235: =G235/SUM(B235:G235) -> 0.17909471 | K235: 2000 | L235: 743.0615 | M235: 701.3945 | N235: 8591.7354 | O235: 2061.4054 | P235: 4941.1506 | Q235: 0 | R235: 5948.3809 | S235: 5015.0401 | T235: =SUM(L235:S235) -> 28002.168 | V235: Coal: Bituminous coal, coke, peat
A236: 2001 | B236: =L236 -> 1004.7303 | C236: =M236+N236 -> 11199.534 | D236: =O236 -> 2496.4089 | E236: =P236+Q236 -> 5070.0406 | F236: =R236 -> 5837.8245 | G236: =S236 -> 5168.0969 | H236: =G236/SUM(B236:G236) -> 0.16792274 | K236: 2001 | L236: 1004.7303 | M236: 686.67216 | N236: 10512.862 | O236: 2496.4089 | P236: 5070.0406 | Q236: 0 | R236: 5837.8245 | S236: 5168.0969 | T236: =SUM(L236:S236) -> 30776.635 | V236: oil shale and oil sands
A237: 2002 | B237: =L237 -> 541.11544 | C237: =M237+N237 -> 11163.7 | D237: =O237 -> 2113.3502 | E237: =P237+Q237 -> 5135.3189 | F237: =R237 -> 5979.4923 | G237: =S237 -> 5335.0427 | H237: =G237/SUM(B237:G237) -> 0.17626005 | K237: 2002 | L237: 541.11544 | M237: 588.33804 | N237: 10575.362 | O237: 2113.3502 | P237: 5135.3189 | Q237: 0 | R237: 5979.4923 | S237: 5335.0427 | T237: =SUM(L237:S237) -> 30268.02 | V237: Oil: LPG, gasoline, jet fuel, diesel, fuel oil
A238: 2003 | B238: =L238 -> 454.72586 | C238: =M238+N238 -> 10971.477 | D238: =O238 -> 3217.5257 | E238: =P238+Q238 -> 5593.9336 | F238: =R238 -> 5694.7678 | G238: =S238 -> 5596.1559 | H238: =G238/SUM(B238:G238) -> 0.17749467 | K238: 2003 | L238: 454.72586 | M238: 508.61518 | N238: 10462.861 | O238: 3217.5257 | P238: 5593.9336 | Q238: 0 | R238: 5694.7678 | S238: 5596.1559 | T238: =SUM(L238:S238) -> 31528.586 | V238: Gas: Natural gas
A239: 2004 | B239: =L239 -> 548.05994 | C239: =M239+N239 -> 10985.643 | D239: =O239 -> 3076.4135 | E239: =P239+Q239 -> 5633.6562 | F239: =R239 -> 6066.1596 | G239: =S239 -> 5913.1029 | H239: =G239/SUM(B239:G239) -> 0.18350546 | K239: 2004 | L239: 548.05994 | M239: 546.94882 | N239: 10438.695 | O239: 3076.4135 | P239: 5633.6562 | Q239: 0 | R239: 6066.1596 | S239: 5913.1029 | T239: =SUM(L239:S239) -> 32223.036 | V239: Renewables: Biofuels, biogases, renewable waste
A240: 2005 | B240: =L240 -> 496.39286 | C240: =M240+N240 -> 11501.203 | D240: =O240 -> 3061.6912 | E240: =P240+Q240 -> 5203.9305 | F240: =R240 -> 6366.4398 | G240: =S240 -> 6040.0483 | H240: =G240/SUM(B240:G240) -> 0.18488224 | K240: 2005 | L240: 496.39286 | M240: 781.67292 | N240: 10719.53 | O240: 3061.6912 | P240: 5203.9305 | Q240: 0 | R240: 6366.4398 | S240: 6040.0483 | T240: =SUM(L240:S240) -> 32669.706 | V240: Waste: Non-renewable waste
A241: 2006 | B241: =L241 -> 577.7824 | C241: =M241+N241 -> 11675.927 | D241: =O241 -> 3180.8588 | E241: =P241+Q241 -> 4716.7044 | F241: =R241 -> 6265.0501 | G241: =S241 -> 6490.0519 | H241: =G241/SUM(B241:G241) -> 0.1972278 | K241: 2006 | L241: 577.7824 | M241: 605.28262 | N241: 11070.644 | O241: 3180.8588 | P241: 4716.7044 | Q241: 0 | R241: 6265.0501 | S241: 6490.0519 | T241: =SUM(L241:S241) -> 32906.374 | V241: Heat and Electricity as separate categories
A242: 2007 | B242: =L242 -> 1043.3417 | C242: =M242+N242 -> 12376.766 | D242: =O242 -> 3183.081 | E242: =P242+Q242 -> 5715.8791 | F242: =R242 -> 6050.604 | G242: =S242 -> 6795.0544 | H242: =G242/SUM(B242:G242) -> 0.19323496 | K242: 2007 | L242: 1043.3417 | M242: 866.11804 | N242: 11510.648 | O242: 3183.081 | P242: 5715.8791 | Q242: 0 | R242: 6050.604 | S242: 6795.0544 | T242: =SUM(L242:S242) -> 35164.726
A243: 2008 | B243: =L243 -> 1104.7311 | C243: =M243+N243 -> 11933.429 | D243: =O243 -> 2708.9106 | E243: =P243+Q243 -> 6241.161 | F243: =R243 -> 5920.8807 | G243: =S243 -> 7003.9449 | H243: =G243/SUM(B243:G243) -> 0.20061105 | K243: 2008 | L243: 1104.7311 | M243: 815.2843 | N243: 11118.145 | O243: 2708.9106 | P243: 6241.161 | Q243: 0 | R243: 5920.8807 | S243: 7003.9449 | T243: =SUM(L243:S243) -> 34913.057
A244: 2009 | B244: =L244 -> 685.83882 | C244: =M244+N244 -> 10427.028 | D244: =O244 -> 2140.5727 | E244: =P244+Q244 -> 6037.2705 | F244: =R244 -> 5745.8793 | G244: =S244 -> 6650.0532 | H244: =G244/SUM(B244:G244) -> 0.20986929 | K244: 2009 | L244: 685.83882 | M244: 377.22524 | N244: 10049.803 | O244: 2140.5727 | P244: 6037.2705 | Q244: 0 | R244: 5745.8793 | S244: 6650.0532 | T244: =SUM(L244:S244) -> 31686.642
A245: 2010 | B245: =L245 -> 481.9483 | C245: =M245+N245 -> 11004.81 | D245: =O245 -> 2408.3526 | E245: =P245+Q245 -> 6491.9964 | F245: =R245 -> 6181.7161 | G245: =S245 -> 6908.1108 | H245: =G245/SUM(B245:G245) -> 0.20635434 | K245: 2010 | L245: 481.9483 | M245: 512.5041 | N245: 10492.306 | O245: 2408.3526 | P245: 6491.9964 | Q245: 0 | R245: 6181.7161 | S245: 6908.1108 | T245: =SUM(L245:S245) -> 33476.934
A246: 2011 | B246: =L246 -> 585.83802 | C246: =M246+N246 -> 11410.925 | D246: =O246 -> 2366.6856 | E246: =P246+Q246 -> 5838.9356 | F246: =R246 -> 5521.7108 | G246: =S246 -> 6626.9975 | H246: =G246/SUM(B246:G246) -> 0.20484617 | K246: 2011 | L246: 585.83802 | M246: 607.22708 | N246: 10803.698 | O246: 2366.6856 | P246: 5838.9356 | Q246: 0 | R246: 5521.7108 | S246: 6626.9975 | T246: =SUM(L246:S246) -> 32351.092
...

Sheet Historical trend ass. Lat_visu
A1: The main sources are:
A2: IEA: https://www.iea.org/countries/latvia
A3: Eurostat: https://ec.europa.eu/eurostat/web/main/data/database
A4: National statistics: https://stat.gov.lv/en
B9: Figure 1 - Total Monthly Electricity Production | H9: Source: National Statistics Latvia | L9: Figure 2 - Sectoral final energy consumption - electricity | R9: Source: National Statistics Latvia and IEA Latvia
B25: Figure 3 - Total yearly Electricity Production by fuel | H25: Source: National Statistics Latvia and IEA Latvia | M25: Figure 4 - Total share of fossil and renewable electricity generation | S25: Source: National Statistics Latvia and IEA Latvia
B46: Figure 5 - Final energy consumption of electricity | I46: Source: National Statistics Latvia and IEA Latvia/Eurostat | L46: Figure 6 - Industrial final energy consumption | Q46: Source: National Statistics Latvia and IEA Latvia /Eurostat
B64: Figure 7 - Transport final energy consumption | H64: Source: National Statistics Latvia and IEA Latvia/Eurostat | M64: Figure 8 - Buildings final energy consumption | R64: Source: National Statistics Latvia and IEA Latvia/Eurostat
B81: Figure 9 - Final energy consumption | G81: Source: National Statistics Latvia and IEA Latvia | M81: Figure 10 - Per capita electricty consumption | Q81: Source: IEA Latvia
A100: Figure 1 - Total Monthly Electricity Production
A101: Total Gross electricity production, GWh | B101: 2006 January | C101: 2006 February | D101: 2006 March | E101: 2006 April | F101: 2006 May | G101: 2006 June | H101: 2006 July | I101: 2006 August | J101: 2006 September | K101: 2006 October | L101: 2006 November | M101: 2006 December | N101: 2007 January | O101: 2007 February | P101: 2007 March | Q101: 2007 April | R101: 2007 May | S101: 2007 June | T101: 2007 July | U101: 2007 August | V101: 2007 September | W101: 2007 October | X101: 2007 November | Y101: 2007 December | Z101: 2008 January | AA101: 2008 February | AB101: 2008 March | AC101: 2008 April | AD101: 2008 May | AE101: 2008 June | AF101: 2008 July | AG101: 2008 August | AH101: 2008 September | AI101: 2008 October | AJ101: 2008 November | AK101: 2008 December | AL101: 2009 January | AM101: 2009 February | AN101: 2009 March | AO101: 2009 April | AP101: 2009 May | AQ101: 2009 June | AR101: 2009 July | AS101: 2009 August | AT101: 2009 September | AU101: 2009 October | AV101: 2009 November | AW101: 2009 December | AX101: 2010 January | AY101: 2010 February | AZ101: 2010 March | BA101: 2010 April | BB101: 2010 May | BC101: 2010 June | BD101: 2010 July | BE101: 2010 August | BF101: 2010 September | BG101: 2010 October | BH101: 2010 November | BI101: 2010 December | BJ101: 2011 January | BK101: 2011 February | BL101: 2011 March | BM101: 2011 April | BN101: 2011 May | BO101: 2011 June | BP101: 2011 July | BQ101: 2011 August | BR101: 2011 September | BS101: 2011 October | BT101: 2011 November | BU101: 2011 December | BV101: 2012 January | BW101: 2012 February | BX101: 2012 March | BY101: 2012 April | BZ101: 2012 May | CA101: 2012 June | CB101: 2012 July | CC101: 2012 August | CD101: 2012 September | CE101: 2012 October | CF101: 2012 November | CG101: 2012 December | CH101: 2013 January | CI101: 2013 February | CJ101: 2013 March | CK101: 2013 April | CL101: 2013 May | CM101: 2013 June | CN101: 2013 July | CO101: 2013 August | CP101: 2013 September | CQ101: 2013 October | CR101: 2013 November | CS101: 2013 December | CT101: 2014 January | CU101: 2014 February | CV101: 2014 March | CW101: 2014 April | CX101: 2014 May | CY101: 2014 June | CZ101: 2014 July | DA101: 2014 August | DB101: 2014 September | DC101: 2014 October | DD101: 2014 November | DE101: 2014 December | DF101: 2015 January | DG101: 2015 February | DH101: 2015 March | DI101: 2015 April | DJ101: 2015 May | DK101: 2015 June | DL101: 2015 July | DM101: 2015 August | DN101: 2015 September | DO101: 2015 October | DP101: 2015 November | DQ101: 2015 December | DR101: 2016 January | DS101: 2016 February | DT101: 2016 March | DU101: 2016 April | DV101: 2016 May | DW101: 2016 June | DX101: 2016 July | DY101: 2016 August | DZ101: 2016 September | EA101: 2016 October | EB101: 2016 November | EC101: 2016 December | ED101: 2017 January | EE101: 2017 February | EF101: 2017 March | EG101: 2017 April | EH101: 2017 May | EI101: 2017 June | EJ101: 2017 July | EK101: 2017 August | EL101: 2017 September | EM101: 2017 October | EN101: 2017 November | EO101: 2017 December | EP101: 2018 January | EQ101: 2018 February | ER101: 2018 March | ES101: 2018 April | ET101: 2018 May | EU101: 2018 June | EV101: 2018 July | EW101: 2018 August | EX101: 2018 September | EY101: 2018 October | EZ101: 2018 November | FA101: 2018 December | FB101: 2019 January | FC101: 2019 February | FD101: 2019 March | FE101: 2019 April | FF101: 2019 May | FG101: 2019 June | FH101: 2019 July | FI101: 2019 August | FJ101: 2019 September | FK101: 2019 October | FL101: 2019 November | FM101: 2019 December | FN101: 2020 January | FO101: 2020 February | FP101: 2020 March | FQ101: 2020 April | FR101: 2020 May | FS101: 2020 June | FT101: 2020 July | FU101: 2020 August | FV101: 2020 September | FW101: 2020 October | FX101: 2020 November | FY101: 2020 December | FZ101: 2021 January | GA101: 2021 February | GB101: 2021 March | GC101: 2021 April | GD101: 2021 May | GE101: 2021 June | GF101: 2021 July | GG101: 2021 August | GH101: 2021 September | GI101: 2021 October | GJ101: 2021 November | GK101: 2021 December | GL101: 2022 January | GM101: 2022 February | GN101: 2022 March | GO101: 2022 April | GP101: 2022 May | GQ101: 2022 June | GR101: 2022 July | GS101: 2022 August | GT101: 2022 September | GU101: 2022 October | GV101: 2022 November | GW101: 2022 December | GX101: 2023 January | GY101: 2023 February | GZ101: 2023 March | HA101: 2023 April | HB101: 2023 May | HC101: 2023 June | HD101: 2023 July | HE101: 2023 August | HF101: 2023 September | HG101: 2023 October | HH101: 2023 November | HI101: 2023 December | HJ101: 2024 January | HK101: 2024 February | HL101: 2024 March | HM101: 2024 April | HN101: 2024 May | HO101: 2024 June | HP101: 2024 July | HQ101: 2024 August | HR101: 2024 September | HS101: 2024 October | HT101: 2024 November | HU101: 2024 December
B102: 367 | C102: 324 | D102: 341 | E102: 676 | F102: 336 | G102: 322 | H102: 139 | I102: 165 | J102: 534 | K102: 362 | L102: 569 | M102: 549 | N102: 733 | O102: 496 | P102: 737 | Q102: 477 | R102: 425 | S102: 223 | T102: 177 | U102: 159 | V102: 162 | W102: 230 | X102: 317 | Y102: 411 | Z102: 436 | AA102: 444 | AB102: 726 | AC102: 758 | AD102: 414 | AE102: 338 | AF102: 215 | AG102: 153 | AH102: 292 | AI102: 389 | AJ102: 414 | AK102: 486 | AL102: 347 | AM102: 444 | AN102: 460 | AO102: 795 | AP102: 353 | AQ102: 374 | AR102: 222 | AS102: 212 | AT102: 180 | AU102: 555 | AV102: 737 | AW102: 714 | AX102: 732 | AY102: 544 | AZ102: 693 | BA102: 988 | BB102: 582 | BC102: 400 | BD102: 236 | BE102: 329 | BF102: 328 | BG102: 407 | BH102: 584 | BI102: 603 | BJ102: 699 | BK102: 665 | BL102: 662 | BM102: 1024 | BN102: 637 | BO102: 270 | BP102: 251 | BQ102: 270 | BR102: 201 | BS102: 278 | BT102: 409 | BU102: 529 | BV102: 510 | BW102: 495 | BX102: 542 | BY102: 800 | BZ102: 617 | CA102: 352 | CB102: 352 | CC102: 273 | CD102: 221 | CE102: 427 | CF102: 579 | CG102: 645 | CH102: 629 | CI102: 479 | CJ102: 466 | CK102: 692 | CL102: 699 | CM102: 320 | CN102: 290 | CO102: 291 | CP102: 316 | CQ102: 463 | CR102: 437 | CS102: 425 | CT102: 566 | CU102: 470 | CV102: 499 | CW102: 538 | CX102: 408 | CY102: 278 | CZ102: 289 | DA102: 292 | DB102: 236 | DC102: 432 | DD102: 423 | DE102: 426 | DF102: 445 | DG102: 394 | DH102: 611 | DI102: 577 | DJ102: 398 | DK102: 283 | DL102: 309 | DM102: 427 | DN102: 344 | DO102: 487 | DP102: 576 | DQ102: 533 | DR102: 649 | DS102: 443 | DT102: 577 | DU102: 594 | DV102: 525 | DW102: 414 | DX102: 331 | DY102: 354 | DZ102: 267 | EA102: 529 | EB102: 816 | EC102: 729 | ED102: 741 | EE102: 601 | EF102: 949 | EG102: 742 | EH102: 580 | EI102: 363 | EJ102: 362 | EK102: 396 | EL102: 533 | EM102: 623 | EN102: 728 | EO102: 722 | EP102: 881 | EQ102: 717 | ER102: 727 | ES102: 820 | ET102: 432 | EU102: 303 | EV102: 377 | EW102: 450 | EX102: 381 | EY102: 390 | EZ102: 494 | FA102: 528 | FB102: 599 | FC102: 471 | FD102: 686 | FE102: 499 | FF102: 421 | FG102: 407 | FH102: 357 | FI102: 525 | FJ102: 553 | FK102: 514 | FL102: 586 | FM102: 560 | FN102: 629 | FO102: 604 | FP102: 674 | FQ102: 380 | FR102: 442 | FS102: 479 | FT102: 262 | FU102: 395 | FV102: 340 | FW102: 334 | FX102: 461 | FY102: 511 | FZ102: 606 | GA102: 590 | GB102: 704 | GC102: 655 | GD102: 531 | GE102: 354 | GF102: 307 | GG102: 162 | GH102: 322 | GI102: 279 | GJ102: 427 | GK102: 671 | GL102: 520 | GM102: 456 | GN102: 460 | GO102: 658 | GP102: 402 | GQ102: 279 | GR102: 208 | GS102: 259 | GT102: 201 | GU102: 220 | GV102: 493 | GW102: 637 | GX102: 919 | GY102: 690 | GZ102: 851 | HA102: 985 | HB102: 345 | HC102: 196 | HD102: 134 | HE102: 227 | HF102: 272 | HG102: 286 | HH102: 500 | HI102: 596 | HJ102: 832 | HK102: 771 | HL102: 948 | HM102: 786 | HN102: 495 | HO102: 239 | HP102: 291 | HQ102: 316 | HR102: 292 | HS102: 219 | HT102: 347 | HU102: 370
A104: Total 2024 | B104: =SUM(B102:HU102) -> 107636
A106: Figure 2 - Sectoral final energy consumption - electricity
B107: Industry and construction | C107: Transport | D107: Buildings | F107: Households | G107: Commercial and public sector
A108: 2000 | B108: 1433 | C108: 152 | D108: =SUM(F108,G108) -> 2735 | F108: 1189 | G108: 1546
A109: 2001 | B109: 1545 | C109: 173 | D109: =SUM(F109,G109) -> 2705 | F109: 1239 | G109: 1466
A110: 2002 | B110: 1526 | C110: 144 | D110: =SUM(F110,G110) -> 3044 | F110: 1317 | G110: 1727
A111: 2003 | B111: 1605 | C111: 136 | D111: =SUM(F111,G111) -> 3286 | F111: 1421 | G111: 1865
A112: 2004 | B112: 1634 | C112: 139 | D112: =SUM(F112,G112) -> 3455 | F112: 1467 | G112: 1988
A113: 2005 | B113: 1700 | C113: 148 | D113: =SUM(F113,G113) -> 3714 | F113: 1572 | G113: 2142
A114: 2006 | B114: 1759 | C114: 150 | D114: =SUM(F114,G114) -> 4059 | F114: 1728 | G114: 2331
A115: 2007 | B115: 1816 | C115: 140 | D115: =SUM(F115,G115) -> 4498 | F115: 1794 | G115: 2704
A116: 2008 | B116: 1685 | C116: 138 | D116: =SUM(F116,G116) -> 4666 | F116: 2031 | G116: 2635
A117: 2009 | B117: 1506 | C117: 121 | D117: =SUM(F117,G117) -> 4341 | F117: 2000 | G117: 2341
A118: 2010 | B118: 1590 | C118: 126 | D118: =SUM(F118,G118) -> 4360 | F118: 1938 | G118: 2422
A119: 2011 | B119: 1670 | C119: 124 | D119: =SUM(F119,G119) -> 4262 | F119: 1772 | G119: 2490
... A132: 2024 | B132: 1782 | C132: 122 | D132: =SUM(F132,G132) -> 4412 | F132: 1740 | G132: 2672
A134: Figure 3 - Total yearly Electricity Production by fuel (GWh)
A135: Total production GWh | B135: Total | C135: Coal | D135: wood chips and waste | E135: Oil | F135: Natural Gas | G135: Biogases | H135: Biofuels | I135: Hydro energy | J135: Wind energy | K135: Solar energy | L135: Electricity import | M135: Share of fossil | N135: Share of renewable
A136: 2000 | B136: =SUM(C136:K136) -> 4137 | C136: 78 | D136: 0 | E136: 107 | F136: 1128 | G136: 0 | H136: 0 | I136: 2819 | J136: 5 | K136: 0 | L136: 2108 | M136: 0.31737974 | N136: 0.68262026
A137: 2001 | B137: =SUM(C137:K137) -> 4283 | C137: 42 | D137: 3 | E137: 95 | F137: 1304 | G137: 0 | H137: 3 | I137: 2833 | J137: 3 | K137: 0 | L137: 2340 | M137: 0.33644642 | N137: 0.66355358
A138: 2002 | B138: =SUM(C138:K138) -> 3985 | C138: 38 | D138: 5 | E138: 139 | F138: 1313 | G138: 5 | H138: 10 | I138: 2464 | J138: 11 | K138: 0 | L138: 2838 | M138: 0.37390213 | N138: 0.62609787
A139: 2003 | B139: =SUM(C139:K139) -> 3999 | C139: 22 | D139: 6 | E139: 82 | F139: 1533 | G139: 18 | H139: 24 | I139: 2266 | J139: 48 | K139: 0 | L139: 2671 | M139: 0.40935234 | N139: 0.59064766
A140: 2004 | B140: =SUM(C140:K140) -> 4727 | C140: 0 | D140: 6 | E140: 60 | F140: 1433 | G140: 32 | H140: 38 | I140: 3109 | J140: 49 | K140: 0 | L140: 2733 | M140: 0.31584514 | N140: 0.68415486
A141: 2005 | B141: =SUM(C141:K141) -> 4947 | C141: 0 | D141: 6 | E141: 6 | F141: 1486 | G141: 36 | H141: 41 | I141: 3325 | J141: 47 | K141: 0 | L141: 2855 | M141: 0.30159693 | N141: 0.69840307
A142: 2006 | B142: =SUM(C142:K142) -> 4934 | C142: 0 | D142: 7 | E142: 5 | F142: 2100 | G142: 36 | H142: 42 | I142: 2698 | J142: 46 | K142: 0 | L142: 2810 | M142: 0.42663154 | N142: 0.57336846
A143: 2007 | B143: =SUM(C143:K143) -> 4813 | C143: 1 | D143: 5 | E143: 17 | F143: 1925 | G143: 37 | H143: 42 | I143: 2733 | J143: 53 | K143: 0 | L143: 4964 | M143: 0.40369832 | N143: 0.59630168
A144: 2008 | B144: =SUM(C144:K144) -> 5319 | C144: 2 | D144: 5 | E144: 2 | F144: 2058 | G144: 40 | H144: 44 | I144: 3109 | J144: 59 | K144: 0 | L144: 4643 | M144: 0.38766685 | N144: 0.61233315
A145: 2009 | B145: =SUM(C145:K145) -> 5617 | C145: 2 | D145: 4 | E145: 4 | F145: 2007 | G145: 44 | H145: 49 | I145: 3457 | J145: 50 | K145: 0 | L145: 4259 | M145: 0.35837636 | N145: 0.64162364
A146: 2010 | B146: =SUM(C146:K146) -> 6693 | C146: 2 | D146: 9 | E146: 2 | F146: 2988 | G146: 57 | H146: 66 | I146: 3520 | J146: 49 | K146: 0 | L146: 3973 | M146: 0.44703421 | N146: 0.55296579
A147: 2011 | B147: =SUM(C147:K147) -> 6212 | C147: 2 | D147: 13 | E147: 1 | F147: 3014 | G147: 105 | H147: 119 | I147: 2887 | J147: 71 | K147: 0 | L147: 4009 | M147: 0.48567289 | N147: 0.51432711
... A160: 2024 | B160: =SUM(C160:K160) -> 6942 | C160: 0 | D160: 457 | E160: 0 | F160: 1678 | G160: 164 | H160: 621 | I160: 3210 | J160: 276 | K160: 536 | L160: 4248 | M160: 0.24171708 | N160: 0.75828292
A162: Figure 4 - Total share of fossil and renewable electricity generation
A163: Electricity generation | B163: Fossil electricity | C163: Renewable electricty | D163: Total | E163: Share of fossil | F163: Share of renewable
A164: 2000 | B164: =C136+E136+F136 -> 1313 | C164: =D136+G136+I136+J136+K136+H136 -> 2824 | D164: =B164+C164 -> 4137 | E164: =B164/D164 -> 0.31737974 | F164: =C164/D164 -> 0.68262026
A165: 2001 | B165: =C137+E137+F137 -> 1441 | C165: =D137+G137+I137+J137+K137+H137 -> 2842 | D165: =B165+C165 -> 4283 | E165: =B165/D165 -> 0.33644642 | F165: =C165/D165 -> 0.66355358
A166: 2002 | B166: =C138+E138+F138 -> 1490 | C166: =D138+G138+I138+J138+K138+H138 -> 2495 | D166: =B166+C166 -> 3985 | E166: =B166/D166 -> 0.37390213 | F166: =C166/D166 -> 0.62609787
A167: 2003 | B167: =C139+E139+F139 -> 1637 | C167: =D139+G139+I139+J139+K139+H139 -> 2362 | D167: =B167+C167 -> 3999 | E167: =B167/D167 -> 0.40935234 | F167: =C167/D167 -> 0.59064766
A168: 2004 | B168: =C140+E140+F140 -> 1493 | C168: =D140+G140+I140+J140+K140+H140 -> 3234 | D168: =B168+C168 -> 4727 | E168: =B168/D168 -> 0.31584514 | F168: =C168/D168 -> 0.68415486
A169: 2005 | B169: =C141+E141+F141 -> 1492 | C169: =D141+G141+I141+J141+K141+H141 -> 3455 | D169: =B169+C169 -> 4947 | E169: =B169/D169 -> 0.30159693 | F169: =C169/D169 -> 0.69840307
A170: 2006 | B170: =C142+E142+F142 -> 2105 | C170: =D142+G142+I142+J142+K142+H142 -> 2829 | D170: =B170+C170 -> 4934 | E170: =B170/D170 -> 0.42663154 | F170: =C170/D170 -> 0.57336846
A171: 2007 | B171: =C143+E143+F143 -> 1943 | C171: =D143+G143+I143+J143+K143+H143 -> 2870 | D171: =B171+C171 -> 4813 | E171: =B171/D171 -> 0.40369832 | F171: =C171/D171 -> 0.59630168
A172: 2008 | B172: =C144+E144+F144 -> 2062 | C172: =D144+G144+I144+J144+K144+H144 -> 3257 | D172: =B172+C172 -> 5319 | E172: =B172/D172 -> 0.38766685 | F172: =C172/D172 -> 0.61233315
A173: 2009 | B173: =C145+E145+F145 -> 2013 | C173: =D145+G145+I145+J145+K145+H145 -> 3604 | D173: =B173+C173 -> 5617 | E173: =B173/D173 -> 0.35837636 | F173: =C173/D173 -> 0.64162364
A174: 2010 | B174: =C146+E146+F146 -> 2992 | C174: =D146+G146+I146+J146+K146+H146 -> 3701 | D174: =B174+C174 -> 6693 | E174: =B174/D174 -> 0.44703421 | F174: =C174/D174 -> 0.55296579
A175: 2011 | B175: =C147+E147+F147 -> 3017 | C175: =D147+G147+I147+J147+K147+H147 -> 3195 | D175: =B175+C175 -> 6212 | E175: =B175/D175 -> 0.48567289 | F175: =C175/D175 -> 0.51432711
... A188: 2024 | B188: =C160+E160+F160 -> 1678 | C188: =D160+G160+I160+J160+K160+H160 -> 5264 | D188: =B188+C188 -> 6942 | E188: =B188/D188 -> 0.24171708 | F188: =C188/D188 -> 0.75828292
A190: Figure 5 - Total final energy consumption - electricity
A191: Year | B191: Electricity | C191: Proportion of total final energy
A192: 2000 | B192: 4476.948 | C192: 0.11668501
A193: 2001 | B193: 4582 | C193: 0.10925755
A194: 2002 | B194: 4881 | C194: 0.11456303
A195: 2003 | B195: 5200 | C195: 0.11654311
A196: 2004 | B196: 5404 | C196: 0.11791589
A197: 2005 | B197: 5729 | C197: 0.12128554
A198: 2006 | B198: 6142 | C198: 0.12472223
A199: 2007 | B199: 6605 | C199: 0.12948876
A200: 2008 | B200: 6628 | C200: 0.13
A201: 2009 | B201: 6103 | C201: 0.13
A202: 2010 | B202: 6215 | C202: 0.13
A203: 2011 | B203: 6191 | C203: 0.13
... A216: 2024 | B216: 6513 | C216: 0.14
A218: Sectoral FEC
A220: Figure 6 - Industrial final energy consumption
A221: Industry GWh | B221: 2000 | C221: 2001 | D221: 2002 | E221: 2003 | F221: 2004 | G221: 2005 | H221: 2006 | I221: 2007 | J221: 2008 | K221: 2009 | L221: 2010 | M221: 2011 | N221: 2012 | O221: 2013 | P221: 2014 | Q221: 2015 | R221: 2016 | S221: 2017 | T221: 2018 | U221: 2019 | V221: 2020 | W221: 2021 | X221: 2022 | Y221: 2023 | Z221: 2024
A222: Total consumption | B222: 6686 | C222: 7109 | D222: 7212 | E222: 7296 | F222: 7781 | G222: 8199 | H222: 8627 | I222: 8416 | J222: 8983 | K222: 8302 | L222: 9694 | M222: 9607 | N222: 10540 | O222: 9934 | P222: 10120 | Q222: 9161.881 | R222: 8710.331 | S222: 9226.156 | T222: 10441.942 | U222: 9917.067 | V222: 10128.358 | W222: 10398.605 | X222: 10550.442 | Y222: 10715.771 | Z222: 10702.306
A223: Electricity share | B223: 0.21430946 | C223: 0.21732505 | D223: 0.21157846 | E223: 0.2199802 | F223: 0.20998893 | G223: 0.20734517 | H223: 0.20388975 | I223: 0.21574969 | J223: 0.19 | K223: 0.18 | L223: 0.16 | M223: 0.17 | N223: 0.19 | O223: 0.18 | P223: 0.16 | Q223: 0.18587886 | R223: 0.19138193 | S223: 0.19104858 | T223: 0.17640081 | U223: 0.18615322 | V223: 0.18399794 | W223: 0.18714049 | X223: 0.17518413 | Y223: 0.16338656 | Z223: 0.1664175
A225: Figure 7 - Transport final energy consumption
A226: Transport GWh | B226: 2000 | C226: 2001 | D226: 2002 | E226: 2003 | F226: 2004 | G226: 2005 | H226: 2006 | I226: 2007 | J226: 2008 | K226: 2009 | L226: 2010 | M226: 2011 | N226: 2012 | O226: 2013 | P226: 2014 | Q226: 2015 | R226: 2016 | S226: 2017 | T226: 2018 | U226: 2019 | V226: 2020 | W226: 2021 | X226: 2022 | Y226: 2023 | Z226: 2024
A227: Total consumption | B227: 8410.8401 | C227: 9915.0079 | D227: 10170.008 | E227: 10708.064 | F227: 11234.453 | G227: 11746.121 | H227: 12963.899 | I227: 14595.012 | J227: 15175 | K227: 13445 | L227: 14126 | M227: 12773 | N227: 12420 | O227: 12588 | P227: 12860 | Q227: 12067.875 | R227: 12020.325 | S227: 12569.985 | T227: 12894.473 | U227: 12779.851 | V227: 12159.168 | W227: 12526.236 | X227: 11887.103 | Y227: 11881.374 | Z227: 11237.623
A228: Electricity share | B228: 0.018065326 | C228: 0.017425898 | D228: 0.014148367 | E228: 0.012685154 | F228: 0.012362773 | G228: 0.012580996 | H228: 0.011570602 | I228: 0.0095732937 | J228: 0.009 | K228: 0.009 | L228: 0.009 | M228: 0.01 | N228: 0.01 | O228: 0.01 | P228: 0.009 | Q228: 0.0087836508 | R228: 0.0087352047 | S228: 0.0083253083 | T228: 0.0080312705 | U228: 0.0078824863 | V228: 0.0077560405 | W228: 0.0077999488 | X228: 0.0085174664 | Y228: 0.0090306054 | Z228: 0.010893763
A230: Figure 8 - Buildings final energy consumption
A231: Buildings GWh | B231: 2000 | C231: 2001 | D231: 2002 | E231: 2003 | F231: 2004 | G231: 2005 | H231: 2006 | I231: 2007 | J231: 2008 | K231: 2009 | L231: 2010 | M231: 2011 | N231: 2012 | O231: 2013 | P231: 2014 | Q231: 2015 | R231: 2016 | S231: 2017 | T231: 2018 | U231: 2019 | V231: 2020 | W231: 2021 | X231: 2022 | Y231: 2023 | Z231: 2024
A232: Total consumption | B232: 20927.795 | C232: 22613.074 | D232: 22865.018 | E232: 24004.186 | F232: 24070.019 | G232: 24413.631 | H232: 24618.353 | I232: 24904.742 | J232: 23987 | K232: 24523 | L232: 23144 | M232: 21942 | N232: 23259 | O232: 21759 | P232: 21500 | Q232: 19702 | R232: 20243 | S232: 20994 | T232: 21199 | U232: 20428 | V232: 19383 | W232: 20939 | X232: 19589 | Y232: 18750 | Z232: 19027
A233: Electricity share | B233: 0.13 | C233: 0.12 | D233: 0.13 | E233: 0.14 | F233: 0.14 | G233: 0.15 | H233: 0.16 | I233: 0.18 | J233: 0.19 | K233: 0.18 | L233: 0.19 | M233: 0.19 | N233: 0.2 | O233: 0.21 | P233: 0.22 | Q233: 0.23 | R233: 0.22 | S233: 0.21 | T233: 0.21 | U233: 0.22 | V233: 0.22 | W233: 0.21 | X233: 0.22 | Y233: 0.23 | Z233: 0.23
A235: Figure 9 - Final energy consumption GWh
A236: Year | B236: Coal | C236: Oil | D236: Gas | E236: Other renewables | F236: Heat | G236: Electricity | H236: Proportion of electricity | K236: Year | L236: Coal | M236: Oil Shale | N236: Oil | O236: Gas | P236: Renewables | Q236: Waste | R236: Heat | S236: Electricity | T236: Total | U236: Proportion of electricity
A237: 2000 | B237: =L237 -> 716 | C237: =M237+N237 -> 12809.455 | D237: =O237 -> 3823.3364 | E237: =P237+Q237 -> 9583.0632 | F237: =R237 -> 6958.6167 | G237: =S237 -> 4477 | H237: 0.11668739 | K237: 2000 | L237: 716 | M237: 0 | N237: 12809.455 | O237: 3823.3364 | P237: 9583.0632 | Q237: 0 | R237: 6958.6167 | S237: 4477 | T237: =SUM(L237:S237) -> 38367.471 | U237: =S237/T237 -> 0.11668739
A238: 2001 | B238: =L238 -> 946 | C238: =M238+N238 -> 13770.289 | D238: =O238 -> 4532.2258 | E238: =P238+Q238 -> 10641.12 | F238: =R238 -> 7471.9504 | G238: =S238 -> 4582 | H238: 0.10924197 | K238: 2001 | L238: 946 | M238: 0 | N238: 13770.289 | O238: 4532.2258 | P238: 10641.12 | Q238: 0 | R238: 7471.9504 | S238: 4582 | T238: =SUM(L238:S238) -> 41943.585 | U238: =S238/T238 -> 0.10924197
A239: 2002 | B239: =L239 -> 778 | C239: =M239+N239 -> 14026.4 | D239: =O239 -> 5199.4486 | E239: =P239+Q239 -> 10365.286 | F239: =R239 -> 7362.7837 | G239: =S239 -> 4881 | H239: 0.11454273 | K239: 2002 | L239: 778 | M239: 0 | N239: 14026.4 | O239: 5199.4486 | P239: 10365.286 | Q239: 0 | R239: 7362.7837 | S239: 4881 | T239: =SUM(L239:S239) -> 42612.918 | U239: =S239/T239 -> 0.11454273 | W239: Coal: Bituminous coal, coke, peat
A240: 2003 | B240: =L240 -> 693 | C240: =M240+N240 -> 14939.456 | D240: =O240 -> 5306.9487 | E240: =P240+Q240 -> 10956.12 | F240: =R240 -> 7529.7282 | G240: =S240 -> 5200 | H240: 0.11652595 | K240: 2003 | L240: 693 | M240: 0 | N240: 14939.456 | O240: 5306.9487 | P240: 10956.12 | Q240: 0 | R240: 7529.7282 | S240: 5200 | T240: =SUM(L240:S240) -> 44625.253 | U240: =S240/T240 -> 0.11652595 | W240: oil shale and oil sands
A241: 2004 | B241: =L241 -> 681 | C241: =M241+N241 -> 15489.457 | D241: =O241 -> 5721.1157 | E241: =P241+Q241 -> 11610.843 | F241: =R241 -> 6921.95 | G241: =S241 -> 5404 | H241: 0.11791824 | K241: 2004 | L241: 681 | M241: 0 | N241: 15489.457 | O241: 5721.1157 | P241: 11610.843 | Q241: 0 | R241: 6921.95 | S241: 5404 | T241: =SUM(L241:S241) -> 45828.365 | U241: =S241/T241 -> 0.11791824 | W241: Oil: LPG, gasoline, jet fuel, diesel, fuel oil
A242: 2005 | B242: =L242 -> 853 | C242: =M242+N242 -> 15890.846 | D242: =O242 -> 5906.9492 | E242: =P242+Q242 -> 11838.898 | F242: =R242 -> 7016.1167 | G242: =S242 -> 5729 | H242: 0.12128767 | K242: 2005 | L242: 853 | M242: 0 | N242: 15890.846 | O242: 5906.9492 | P242: 11838.898 | Q242: 0 | R242: 7016.1167 | S242: 5729 | T242: =SUM(L242:S242) -> 47234.81 | U242: =S242/T242 -> 0.12128767 | W242: Gas: Natural gas
A243: 2006 | B243: =L243 -> 933 | C243: =M243+N243 -> 17525.014 | D243: =O243 -> 5971.6714 | E243: =P243+Q243 -> 11845.287 | F243: =R243 -> 6833.8944 | G243: =S243 -> 6142 | H243: 0.12470846 | K243: 2006 | L243: 933 | M243: 0 | N243: 17525.014 | O243: 5971.6714 | P243: 11845.287 | Q243: 0 | R243: 6833.8944 | S243: 6142 | T243: =SUM(L243:S243) -> 49250.867 | U243: =S243/T243 -> 0.12470846 | W243: Renewables: Biofuels, biogases, renewable waste
A244: 2007 | B244: =L244 -> 1089 | C244: =M244+N244 -> 19024.737 | D244: =O244 -> 6082.5049 | E244: =P244+Q244 -> 11609.454 | F244: =R244 -> 6603.6164 | G244: =S244 -> 6605 | H244: 0.12947347 | K244: 2007 | L244: 1089 | M244: 0 | N244: 19024.737 | O244: 6082.5049 | P244: 11609.454 | Q244: 0 | R244: 6603.6164 | S244: 6605 | T244: =SUM(L244:S244) -> 51014.312 | U244: =S244/T244 -> 0.12947347 | W244: Waste: Non-renewable waste
A245: 2008 | B245: =L245 -> 1067 | C245: =M245+N245 -> 19011.96 | D245: =O245 -> 5828.8936 | E245: =P245+Q245 -> 10945.009 | F245: =R245 -> 6220.005 | G245: =S245 -> 6628 | H245: 0.1333404 | K245: 2008 | L245: 1067 | M245: 21.944462 | N245: 18990.015 | O245: 5828.8936 | P245: 10886.675 | Q245: 58.33338 | R245: 6220.005 | S245: 6628 | T245: =SUM(L245:S245) -> 49700.867 | U245: =S245/T245 -> 0.13335783 | W245: Heat and Electricity as separate categories
A246: 2009 | B246: =L246 -> 828 | C246: =M246+N246 -> 16986.402 | D246: =O246 -> 5026.1151 | E246: =P246+Q246 -> 12779.455 | F246: =R246 -> 6169.1716 | G246: =S246 -> 6103 | H246: 0.12741395 | K246: 2009 | L246: 828 | M246: 10.833342 | N246: 16975.569 | O246: 5026.1151 | P246: 12755.01 | Q246: 24.444464 | R246: 6169.1716 | S246: 6103 | T246: =SUM(L246:S246) -> 47892.144 | U246: =S246/T246 -> 0.12743217
A247: 2010 | B247: =L247 -> 1095 | C247: =M247+N247 -> 17676.125 | D247: =O247 -> 5798.6158 | E247: =P247+Q247 -> 11321.676 | F247: =R247 -> 6686.672 | G247: =S247 -> 6215 | H247: 0.12735671 | K247: 2010 | L247: 1095 | M247: 10.833342 | N247: 17665.292 | O247: 5798.6158 | P247: 10993.62 | Q247: 328.05582 | R247: 6686.672 | S247: 6215 | T247: =SUM(L247:S247) -> 48793.089 | U247: =S247/T247 -> 0.1273746
A248: 2011 | B248: =L248 -> 1139 | C248: =M248+N248 -> 16305.846 | D248: =O248 -> 4622.5037 | E248: =P248+Q248 -> 12088.621 | F248: =R248 -> 5804.4491 | G248: =S248 -> 6191 | H248: 0.13412662 | K248: 2011 | L248: 1139 | M248: 21.944462 | N248: 16283.902 | O248: 4622.5037 | P248: 11466.676 | Q248: 621.94494 | R248: 5804.4491 | S248: 6191 | T248: =SUM(L248:S248) -> 46151.42 | U248: =S248/T248 -> 0.13414539
...

Sheet Historical trend ass. Lit_visua
A1: The main sources are:
A2: IEA: https://www.iea.org/countries/lithuania
A3: Eurostat: https://ec.europa.eu/eurostat/web/main/data/database
A4: National statistics: https://osp.stat.gov.lt/en_GB/
B8: Figure 1 - Total Monthly Electricity Production | G8: Source: National Statistics Lithuania | K8: Figure 2 - Sectoral final energy consumption - electricity | Q8: Source: National Statistics Lithuania
B24: Figure 3 - Total yearly Electricity Production by fuel | G24: Source: IEA Lithuania | L24: Figure 4 - Total share of fossil and renewable electricity generation | R24: Source: IEA Lithuania
B45: Figure 5 - Final energy consumption of electricity | H45: Source: National Statistics Lithuania/Eurostat | K45: Figure 6 - Industrial final energy consumption | P45: Source: National Statistics Lithuania/Eurostat
B63: Figure 7 - Transport final energy consumption | G63: Source: National Statistics Lithuania/Eurostat | L63: Figure 8 - Buildings final energy consumption | Q63: Source:National Statistics Lithuania/Eurostat
B80: Figure 9 - Final energy consumption | F80: Source: National Statistics Lithuania | L80: Figure 10 - Per capita electricty consumption | Q80: Source: IEA Lithuania
A99: Figure 1 - Total Monthly Electricity Production
A100: Total electricity production, GWh | B100: 2013 January | C100: 2013 February | D100: 2013 March | E100: 2013 April | F100: 2013 May | G100: 2013 June | H100: 2013 July | I100: 2013 August | J100: 2013 September | K100: 2013 October | L100: 2013 November | M100: 2013 December | N100: 2014 January | O100: 2014 February | P100: 2014 March | Q100: 2014 April | R100: 2014 May | S100: 2014 June | T100: 2014 July | U100: 2014 August | V100: 2014 September | W100: 2014 October | X100: 2014 November | Y100: 2014 December | Z100: 2015 January | AA100: 2015 February | AB100: 2015 March | AC100: 2015 April | AD100: 2015 May | AE100: 2015 June | AF100: 2015 July | AG100: 2015 August | AH100: 2015 September | AI100: 2015 October | AJ100: 2015 November | AK100: 2015 December | AL100: 2016 January | AM100: 2016 February | AN100: 2016 March | AO100: 2016 April | AP100: 2016 May | AQ100: 2016 June | AR100: 2016 July | AS100: 2016 August | AT100: 2016 September | AU100: 2016 October | AV100: 2016 November | AW100: 2016 December | AX100: 2017 January | AY100: 2017 February | AZ100: 2017 March | BA100: 2017 April | BB100: 2017 May | BC100: 2017 June | BD100: 2017 July | BE100: 2017 August | BF100: 2017 September | BG100: 2017 October | BH100: 2017 November | BI100: 2017 December | BJ100: 2018 January | BK100: 2018 February | BL100: 2018 March | BM100: 2018 April | BN100: 2018 May | BO100: 2018 June | BP100: 2018 July | BQ100: 2018 August | BR100: 2018 September | BS100: 2018 October | BT100: 2018 November | BU100: 2018 December | BV100: 2019 January | BW100: 2019 February | BX100: 2019 March | BY100: 2019 April | BZ100: 2019 May | CA100: 2019 June | CB100: 2019 July | CC100: 2019 August | CD100: 2019 September | CE100: 2019 October | CF100: 2019 November | CG100: 2019 December | CH100: 2020 January | CI100: 2020 February | CJ100: 2020 March | CK100: 2020 April | CL100: 2020 May | CM100: 2020 June | CN100: 2020 July | CO100: 2020 August | CP100: 2020 September | CQ100: 2020 October | CR100: 2020 November | CS100: 2020 December | CT100: 2021 January | CU100: 2021 February | CV100: 2021 March | CW100: 2021 April | CX100: 2021 May | CY100: 2021 June | CZ100: 2021 July | DA100: 2021 August | DB100: 2021 September | DC100: 2021 October | DD100: 2021 November | DE100: 2021 December | DF100: 2022 January | DG100: 2022 February | DH100: 2022 March | DI100: 2022 April | DJ100: 2022 May | DK100: 2022 June | DL100: 2022 July | DM100: 2022 August | DN100: 2022 September | DO100: 2022 October | DP100: 2022 November | DQ100: 2022 December | DR100: 2023 January | DS100: 2023 February | DT100: 2023 March | DU100: 2023 April | DV100: 2023 May | DW100: 2023 June | DX100: 2023 July | DY100: 2023 August | DZ100: 2023 September | EA100: 2023 October | EB100: 2023 November | EC100: 2023 December | ED100: 2024 January | EE100: 2024 February | EF100: 2024 March | EG100: 2024 April | EH100: 2024 May | EI100: 2024 June | EJ100: 2024 July | EK100: 2024 August | EL100: 2024 September | EM100: 2024 October | EN100: 2024 November | EO100: 2024 December
B101: 480 | C101: 389 | D101: 465 | E101: 389 | F101: 233 | G101: 244 | H101: 323 | I101: 423 | J101: 461 | K101: 416 | L101: 298 | M101: 442 | N101: 438 | O101: 350 | P101: 351 | Q101: 227 | R101: 228 | S101: 308 | T101: 389 | U101: 373 | V101: 384 | W101: 336 | X101: 319 | Y101: 405 | Z101: 415 | AA101: 352 | AB101: 383 | AC101: 365 | AD101: 408 | AE101: 410 | AF101: 418 | AG101: 375 | AH101: 405 | AI101: 388 | AJ101: 380 | AK101: 484 | AL101: 403 | AM101: 377 | AN101: 304 | AO101: 292 | AP101: 270 | AQ101: 331 | AR101: 250 | AS101: 270 | AT101: 312 | AU101: 339 | AV101: 470 | AW101: 454 | AX101: 340 | AY101: 340 | AZ101: 344 | BA101: 324 | BB101: 316 | BC101: 321 | BD101: 264 | BE101: 292 | BF101: 315 | BG101: 396 | BH101: 371 | BI101: 385 | BJ101: 373 | BK101: 266 | BL101: 319 | BM101: 330 | BN101: 263 | BO101: 207 | BP101: 193 | BQ101: 227 | BR101: 299 | BS101: 352 | BT101: 224 | BU101: 249 | BV101: 331 | BW101: 342 | BX101: 378 | BY101: 300 | BZ101: 272 | CA101: 290 | CB101: 302 | CC101: 272 | CD101: 340 | CE101: 336 | CF101: 299 | CG101: 369 | CH101: 406 | CI101: 443 | CJ101: 383 | CK101: 356 | CL101: 386 | CM101: 433 | CN101: 475 | CO101: 465 | CP101: 493 | CQ101: 412 | CR101: 446 | CS101: 509 | CT101: 385 | CU101: 372 | CV101: 383 | CW101: 401 | CX101: 352 | CY101: 343 | CZ101: 314 | DA101: 306 | DB101: 436 | DC101: 408 | DD101: 374 | DE101: 415 | DF101: 448 | DG101: 402 | DH101: 369 | DI101: 333 | DJ101: 283 | DK101: 238 | DL101: 287 | DM101: 317 | DN101: 240 | DO101: 320 | DP101: 310 | DQ101: 365 | DR101: 447 | DS101: 369 | DT101: 451 | DU101: 349 | DV101: 281 | DW101: 262 | DX101: 312 | DY101: 352 | DZ101: 376 | EA101: 604 | EB101: 416 | EC101: 575 | ED101: 740 | EE101: 627 | EF101: 572 | EG101: 546 | EH101: 437 | EI101: 380 | EJ101: 426 | EK101: 433 | EL101: 474 | EM101: 555 | EN101: 664 | EO101: 799
A103: Total 2024 | B103: =SUM(B101:EO101) -> 53722
A105: Figure 2 - Sectoral final energy consumption - electricity (GWh)
B106: Industry | C106: Transport | D106: Buildings | F106: Residential | G106: Commercial and public services
A107: 2000 | B107: 2188 | C107: 76 | D107: =SUM(F107:G107) -> 3640 | F107: 1768 | G107: 1872
A108: 2001 | B108: 2250 | C108: 91 | D108: =SUM(F108:G108) -> 3814 | F108: 1818 | G108: 1996
A109: 2002 | B109: 2448 | C109: 83 | D109: =SUM(F109:G109) -> 3908 | F109: 1812 | G109: 2096
A110: 2003 | B110: 2528 | C110: 91 | D110: =SUM(F110:G110) -> 4294 | F110: 1918 | G110: 2376
A111: 2004 | B111: 2635 | C111: 92 | D111: =SUM(F111:G111) -> 4634 | F111: 2091 | G111: 2543
A112: 2005 | B112: 2716 | C112: 104 | D112: =SUM(F112:G112) -> 4848 | F112: 2163 | G112: 2685
A113: 2006 | B113: 2811 | C113: 91 | D113: =SUM(F113:G113) -> 5210 | F113: 2375 | G113: 2835
A114: 2007 | B114: 2951 | C114: 70 | D114: =SUM(F114:G114) -> 5502 | F114: 2490 | G114: 3012
A115: 2008 | B115: 2666 | C115: 83 | D115: =SUM(F115:G115) -> 5970 | F115: 2730 | G115: 3240
A116: 2009 | B116: 2327 | C116: 77 | D116: =SUM(F116:G116) -> 5681 | F116: 2726 | G116: 2955
A117: 2010 | B117: 2548 | C117: 76 | D117: =SUM(F117:G117) -> 5431 | F117: 2591 | G117: 2840
A118: 2011 | B118: 2666 | C118: 74 | D118: =SUM(F118:G118) -> 5573 | F118: 2619 | G118: 2954
... A131: 2024 | B131: 3409 | C131: 119 | D131: =SUM(F131:G131) -> 6951 | F131: 3259 | G131: 3692
A133: Figure 3 - Total yearly Gross Electricity Production by fuel (GWh)
A134: Total production GWh | B134: Total | C134: Coal | D134: Biofuels | E134: Oil | F134: Natural Gas | G134: Waste | H134: Other sources | I134: Hydropower | J134: Wind energy | K134: Nuclear | L134: Solar energy | M134: Electricity import | N134: Share of fossil | O134: Share of renewable and low-carbon
A135: 2000 | B135: =SUM(C135:L135) -> 11425 | C135: 0 | D135: 0 | E135: 655 | F135: 1616 | G135: 0 | H135: 91 | I135: 644 | J135: 0 | K135: 8419 | L135: 0 | M135: 5150 | N135: 0.20673961 | O135: 0.79326039
A136: 2001 | B136: =SUM(C136:L136) -> 14737 | C136: 0 | D136: 2 | E136: 720 | F136: 1884 | G136: 0 | H136: 68 | I136: 701 | J136: 0 | K136: 11362 | L136: 0 | M136: 4442 | N136: 0.18131234 | O136: 0.81868766
A137: 2002 | B137: =SUM(C137:L137) -> 17720.9 | C137: 0 | D137: 3.9 | E137: 547 | F137: 2109 | G137: 0 | H137: 138 | I137: 781 | J137: 0 | K137: 14142 | L137: 0 | M137: 4532 | N137: 0.15766694 | O137: 0.84233306
A138: 2003 | B138: =SUM(C138:L138) -> 19487.6 | C138: 0 | D138: 6.6 | E138: 327 | F138: 2518 | G138: 0 | H138: 167 | I138: 985 | J138: 0 | K138: 15484 | L138: 0 | M138: 4144 | N138: 0.15455982 | O138: 0.84544018
A139: 2004 | B139: =SUM(C139:L139) -> 19272.5 | C139: 0 | D139: 4.3 | E139: 361 | F139: 2691 | G139: 0 | H139: 170 | I139: 943 | J139: 1.2 | K139: 15102 | L139: 0 | M139: 4293 | N139: 0.16718122 | O139: 0.83281878
A140: 2005 | B140: =SUM(C140:L140) -> 14779.4 | C140: 0 | D140: 2.6 | E140: 401 | F140: 3017 | G140: 0 | H140: 200 | I140: 820 | J140: 1.8 | K140: 10337 | L140: 0 | M140: 5641 | N140: 0.24480019 | O140: 0.75519981
A141: 2006 | B141: =SUM(C141:L141) -> 12477 | C141: 1 | D141: 19.3 | E141: 329 | F141: 2464 | G141: 0 | H141: 197 | I141: 802 | J141: 13.7 | K141: 8651 | L141: 0 | M141: 5812 | N141: 0.23972109 | O141: 0.76027891
A142: 2007 | B142: =SUM(C142:L142) -> 14001.5 | C142: 12 | D142: 48.4 | E142: 408 | F142: 2405 | G142: 0 | H142: 231 | I142: 958 | J142: 106.1 | K142: 9833 | L142: 0 | M142: 5846 | N142: 0.21826233 | O142: 0.78173767
A143: 2008 | B143: =SUM(C143:L143) -> 13903.7 | C143: 1 | D143: 59.6 | E143: 566 | F143: 2026 | G143: 0 | H143: 238 | I143: 988 | J143: 131.1 | K143: 9894 | L143: 0 | M143: 5649 | N143: 0.20361487 | O143: 0.79638513
A144: 2009 | B144: =SUM(C144:L144) -> 15343 | C144: 0 | D144: 87.3 | E144: 735 | F144: 2101 | G144: 0 | H144: 271 | I144: 1139 | J144: 157.7 | K144: 10852 | L144: 0 | M144: 4783 | N144: 0.20250277 | O144: 0.79749723
A145: 2010 | B145: =SUM(C145:L145) -> 5718 | C145: 0 | D145: 116 | E145: 647 | F145: 3186 | G145: 0 | H145: 250 | I145: 1295 | J145: 224 | K145: 0 | L145: 0 | M145: 8174 | N145: 0.71406086 | O145: 0.28593914
A146: 2011 | B146: =SUM(C146:L146) -> 4786.4 | C146: 0 | D146: 121.4 | E146: 209 | F146: 2668 | G146: 0 | H146: 257 | I146: 1056 | J146: 475 | K146: 0 | L146: 0 | M146: 8086 | N146: 0.65477185 | O146: 0.34522815
... A159: 2024 | B159: =SUM(C159:L159) -> 7996.8 | C159: 0 | D159: 534.8 | E159: 180 | F159: 921 | G159: 415 | H159: 91 | I159: 1010 | J159: 3448 | K159: 0 | L159: 1397 | M159: 9702 | N159: 0.19104116 | O159: 0.80895884
A161: Figure 4 - Total share of fossil and renewable electricity generation
A162: Electricity generation | B162: Fossil electricity | C162: Renewable/ low-carbonity | D162: Total | E162: Share of fossil | F162: Share of renewable/low carbon
A163: 2000 | B163: =C135+E135+F135+ G135+H135 -> 2362 | C163: =D135+I135+J135+L135+G135+K135 -> 9063 | D163: =SUM(B163:C163) -> 11425 | E163: =B163/D163 -> 0.20673961 | F163: =C163/D163 -> 0.79326039
A164: 2001 | B164: =C136+E136+F136+ G136+H136 -> 2672 | C164: =D136+I136+J136+L136+G136+K136 -> 12065 | D164: =SUM(B164:C164) -> 14737 | E164: =B164/D164 -> 0.18131234 | F164: =C164/D164 -> 0.81868766
A165: 2002 | B165: =C137+E137+F137+ G137+H137 -> 2794 | C165: =D137+I137+J137+L137+G137+K137 -> 14926.9 | D165: =SUM(B165:C165) -> 17720.9 | E165: =B165/D165 -> 0.15766694 | F165: =C165/D165 -> 0.84233306
A166: 2003 | B166: =C138+E138+F138+ G138+H138 -> 3012 | C166: =D138+I138+J138+L138+G138+K138 -> 16475.6 | D166: =SUM(B166:C166) -> 19487.6 | E166: =B166/D166 -> 0.15455982 | F166: =C166/D166 -> 0.84544018
A167: 2004 | B167: =C139+E139+F139+ G139+H139 -> 3222 | C167: =D139+I139+J139+L139+G139+K139 -> 16050.5 | D167: =SUM(B167:C167) -> 19272.5 | E167: =B167/D167 -> 0.16718122 | F167: =C167/D167 -> 0.83281878
A168: 2005 | B168: =C140+E140+F140+ G140+H140 -> 3618 | C168: =D140+I140+J140+L140+G140+K140 -> 11161.4 | D168: =SUM(B168:C168) -> 14779.4 | E168: =B168/D168 -> 0.24480019 | F168: =C168/D168 -> 0.75519981
A169: 2006 | B169: =C141+E141+F141+ G141+H141 -> 2991 | C169: =D141+I141+J141+L141+G141+K141 -> 9486 | D169: =SUM(B169:C169) -> 12477 | E169: =B169/D169 -> 0.23972109 | F169: =C169/D169 -> 0.76027891
A170: 2007 | B170: =C142+E142+F142+ G142+H142 -> 3056 | C170: =D142+I142+J142+L142+G142+K142 -> 10945.5 | D170: =SUM(B170:C170) -> 14001.5 | E170: =B170/D170 -> 0.21826233 | F170: =C170/D170 -> 0.78173767
A171: 2008 | B171: =C143+E143+F143+ G143+H143 -> 2831 | C171: =D143+I143+J143+L143+G143+K143 -> 11072.7 | D171: =SUM(B171:C171) -> 13903.7 | E171: =B171/D171 -> 0.20361487 | F171: =C171/D171 -> 0.79638513
A172: 2009 | B172: =C144+E144+F144+ G144+H144 -> 3107 | C172: =D144+I144+J144+L144+G144+K144 -> 12236 | D172: =SUM(B172:C172) -> 15343 | E172: =B172/D172 -> 0.20250277 | F172: =C172/D172 -> 0.79749723
A173: 2010 | B173: =C145+E145+F145+ G145+H145 -> 4083 | C173: =D145+I145+J145+L145+G145+K145 -> 1635 | D173: =SUM(B173:C173) -> 5718 | E173: =B173/D173 -> 0.71406086 | F173: =C173/D173 -> 0.28593914
A174: 2011 | B174: =C146+E146+F146+ G146+H146 -> 3134 | C174: =D146+I146+J146+L146+G146+K146 -> 1652.4 | D174: =SUM(B174:C174) -> 4786.4 | E174: =B174/D174 -> 0.65477185 | F174: =C174/D174 -> 0.34522815
... A187: 2024 | B187: =C159+E159+F159+ G159+H159 -> 1607 | C187: =D159+I159+J159+L159+G159+K159 -> 6804.8 | D187: =SUM(B187:C187) -> 8411.8 | E187: =B187/D187 -> 0.19104116 | F187: =C187/D187 -> 0.80895884
A189: Figure 5 Total final energy consumption - electricity
A190: Year | B190: Electricity | C190: Proportion of total final energy
A191: 2000 | B191: 6198 | C191: 0.14
A192: 2001 | B192: 6448 | C192: 0.14
A193: 2002 | B193: 6723 | C193: 0.14
A194: 2003 | B194: 7180 | C194: 0.15
A195: 2004 | B195: 7651 | C195: 0.15
A196: 2005 | B196: 7978 | C196: 0.15
A197: 2006 | B197: 8433 | C197: 0.15
A198: 2007 | B198: 8860 | C198: 0.15
A199: 2008 | B199: 9045 | C199: 0.15
A200: 2009 | B200: 8372 | C200: 0.16
A201: 2010 | B201: 8333 | C201: 0.15
A202: 2011 | B202: 8581 | C202: 0.15
... A215: 2024 | B215: 10818 | C215: 0.16
A217: Sectoral FEC
A219: Figure 6 - Industrial final energy consumption
A220: Industry GWh | B220: 2000 | C220: 2001 | D220: 2002 | E220: 2003 | F220: 2004 | G220: 2005 | H220: 2006 | I220: 2007 | J220: 2008 | K220: 2009 | L220: 2010 | M220: 2011 | N220: 2012 | O220: 2013 | P220: 2014 | Q220: 2015 | R220: 2016 | S220: 2017 | T220: 2018 | U220: 2019 | V220: 2020 | W220: 2021 | X220: 2022 | Y220: 2023 | Z220: 2024
A221: Total consumption | B221: 8619 | C221: 8565 | D221: 9494 | E221: 9999 | F221: 10276 | G221: 11689 | H221: 12044 | I221: 12336 | J221: 11058 | K221: 9711 | L221: 10572 | M221: 11323 | N221: 11987 | O221: 11595 | P221: 11614 | Q221: 11429.444 | R221: 11501.71 | S221: 12454.879 | T221: 12869.613 | U221: 12953.06 | V221: 11913.073 | W221: 12899.578 | X221: 11093.535 | Y221: 10451.529 | Z221: 11394.948
A222: Electricity share | B222: 0.25 | C222: 0.26 | D222: 0.26 | E222: 0.25 | F222: 0.26 | G222: 0.23 | H222: 0.23 | I222: 0.24 | J222: 0.24 | K222: 0.24 | L222: 0.24 | M222: 0.24 | N222: 0.23 | O222: 0.25 | P222: 0.26 | Q222: 0.29 | R222: 0.3 | S222: 0.29 | T222: 0.29 | U222: 0.29 | V222: 0.31 | W222: 0.3 | X222: 0.32 | Y222: 0.32 | Z222: 0.31
A224: Figure 7 - Transport final energy consumption
A225: Transport GWh | B225: 2000 | C225: 2001 | D225: 2002 | E225: 2003 | F225: 2004 | G225: 2005 | H225: 2006 | I225: 2007 | J225: 2008 | K225: 2009 | L225: 2010 | M225: 2011 | N225: 2012 | O225: 2013 | P225: 2014 | Q225: 2015 | R225: 2016 | S225: 2017 | T225: 2018 | U225: 2019 | V225: 2020 | W225: 2021 | X225: 2022 | Y225: 2023 | Z225: 2024
A226: Total consumption | B226: 12284 | C226: 13463 | D226: 13897 | E226: 14191 | F226: 15583 | G226: 16723 | H226: 18029 | I226: 21435 | J226: 21491 | K226: 17515 | L226: 18040 | M226: 17958 | N226: 18311 | O226: 18361 | P226: 20356 | Q226: 20354.661 | R226: 21684.281 | S226: 22795.089 | T226: 24207.78 | U226: 25012.304 | V226: 24730.687 | W226: 24946.022 | X226: 24464.806 | Y226: 24935.888 | Z226: 24244.817
A227: Electricity share | B227: 0.006 | C227: 0.007 | D227: 0.006 | E227: 0.006 | F227: 0.006 | G227: 0.006 | H227: 0.005 | I227: 0.003 | J227: 0.004 | K227: 0.004 | L227: 0.004 | M227: 0.004 | N227: 0.004 | O227: 0.004 | P227: 0.003 | Q227: 0.003 | R227: 0.003 | S227: 0.003 | T227: 0.003 | U227: 0.003 | V227: 0.003 | W227: 0.003 | X227: 0.004 | Y227: 0.004 | Z227: 0.005
A229: Figure 8 - Buildings final energy consumption
A230: Buildings GWh | B230: 2000 | C230: 2001 | D230: 2002 | E230: 2003 | F230: 2004 | G230: 2005 | H230: 2006 | I230: 2007 | J230: 2008 | K230: 2009 | L230: 2010 | M230: 2011 | N230: 2012 | O230: 2013 | P230: 2014 | Q230: 2015 | R230: 2016 | S230: 2017 | T230: 2018 | U230: 2019 | V230: 2020 | W230: 2021 | X230: 2022 | Y230: 2023 | Z230: 2024
A231: Total consumption | B231: 21284 | C231: 21954 | D231: 22423 | E231: 23074 | F231: 23524 | G231: 24075 | H231: 25309 | I231: 24811 | J231: 25068 | K231: 25129 | L231: 25530 | M231: 24618 | N231: 24968 | O231: 23980 | P231: 23118 | Q231: 22505 | R231: 23668 | S231: 24307 | T231: 25162 | U231: 24129 | V231: 23374 | W231: 26483 | X231: 25259 | Y231: 24837 | Z231: 26278
A232: Electricity share | B232: 0.17 | C232: 0.17 | D232: 0.17 | E232: 0.19 | F232: 0.2 | G232: 0.2 | H232: 0.21 | I232: 0.22 | J232: 0.24 | K232: 0.23 | L232: 0.21 | M232: 0.23 | N232: 0.23 | O232: 0.24 | P232: 0.25 | Q232: 0.26 | R232: 0.26 | S232: 0.25 | T232: 0.26 | U232: 0.27 | V232: 0.27 | W232: 0.26 | X232: 0.27 | Y232: 0.26 | Z232: 0.26
A234: Figure 9 - Final energy consumption GWh
A235: Year | B235: Coal | C235: Oil | D235: Gas | E235: Other renewables | F235: Heat | G235: Electricity | H235: Proportion of electricity | K235: Year | L235: Coal | M235: Oil Shale | N235: Oil | O235: Gas | P235: Renewables | Q235: Waste | R235: Heat | S235: Electricity | T235: Total | U235: Proportion of electricity
A236: 2000 | B236: =L236 -> 931.563 | C236: =M236+N236 -> 31563.82 | D236: =O236 -> 4222.853 | E236: =P236+Q236 -> 7044.291 | F236: =R236 -> 9624.988 | G236: =S236 -> 6197.627 | H236: 0.10401296 | K236: 2000 | L236: 931.563 | M236: 0 | N236: 31563.82 | O236: 4222.853 | P236: 7044.291 | Q236: 0 | R236: 9624.988 | S236: 6197.627 | T236: =SUM(L236:S236) -> 59585.142 | U236: =S236/T236 -> 0.10401296
A237: 2001 | B237: =L237 -> 809.448 | C237: =M237+N237 -> 32950.116 | D237: =O237 -> 4590.361 | E237: =P237+Q237 -> 7368.768 | F237: =R237 -> 9895.967 | G237: =S237 -> 6447.672 | H237: 0.10389026 | K237: 2001 | L237: 809.448 | M237: 0 | N237: 32950.116 | O237: 4590.361 | P237: 7368.768 | Q237: 0 | R237: 9895.967 | S237: 6447.672 | T237: =SUM(L237:S237) -> 62062.332 | U237: =S237/T237 -> 0.10389026 | W237: Coal: Bituminous coal, coke, peat
A238: 2002 | B238: =L238 -> 1425.838 | C238: =M238+N238 -> 32708.212 | D238: =O238 -> 4978.803 | E238: =P238+Q238 -> 7665.333 | F238: =R238 -> 10350.7 | G238: =S238 -> 6723.303 | H238: 0.10529479 | K238: 2002 | L238: 1425.838 | M238: 0 | N238: 32708.212 | O238: 4978.803 | P238: 7665.333 | Q238: 0 | R238: 10350.7 | S238: 6723.303 | T238: =SUM(L238:S238) -> 63852.189 | U238: =S238/T238 -> 0.10529479 | W238: oil shale and oil sands
A239: 2003 | B239: =L239 -> 1861.963 | C239: =M239+N239 -> 32391.876 | D239: =O239 -> 5114.874 | E239: =P239+Q239 -> 7909.563 | F239: =R239 -> 10728.675 | G239: =S239 -> 7180.362 | H239: 0.11014969 | K239: 2003 | L239: 1861.963 | M239: 0 | N239: 32391.876 | O239: 5114.874 | P239: 7909.563 | Q239: 0 | R239: 10728.675 | S239: 7180.362 | T239: =SUM(L239:S239) -> 65187.313 | U239: =S239/T239 -> 0.11014969 | W239: Oil: LPG, gasoline, jet fuel, diesel, fuel oil
A240: 2004 | B240: =L240 -> 1820.095 | C240: =M240+N240 -> 35199.054 | D240: =O240 -> 5687.07 | E240: =P240+Q240 -> 7971.202 | F240: =R240 -> 10415.828 | G240: =S240 -> 7651.377 | H240: 0.11130146 | K240: 2004 | L240: 1820.095 | M240: 9 | N240: 35190.054 | O240: 5687.07 | P240: 7971.202 | Q240: 0 | R240: 10415.828 | S240: 7651.377 | T240: =SUM(L240:S240) -> 68744.626 | U240: =S240/T240 -> 0.11130146 | W240: Gas: Natural gas
A241: 2005 | B241: =L241 -> 2029.435 | C241: =M241+N241 -> 37546.01 | D241: =O241 -> 6853.559 | E241: =P241+Q241 -> 8118.903 | F241: =R241 -> 10529.802 | G241: =S241 -> 7978.18 | H241: 0.10920653 | K241: 2005 | L241: 2029.435 | M241: 16 | N241: 37530.01 | O241: 6853.559 | P241: 8118.903 | Q241: 0 | R241: 10529.802 | S241: 7978.18 | T241: =SUM(L241:S241) -> 73055.889 | U241: =S241/T241 -> 0.10920653 | W241: Renewables: Biofuels, biogases, renewable waste
A242: 2006 | B242: =L242 -> 2791.2 | C242: =M242+N242 -> 39146.298 | D242: =O242 -> 7138.494 | E242: =P242+Q242 -> 8403.838 | F242: =R242 -> 10981.046 | G242: =S242 -> 8432.913 | H242: 0.10966962 | K242: 2006 | L242: 2791.2 | M242: 16 | N242: 39130.298 | O242: 7138.494 | P242: 8403.838 | Q242: 0 | R242: 10981.046 | S242: 8432.913 | T242: =SUM(L242:S242) -> 76893.789 | U242: =S242/T242 -> 0.10966962 | W242: Waste: Non-renewable waste
A243: 2007 | B243: =L243 -> 2687.693 | C243: =M243+N243 -> 44606.746 | D243: =O243 -> 7530.425 | E243: =P243+Q243 -> 8546.887 | F243: =R243 -> 10701.926 | G243: =S243 -> 8859.734 | H243: 0.10682949 | K243: 2007 | L243: 2687.693 | M243: 15 | N243: 44591.746 | O243: 7530.425 | P243: 8546.887 | Q243: 0 | R243: 10701.926 | S243: 8859.734 | T243: =SUM(L243:S243) -> 82933.411 | U243: =S243/T243 -> 0.10682949 | W243: Heat and Electricity as separate categories
A244: 2008 | B244: =L244 -> 2369.031 | C244: =M244+N244 -> 44295.41 | D244: =O244 -> 7242.001 | E244: =P244+Q244 -> 8808.562 | F244: =R244 -> 10033.201 | G244: =S244 -> 9044.651 | H244: 0.11057996 | K244: 2008 | L244: 2369.031 | M244: 20 | N244: 44275.41 | O244: 7242.001 | P244: 8808.562 | Q244: 0 | R244: 10033.201 | S244: 9044.651 | T244: =SUM(L244:S244) -> 81792.856 | U244: =S244/T244 -> 0.11057996
A245: 2009 | B245: =L245 -> 1872.43 | C245: =M245+N245 -> 36283.318 | D245: =O245 -> 6670.968 | E245: =P245+Q245 -> 8649.231 | F245: =R245 -> 10297.202 | G245: =S245 -> 8372.437 | H245: 0.11604919 | K245: 2009 | L245: 1872.43 | M245: 14 | N245: 36269.318 | O245: 6670.968 | P245: 8649.231 | Q245: 0 | R245: 10297.202 | S245: 8372.437 | T245: =SUM(L245:S245) -> 72145.586 | U245: =S245/T245 -> 0.11604919
A246: 2010 | B246: =L246 -> 2335.304 | C246: =M246+N246 -> 37522.054 | D246: =O246 -> 7202.459 | E246: =P246+Q246 -> 8570.147 | F246: =R246 -> 10719.371 | G246: =S246 -> 8332.895 | H246: 0.11157802 | K246: 2010 | L246: 2335.304 | M246: 6 | N246: 37516.054 | O246: 7202.459 | P246: 8570.147 | Q246: 0 | R246: 10719.371 | S246: 8332.895 | T246: =SUM(L246:S246) -> 74682.23 | U246: =S246/T246 -> 0.11157802
A247: 2011 | B247: =L247 -> 2707.464 | C247: =M247+N247 -> 37581.182 | D247: =O247 -> 7023.357 | E247: =P247+Q247 -> 8443.38 | F247: =R247 -> 10108.796 | G247: =S247 -> 8580.614 | H247: 0.11526144 | K247: 2011 | L247: 2707.464 | M247: 0 | N247: 37581.182 | O247: 7023.357 | P247: 8443.38 | Q247: 0 | R247: 10108.796 | S247: 8580.614 | T247: =SUM(L247:S247) -> 74444.793 | U247: =S247/T247 -> 0.11526144
...

Sheet Efficiency Assumptions
A1: Assumptions for SEI Scenarios
A2: JRC-IDEES 2023 country-specific fossil energy splits + efficiency gain parameters
A4: GLOBAL EFFICIENCY ASSUMPTIONS
A5: Parameter | B5: Value | C5: Description | D5: Reference | F5: Savings %
A6: J_diesel (work/motors) | B6: 3 | C6: Electric motors ~90% eff vs diesel ~35%. Indicative: 2-3x | D6: https://fiw.hs-wismar.de/storages/hs-wismar/_FIW/Bereich_EUI/AB_AET/Professoren/Wego/Diesel_vs._Electric_-_An_energy_analysis_after_three_years_of_driving.pdf https://reference-global.com/download/article/10.2478/rtuect-2020-0041.pdf | F6: =1-(1/B6) -> 0.66666667
A7: J_lowT (heat <200°C) | B7: 2.5 | C7: Heat pumps COP 3-5 vs gas boilers 80-90%. Indicative: 2.5-4x | D7: https://www.iea.org/reports/the-future-of-heat-pumps/how-a-heat-pump-works https://moveenergy.vc/electrical-heat-as-the-next-frontier-in-industrial-decarbonisation/ https://www.raponline.org/wp-content/uploads/2023/09/Heat-pump-running-costs-v271.pdf | F7: =1-(1/B7) -> 0.6
A8: J_highT (heat >500°C) | B8: 1.5 | C8: Electric arc/induction 80-95% vs combustion 40-60%. Indicative: 1.3-2x | D8: https://www.san-lan.com/de/faq/energy-saving-electric-furnace-vs-traditional-melting-furnace-energy-consumption-comparison.html https://www.agora-industry.org/fileadmin/Projects/2023/2023-20_IND_Electrification_Industrial_Heat/A-IND_329_04_Electrification_Industrial_Heat_WEB.pdf | F8: =1-(1/B8) -> 0.33333333
A10: Transitition rate parameter | B10: Value | C10: Description
A11: Estonia | B11: 0.3 | C11: Describes the sharpness of transition for the sigmoid curve (0.1 ≈ Linear, 0.3 = "steady" sigmoid, >=1 = "Step like"
A12: Latvia | B12: 0.3 | C12: Describes the sharpness of transition for the sigmoid curve (0.1 ≈ Linear, 0.3 = "steady" sigmoid, >=1 = "Step like"
A13: Lithuania | B13: 0.3 | C13: Describes the sharpness of transition for the sigmoid curve (0.1 ≈ Linear, 0.3 = "steady" sigmoid, >=1 = "Step like"
A17: Industrial efficiency assumptions
A20: ESTONIA: NON-ELECTRIC (FOSSIL) ENERGY SPLITS FROM JRC-IDEES 2023
A21: Source: JRC-IDEES-2023_Industry_EE.xlsx (process-level _fec sheets, average last 5 years)
B22: Now validated: See separate excel
A23: Subsector | B23: Diesel/motors share | C23: Low-T heat share | D23: High-T heat share | E23: Fossil energy (ktoe) | F23: Electric energy (ktoe) | G23: Composite J | H23: Model row | I23: Notes
A24: Iron & steel | B24: 0 | C24: 0 | D24: 1 | E24: 0 | F24: 0 | G24: =IF(E24=0, $B$8, 1/(B24/$B$6 + C24/$B$7 + D24/$B$8)) -> 1.5 | H24: 14 | I24: empty, assume all HT
A25: Chemical | B25: 0 | C25: 0.60801444 | D25: 0.39198556 | E25: 21.685741 | F25: 10.134609 | G25: =1/(B25/$B$6 + C25/$B$7 + D25/$B$8) -> 1.9820447 | H25: 15
A26: Non-ferrous metals | B26: 0 | C26: 0.18815139 | D26: 0.81184861 | E26: 0.74138722 | F26: 0.93762543 | G26: =1/(B26/$B$6 + C26/$B$7 + D26/$B$8) -> 1.6220785 | H26: 16
A27: Other non-metallic minerals | B27: 0 | C27: 0.12874538 | D27: 0.87125462 | E27: 40.903669 | F27: 13.795056 | G27: =1/(B27/$B$6 + C27/$B$7 + D27/$B$8) -> 1.5814413 | H27: 17
A28: Transport equipment | B28: 0 | C28: 0.66797191 | D28: 0.33202809 | E28: 3.6158641 | F28: 5.3135426 | G28: =1/(B28/$B$6 + C28/$B$7 + D28/$B$8) -> 2.0469118 | H28: 18
A29: Machinery | B29: 0 | C29: 0.66751558 | D29: 0.33248442 | E29: 12.746374 | F29: 21.369275 | G29: =1/(B29/$B$6 + C29/$B$7 + D29/$B$8) -> 2.0464021 | H29: 19
A30: Mining & quarrying | B30: 0.85 | C30: 0.1 | D30: 0.05 | G30: =1/(B30/$B$6 + C30/$B$7 + D30/$B$8) -> 2.8037383 | H30: 20 | I30: No data found; assumption mostly work
A31: Food, beverages & tobacco | B31: 0 | C31: 1 | D31: 0 | E31: 35.02965 | F31: 26.663772 | G31: =1/(B31/$B$6 + C31/$B$7 + D31/$B$8) -> 2.5 | H31: 21
A32: Pulp, paper & printing | B32: 0 | C32: 1 | D32: 0 | E32: 29.40642 | F32: 31.232058 | G32: =1/(B32/$B$6 + C32/$B$7 + D32/$B$8) -> 2.5 | H32: 22
A33: Wood & wood products | B33: 0 | C33: 1 | D33: 0 | E33: 27.11456 | F33: 46.654013 | G33: =1/(B33/$B$6 + C33/$B$7 + D33/$B$8) -> 2.5 | H33: 23
A34: Construction | B34: 0.85 | C34: 0.1 | D34: 0.05 | G34: =1/(B34/$B$6 + C34/$B$7 + D34/$B$8) -> 2.8037383 | H34: 24 | I34: No data found; assumption mostly work
A35: Textile, leather & clothing | B35: 0 | C35: 1 | D35: 0 | E35: 4.1340929 | F35: 4.8764689 | G35: =1/(B35/$B$6 + C35/$B$7 + D35/$B$8) -> 2.5 | H35: 25
A36: Other industries | B36: 0.27585505 | C36: 0.24105401 | D36: 0.48309094 | E36: 47.988607 | F36: 21.023732 | G36: =1/(B36/$B$6 + C36/$B$7 + D36/$B$8) -> 1.9591175 | H36: 26
A39: Latvia: NON-ELECTRIC (FOSSIL) ENERGY SPLITS FROM JRC-IDEES 2023
A40: Source: JRC-IDEES-2023_Industry_LV.xlsx (process-level _fec sheets, average last 5 years)
B41: Now validated: See separate excel
A42: Subsector | B42: Diesel/motors share | C42: Low-T heat share | D42: High-T heat share | E42: Fossil energy (ktoe) | F42: Electric energy (ktoe) | G42: Composite J | H42: Model row | I42: Notes
A43: Iron & steel | B43: 0 | C43: 0 | D43: 1 | E43: 0 | F43: 0 | G43: =IF(E43=0, $B$8, 1/(B43/$B$6 + C43/$B$7 + D43/$B$8)) -> 1.5 | H43: 14 | I43: empty, assume all HT
A44: Chemical | B44: 0 | C44: 0.34006824 | D44: 0.65993176 | E44: 17.936019 | F44: 5.9712812 | G44: =1/(B44/$B$6 + C44/$B$7 + D44/$B$8) -> 1.736166 | H44: 15
A45: Non-ferrous metals | B45: 0 | C45: 0.18815139 | D45: 0.81184861 | G45: =1/(B45/$B$6 + C45/$B$7 + D45/$B$8) -> 1.6220785 | H45: 16 | I45: empty, assume EE
A46: Other non-metallic minerals | B46: 0 | C46: 0.053068824 | D46: 0.94693118 | E46: 143.8446 | F46: 24.494153 | G46: =1/(B46/$B$6 + C46/$B$7 + D46/$B$8) -> 1.5325319 | H46: 17
A47: Transport equipment | B47: 0 | C47: 0.47536977 | D47: 0.52463023 | E47: 2.0293775 | F47: 3.498094 | G47: =1/(B47/$B$6 + C47/$B$7 + D47/$B$8) -> 1.8521901 | H47: 18
A48: Machinery | B48: 0 | C48: 0.47124945 | D48: 0.52875055 | E48: 8.6434944 | F48: 7.6793924 | G48: =1/(B48/$B$6 + C48/$B$7 + D48/$B$8) -> 1.8484283 | H48: 19
A49: Mining & quarrying | B49: 0.85 | C49: 0.1 | D49: 0.05 | G49: =1/(B49/$B$6 + C49/$B$7 + D49/$B$8) -> 2.8037383 | H49: 20 | I49: No data found; assumption mostly work
A50: Food, beverages & tobacco | B50: 0 | C50: 1 | D50: 0 | E50: 52.778083 | F50: 24.428303 | G50: =1/(B50/$B$6 + C50/$B$7 + D50/$B$8) -> 2.5 | H50: 21
A51: Pulp, paper & printing | B51: 0 | C51: 1 | D51: 0 | E51: 2.7467795 | F51: 2.2879048 | G51: =1/(B51/$B$6 + C51/$B$7 + D51/$B$8) -> 2.5 | H51: 22
A52: Wood & wood products | B52: 0 | C52: 1 | D52: 0 | E52: 450.32998 | F52: 71.840714 | G52: =1/(B52/$B$6 + C52/$B$7 + D52/$B$8) -> 2.5 | H52: 23
A53: Construction | B53: 0.85 | C53: 0.1 | D53: 0.05 | G53: =1/(B53/$B$6 + C53/$B$7 + D53/$B$8) -> 2.8037383 | H53: 24 | I53: No data found; assumption mostly work
A54: Textile, leather & clothing | B54: 0 | C54: 1 | D54: 0 | E54: 4.6340786 | F54: 2.1611493 | G54: =1/(B54/$B$6 + C54/$B$7 + D54/$B$8) -> 2.5 | H54: 25
A55: Other industries | B55: 0.19775496 | C55: 0.45421949 | D55: 0.34802555 | E55: 50.012759 | F55: 16.663672 | G55: =1/(B55/$B$6 + C55/$B$7 + D55/$B$8) -> 2.0849703 | H55: 26
A58: Lithuania: NON-ELECTRIC (FOSSIL) ENERGY SPLITS FROM JRC-IDEES 2023
A59: Source: JRC-IDEES-2023_Industry_LT.xlsx (process-level _fec sheets, average last 5 years)
B60: Now validated: See separate excel
A61: Subsector | B61: Diesel/motors share | C61: Low-T heat share | D61: High-T heat share | E61: Fossil energy (ktoe) | F61: Electric energy (ktoe) | G61: Composite J | H61: Model row | I61: Notes
A62: Iron & steel | B62: 0 | C62: 0 | D62: 1 | E62: 0 | F62: 0 | G62: =IF(E62=0, $B$8, 1/(B62/$B$6 + C62/$B$7 + D62/$B$8)) -> 1.5 | H62: 14 | I62: empty, assume all HT
A63: Chemical | B63: 0 | C63: 0.1746711 | D63: 0.8253289 | E63: 1071.7029 | F63: 63.559759 | G63: =1/(B63/$B$6 + C63/$B$7 + D63/$B$8) -> 1.6126751 | H63: 15
A64: Non-ferrous metals | B64: 0 | C64: 0.18815139 | D64: 0.81184861 | G64: =1/(B64/$B$6 + C64/$B$7 + D64/$B$8) -> 1.6220785 | H64: 16 | I64: empty, assume EE
A65: Other non-metallic minerals | B65: 0 | C65: 0.050737404 | D65: 0.9492626 | E65: 133.57077 | F65: 23.44368 | G65: =1/(B65/$B$6 + C65/$B$7 + D65/$B$8) -> 1.5310731 | H65: 17
A66: Transport equipment | B66: 0 | C66: 0.44030544 | D66: 0.55969456 | E66: 2.2809658 | F66: 3.9208942 | G66: =1/(B66/$B$6 + C66/$B$7 + D66/$B$8) -> 1.8206583 | H66: 18
A67: Machinery | B67: 0 | C67: 0.47124945 | D67: 0.52875055 | E67: 12.656109 | F67: 22.629693 | G67: =1/(B67/$B$6 + C67/$B$7 + D67/$B$8) -> 1.8484283 | H67: 19
A68: Mining & quarrying | B68: 0.85 | C68: 0.1 | D68: 0.05 | G68: =1/(B68/$B$6 + C68/$B$7 + D68/$B$8) -> 2.8037383 | H68: 20 | I68: No data found; assumption mostly work
A69: Food, beverages & tobacco | B69: 0 | C69: 1 | D69: 0 | E69: 121.88034 | F69: 67.466323 | G69: =1/(B69/$B$6 + C69/$B$7 + D69/$B$8) -> 2.5 | H69: 21
A70: Pulp, paper & printing | B70: 0 | C70: 1 | D70: 0 | E70: 33.503687 | F70: 17.409 | G70: =1/(B70/$B$6 + C70/$B$7 + D70/$B$8) -> 2.5 | H70: 22
A71: Wood & wood products | B71: 0 | C71: 1 | D71: 0 | E71: 67.678141 | F71: 32.262826 | G71: =1/(B71/$B$6 + C71/$B$7 + D71/$B$8) -> 2.5 | H71: 23
A72: Construction | B72: 0.85 | C72: 0.1 | D72: 0.05 | G72: =1/(B72/$B$6 + C72/$B$7 + D72/$B$8) -> 2.8037383 | H72: 24 | I72: No data found; assumption mostly work
A73: Textile, leather & clothing | B73: 0 | C73: 1 | D73: 0 | E73: 17.712929 | F73: 12.669819 | G73: =1/(B73/$B$6 + C73/$B$7 + D73/$B$8) -> 2.5 | H73: 25
A74: Other industries | B74: 0.14920253 | C74: 0.41515902 | D74: 0.43563845 | E74: 59.993643 | F74: 73.642878 | G74: =1/(B74/$B$6 + C74/$B$7 + D74/$B$8) -> 1.9754124 | H74: 26
A77: METHODOLOGY NOTES
A78: 1. Yellow cells: global assumptions (efficiency and transition "rate"; editable). Change these to test sensitivity.
A79: 2. Orange cells: JRC-IDEES country-specific fossil energy splits (editable per country).
A80: 3. Green cells: composite J calculated from splits and global assumptions.
A81: 4. Composite J = 1/(diesel_share/J_diesel + lowT_share/J_lowT + highT_share/J_highT)
A82: 5. J applies only to FOSSIL energy being converted. Already-electric processes are excluded.
A84: CONVERSION LOGIC (electrified energy in scenario sheets):
A85: 6. Column G = Nordic benchmark electrification rate (ENERGY basis from Eurostat).
A86: 7. Column L = Same target converted to ACTIVITY basis using J.
A87: 8. Formula: L = G * J / (1 + G * (J - 1))
A88: 9. When J=1: L=G (no conversion needed). When J>1: L>G (more activities must electrify
A89: because electricity is more efficient, so a given energy share implies more activity switched).
... A96: own process mix). Using J_Estonia assumes similar within-subsector process mixes across countries.

Sheet Pop Projection
A1: Estonia | D1: Latvia | G1: Lithuania
A2: Years | B2: Population | D2: Years | E2: Population | G2: Year | H2: Population
A3: 2000 | B3: 1401250 | D3: 2000 | E3: 2367550 | G3: 2000 | H3: 3697838
A4: 2001 | B4: 1392720 | D4: 2001 | E4: 2337170 | G4: 2001 | H4: 3499536
A5: 2002 | B5: 1383510 | D5: 2002 | E5: 2310173 | G5: 2002 | H5: 2937253
A6: 2003 | B6: 1375190 | D6: 2003 | E6: 2287955 | G6: 2003 | H6: 2911109
A7: 2004 | B7: 1366250 | D7: 2004 | E7: 2263122 | G7: 2004 | H7: 2877325
A8: 2005 | B8: 1358850 | D8: 2005 | E8: 2238799 | G8: 2005 | H8: 2842639
A9: 2006 | B9: 1350700 | D9: 2006 | E9: 2218357 | G9: 2006 | H9: 2819200
A10: 2007 | B10: 1342920 | D10: 2007 | E10: 2200325 | G10: 2007 | H10: 2811089
A11: 2008 | B11: 1338440 | D11: 2008 | E11: 2177322 | G11: 2008 | H11: 2810369
A12: 2009 | B12: 1335740 | D12: 2009 | E12: 2141669 | G12: 2009 | H12: 2808380
A13: 2010 | B13: 1333290 | D13: 2010 | E13: 2097555 | G13: 2010 | H13: 2810369
A14: 2011 | B14: 1329660 | D14: 2011 | E14: 2059709 | G14: 2011 | H14: 2808380
... A22: 2019 | B22: 1324820 | D22: 2019 | E22: 1913822 | G22: 2019 | H22: 2812200
A23: 2020 | B23: 1,328,889 | D23: 2020 | E23: 1900449 | G23: 2020 | H23: 2809977
A24: 2021 | B24: 1,330,068 | D24: 2021 | E24: 1884490 | G24: 2021 | H24: 2810761
A25: 2022 | B25: 1,331,796 | D25: 2022 | E25: 1879383 | G25: 2022 | H25: 2805998
A26: 2023 | B26: 1,365,884 | D26: 2023 | E26: 1883710 | G26: 2023 | H26: 2857279
A27: 2024 | B27: 1,374,687 | D27: 2024 | E27: 1866124 | G27: 2024 | H27: 2885891
A28: 2025 | B28: 1,369,995 | D28: 2025 | E28: 1863089 | G28: 2025 | H28: 2890664
A29: 2026 | B29: 1,362,954 | D29: 2026 | E29: 1842409 | G29: 2026 | H29: 2886883
A30: 2027 | B30: 1,366,691 | D30: 2027 | E30: 1821191 | G30: 2027 | H30: 2878765
A31: 2028 | B31: 1,362,698 | D31: 2028 | E31: 1799221 | G31: 2028 | H31: 2871538
A32: 2029 | B32: 1,358,831 | D32: 2029 | E32: 1777599 | G32: 2029 | H32: 2863363
A33: 2030 | B33: 1,355,488 | D33: 2030 | E33: 1756334 | G33: 2030 | H33: 2854217
A34: 2031 | B34: 1,352,442 | D34: 2031 | E34: 1735494 | G34: 2031 | H34: 2844070
... A37: 2034 | B37: 1,344,628 | D37: 2034 | E37: 1677235 | G37: 2034 | H37: 2814742
A38: 2035 | B38: 1,342,535 | D38: 2035 | E38: 1660761 | G38: 2035 | H38: 2805424
A39: 2036 | B39: 1,340,931 | D39: 2036 | E39: 1644951 | G39: 2036 | H39: 2796372
A40: 2037 | B40: 1,339,374 | D40: 2037 | E40: 1629686 | G40: 2037 | H40: 2787574
A41: 2038 | B41: 1,337,887 | D41: 2038 | E41: 1615018 | G41: 2038 | H41: 2779076
A42: 2039 | B42: 1,336,455 | D42: 2039 | E42: 1600744 | G42: 2039 | H42: 2770806
A43: 2040 | B43: 1,335,056 | D43: 2040 | E43: 1586936 | G43: 2040 | H43: 2762731
A44: 2041 | B44: 1,333,674 | D44: 2041 | E44: 1573577 | G44: 2041 | H44: 2754810
A45: 2042 | B45: 1,332,264 | D45: 2042 | E45: 1560580 | G45: 2042 | H45: 2747029
A46: 2043 | B46: 1,330,810 | D46: 2043 | E46: 1547902 | G46: 2043 | H46: 2739306
A47: 2044 | B47: 1,329,282 | D47: 2044 | E47: 1535496 | G47: 2044 | H47: 2731576
A48: 2045 | B48: 1,327,682 | D48: 2045 | E48: 1523373 | G48: 2045 | H48: 2723801
A49: 2046 | B49: 1,325,992 | D49: 2046 | E49: 1511495 | G49: 2046 | H49: 2715857
... A53: 2050 | B53: 1,318,087 | D53: 2050 | E53: 1466019 | G53: 2050 | H53: 2680233

Sheet EST_FEC
A1: Total FEC, GWh | F1: APS | J1: EURELECTRIC | N1: JRC | R1: APS | V1: EUROELECTRIC | Z1: JRC
B2: Industry | C2: Buildings | D2: Transport | F2: Industry | G2: Buildings | H2: Transport | J2: Industry | K2: Buildings | L2: Transport | N2: Industry | O2: Buildings | P2: Transport | R2: Industry | S2: Buildings | T2: Transport | V2: Industry | W2: Buildings | X2: Transport | Z2: Industry | AA2: Buildings | AB2: Transport
A3: 2000 | B3: =B58 -> 6747 | C3: =B111 -> 14133 | D3: =B164 -> 7732 | F3: 0.2716763 | G3: 0.20285856 | H3: 0.011769271 | J3: 0.2716763 | K3: 0.20285856 | L3: 0.011769271 | N3: 0.2716763 | O3: 0.20285856 | P3: 0.011769271 | R3: =F3*B3 -> 1833 | S3: =G3*C3 -> 2867 | T3: =H3*D3 -> 91 | V3: =J3*B3 -> 1833 | W3: =K3*C3 -> 2867 | X3: =L3*D3 -> 91 | Z3: =N3*B3 -> 1833 | AA3: =O3*C3 -> 2867 | AB3: =P3*D3 -> 91
A4: 2001 | B4: =B59 -> 7485 | C4: =B112 -> 14462 | D4: =B165 -> 7875 | F4: 0.24261857 | G4: 0.21186558 | H4: 0.010666667 | J4: 0.24261857 | K4: 0.21186558 | L4: 0.010666667 | N4: 0.24261857 | O4: 0.21186558 | P4: 0.010666667 | R4: =F4*B4 -> 1816 | S4: =G4*C4 -> 3064 | T4: =H4*D4 -> 84 | V4: =J4*B4 -> 1816 | W4: =K4*C4 -> 3064 | X4: =L4*D4 -> 84 | Z4: =N4*B4 -> 1816 | AA4: =O4*C4 -> 3064 | AB4: =P4*D4 -> 84
A5: 2002 | B5: =B60 -> 6803 | C5: =B113 -> 14135 | D5: =B166 -> 7843 | F5: 0.27693665 | G5: 0.22313406 | H5: 0.012367716 | J5: 0.27693665 | K5: 0.22313406 | L5: 0.012367716 | N5: 0.27693665 | O5: 0.22313406 | P5: 0.012367716 | R5: =F5*B5 -> 1884 | S5: =G5*C5 -> 3154 | T5: =H5*D5 -> 97 | V5: =J5*B5 -> 1884 | W5: =K5*C5 -> 3154 | X5: =L5*D5 -> 97 | Z5: =N5*B5 -> 1884 | AA5: =O5*C5 -> 3154 | AB5: =P5*D5 -> 97
A6: 2003 | B6: =B61 -> 7730 | C6: =B114 -> 14689 | D6: =B167 -> 8131 | F6: 0.26274256 | G6: 0.22179862 | H6: 0.011929652 | J6: 0.26274256 | K6: 0.22179862 | L6: 0.011929652 | N6: 0.26274256 | O6: 0.22179862 | P6: 0.011929652 | R6: =F6*B6 -> 2031 | S6: =G6*C6 -> 3258 | T6: =H6*D6 -> 97 | V6: =J6*B6 -> 2031 | W6: =K6*C6 -> 3258 | X6: =L6*D6 -> 97 | Z6: =N6*B6 -> 2031 | AA6: =O6*C6 -> 3258 | AB6: =P6*D6 -> 97
A7: 2004 | B7: =B62 -> 7937 | C7: =B115 -> 15152 | D7: =B168 -> 8303 | F7: 0.27012725 | G7: 0.22888068 | H7: 0.0095146333 | J7: 0.27012725 | K7: 0.22888068 | L7: 0.0095146333 | N7: 0.27012725 | O7: 0.22888068 | P7: 0.0095146333 | R7: =F7*B7 -> 2144 | S7: =G7*C7 -> 3468 | T7: =H7*D7 -> 79 | V7: =J7*B7 -> 2144 | W7: =K7*C7 -> 3468 | X7: =L7*D7 -> 79 | Z7: =N7*B7 -> 2144 | AA7: =O7*C7 -> 3468 | AB7: =P7*D7 -> 79
A8: 2005 | B8: =B63 -> 8268 | C8: =B116 -> 14866 | D8: =B169 -> 9269 | F8: 0.26221577 | G8: 0.23873268 | H8: 0.01111231 | J8: 0.26221577 | K8: 0.23873268 | L8: 0.01111231 | N8: 0.26221577 | O8: 0.23873268 | P8: 0.01111231 | R8: =F8*B8 -> 2168 | S8: =G8*C8 -> 3549 | T8: =H8*D8 -> 103 | V8: =J8*B8 -> 2168 | W8: =K8*C8 -> 3549 | X8: =L8*D8 -> 103 | Z8: =N8*B8 -> 2168 | AA8: =O8*C8 -> 3549 | AB8: =P8*D8 -> 103
A9: 2006 | B9: =B64 -> 7968 | C9: =B117 -> 14869 | D9: =B170 -> 9391 | F9: 0.2935492 | G9: 0.25899522 | H9: 0.0088382494 | J9: 0.2935492 | K9: 0.25899522 | L9: 0.0088382494 | N9: 0.2935492 | O9: 0.25899522 | P9: 0.0088382494 | R9: =F9*B9 -> 2339 | S9: =G9*C9 -> 3851 | T9: =H9*D9 -> 83 | V9: =J9*B9 -> 2339 | W9: =K9*C9 -> 3851 | X9: =L9*D9 -> 83 | Z9: =N9*B9 -> 2339 | AA9: =O9*C9 -> 3851 | AB9: =P9*D9 -> 83
A10: 2007 | B10: =B65 -> 8790 | C10: =B118 -> 15950 | D10: =B171 -> 9518 | F10: 0.27212742 | G10: 0.25899687 | H10: 0.0080899349 | J10: 0.27212742 | K10: 0.25899687 | L10: 0.0080899349 | N10: 0.27212742 | O10: 0.25899687 | P10: 0.0080899349 | R10: =F10*B10 -> 2392 | S10: =G10*C10 -> 4131 | T10: =H10*D10 -> 77 | V10: =J10*B10 -> 2392 | W10: =K10*C10 -> 4131 | X10: =L10*D10 -> 77 | Z10: =N10*B10 -> 2392 | AA10: =O10*C10 -> 4131 | AB10: =P10*D10 -> 77
A11: 2008 | B11: =B66 -> 8518 | C11: =B119 -> 16111 | D11: =B172 -> 8387 | F11: 0.27412538 | G11: 0.27298119 | H11: 0.0095385716 | J11: 0.27412538 | K11: 0.27298119 | L11: 0.0095385716 | N11: 0.27412538 | O11: 0.27298119 | P11: 0.0095385716 | R11: =F11*B11 -> 2335 | S11: =G11*C11 -> 4398 | T11: =H11*D11 -> 80 | V11: =J11*B11 -> 2335 | W11: =K11*C11 -> 4398 | X11: =L11*D11 -> 80 | Z11: =N11*B11 -> 2335 | AA11: =O11*C11 -> 4398 | AB11: =P11*D11 -> 80
A12: 2009 | B12: =B67 -> 6167 | C12: =B120 -> 16153 | D12: =B173 -> 8843 | F12: 0.31473974 | G12: 0.27505726 | H12: 0.010177542 | J12: 0.31473974 | K12: 0.27505726 | L12: 0.010177542 | N12: 0.31473974 | O12: 0.27505726 | P12: 0.010177542 | R12: =F12*B12 -> 1941 | S12: =G12*C12 -> 4443 | T12: =H12*D12 -> 90 | V12: =J12*B12 -> 1941 | W12: =K12*C12 -> 4443 | X12: =L12*D12 -> 90 | Z12: =N12*B12 -> 1941 | AA12: =O12*C12 -> 4443 | AB12: =P12*D12 -> 90
A13: 2010 | B13: =B68 -> 6723 | C13: =B121 -> 16879 | D13: =B174 -> 8746 | F13: 0.31161684 | G13: 0.26861781 | H13: 0.01017608 | J13: 0.31161684 | K13: 0.26861781 | L13: 0.01017608 | N13: 0.31161684 | O13: 0.26861781 | P13: 0.01017608 | R13: =F13*B13 -> 2095 | S13: =G13*C13 -> 4534 | T13: =H13*D13 -> 89 | V13: =J13*B13 -> 2095 | W13: =K13*C13 -> 4534 | X13: =L13*D13 -> 89 | Z13: =N13*B13 -> 2095 | AA13: =O13*C13 -> 4534 | AB13: =P13*D13 -> 89
A14: 2011 | B14: =B69 -> 6822 | C14: =B122 -> 15558 | D14: =B175 -> 8767 | F14: 0.29991205 | G14: 0.27715645 | H14: 0.0091251283 | J14: 0.29991205 | K14: 0.27715645 | L14: 0.0091251283 | N14: 0.29991205 | O14: 0.27715645 | P14: 0.0091251283 | R14: =F14*B14 -> 2046 | S14: =G14*C14 -> 4312 | T14: =H14*D14 -> 80 | V14: =J14*B14 -> 2046 | W14: =K14*C14 -> 4312 | X14: =L14*D14 -> 80 | Z14: =N14*B14 -> 2046 | AA14: =O14*C14 -> 4312 | AB14: =P14*D14 -> 80
... A26: 2023 | B26: =B81 -> 3923 | C26: =B134 -> 15085 | D26: =B187 -> 9909 | F26: 0.45449911 | G26: 0.26602585 | H26: 0.0060551014 | J26: 0.45449911 | K26: 0.26602585 | L26: 0.0060551014 | N26: 0.45449911 | O26: 0.26602585 | P26: 0.0060551014 | R26: =F26*B26 -> 1783 | S26: =G26*C26 -> 4013 | T26: =H26*D26 -> 60 | V26: =J26*B26 -> 1783 | W26: =K26*C26 -> 4013 | X26: =L26*D26 -> 60 | Z26: =N26*B26 -> 1783 | AA26: =O26*C26 -> 4013 | AB26: =P26*D26 -> 60
A27: 2024 | B27: =B82 -> 3948.2834 | C27: =B135 -> 15243.849 | D27: =B188 -> 10026.191 | F27: ='EST Scenario projections'!D5 -> 0.42428571 | G27: ='EST Scenario projections'!C5 -> 0.28857143 | H27: ='EST Scenario projections'!E5 -> 0.0051428571 | J27: ='EST Scenario projections'!K5 -> 0.313 | K27: ='EST Scenario projections'!J5 -> 0.2905 | L27: ='EST Scenario projections'!L5 -> 0.006 | N27: ='EST Scenario projections'!R5 -> 0.313 | O27: ='EST Scenario projections'!Q5 -> 0.2905 | P27: ='EST Scenario projections'!S5 -> 0.006 | R27: =F27*B27 -> 1675.2002 | S27: =G27*C27 -> 4398.9393 | T27: =H27*D27 -> 51.563268 | V27: =J27*B27 -> 1235.8127 | W27: =K27*C27 -> 4428.3382 | X27: =L27*D27 -> 60.157146 | Z27: =N27*B27 -> 1235.8127 | AA27: =O27*C27 -> 4428.3382 | AB27: =P27*D27 -> 60.157146
A28: 2025 | B28: =B83 -> 3934.8073 | C28: =B136 -> 15253.486 | D28: =B189 -> 10045.401 | F28: ='EST Scenario projections'!D6 -> 0.39857143 | G28: ='EST Scenario projections'!C6 -> 0.30714286 | H28: ='EST Scenario projections'!E6 -> 0.023714286 | J28: ='EST Scenario projections'!K6 -> 0.3234375 | K28: ='EST Scenario projections'!J6 -> 0.30734375 | L28: ='EST Scenario projections'!L6 -> 0.024375 | N28: ='EST Scenario projections'!R6 -> 0.32019231 | O28: ='EST Scenario projections'!Q6 -> 0.29836538 | P28: ='EST Scenario projections'!S6 -> 0.020192308 | R28: =F28*B28 -> 1568.3018 | S28: =G28*C28 -> 4684.9994 | T28: =H28*D28 -> 238.2195 | V28: =J28*B28 -> 1272.6642 | W28: =K28*C28 -> 4688.0637 | X28: =L28*D28 -> 244.85664 | Z28: =N28*B28 -> 1259.895 | AA28: =O28*C28 -> 4551.1124 | AB28: =P28*D28 -> 202.83982
A29: 2026 | B29: =B84 -> 3914.5847 | C29: =B137 -> 15236.691 | D29: =B190 -> 10047.213 | F29: ='EST Scenario projections'!D7 -> 0.37285714 | G29: ='EST Scenario projections'!C7 -> 0.32571429 | H29: ='EST Scenario projections'!E7 -> 0.042285714 | J29: ='EST Scenario projections'!K7 -> 0.333875 | K29: ='EST Scenario projections'!J7 -> 0.3241875 | L29: ='EST Scenario projections'!L7 -> 0.04275 | N29: ='EST Scenario projections'!R7 -> 0.32738462 | O29: ='EST Scenario projections'!Q7 -> 0.30623077 | P29: ='EST Scenario projections'!S7 -> 0.034384615 | R29: =F29*B29 -> 1459.5808 | S29: =G29*C29 -> 4962.8079 | T29: =H29*D29 -> 424.85358 | V29: =J29*B29 -> 1306.982 | W29: =K29*C29 -> 4939.5447 | X29: =L29*D29 -> 429.51836 | Z29: =N29*B29 -> 1281.5748 | AA29: =O29*C29 -> 4665.9436 | AB29: =P29*D29 -> 345.46956
A30: 2027 | B30: =B85 -> 3925.3178 | C30: =B138 -> 15340.486 | D30: =B191 -> 10128.634 | F30: ='EST Scenario projections'!D8 -> 0.34714286 | G30: ='EST Scenario projections'!C8 -> 0.34428571 | H30: ='EST Scenario projections'!E8 -> 0.060857143 | J30: ='EST Scenario projections'!K8 -> 0.3443125 | K30: ='EST Scenario projections'!J8 -> 0.34103125 | L30: ='EST Scenario projections'!L8 -> 0.061125 | N30: ='EST Scenario projections'!R8 -> 0.33457692 | O30: ='EST Scenario projections'!Q8 -> 0.31409615 | P30: ='EST Scenario projections'!S8 -> 0.048576923 | R30: =F30*B30 -> 1362.646 | S30: =G30*C30 -> 5281.5101 | T30: =H30*D30 -> 616.39973 | V30: =J30*B30 -> 1351.536 | W30: =K30*C30 -> 5231.5851 | X30: =L30*D30 -> 619.11276 | Z30: =N30*B30 -> 1313.3208 | AA30: =O30*C30 -> 4818.3876 | AB30: =P30*D30 -> 492.01788
A31: 2028 | B31: =B86 -> 3913.8494 | C31: =B139 -> 15357.754 | D31: =B192 -> 10153.045 | F31: ='EST Scenario projections'!D9 -> 0.32142857 | G31: ='EST Scenario projections'!C9 -> 0.36285714 | H31: ='EST Scenario projections'!E9 -> 0.079428571 | J31: ='EST Scenario projections'!K9 -> 0.35475 | K31: ='EST Scenario projections'!J9 -> 0.357875 | L31: ='EST Scenario projections'!L9 -> 0.0795 | N31: ='EST Scenario projections'!R9 -> 0.34176923 | O31: ='EST Scenario projections'!Q9 -> 0.32196154 | P31: ='EST Scenario projections'!S9 -> 0.062769231 | R31: =F31*B31 -> 1258.023 | S31: =G31*C31 -> 5572.6709 | T31: =H31*D31 -> 806.44184 | V31: =J31*B31 -> 1388.4381 | W31: =K31*C31 -> 5496.1564 | X31: =L31*D31 -> 807.16705 | Z31: =N31*B31 -> 1337.6333 | AA31: =O31*C31 -> 4944.6062 | AB31: =P31*D31 -> 637.29881
A32: 2029 | B32: =B87 -> 3902.7428 | C32: =B140 -> 15376.336 | D32: =B193 -> 10178.371 | F32: ='EST Scenario projections'!D10 -> 0.29571429 | G32: ='EST Scenario projections'!C10 -> 0.38142857 | H32: ='EST Scenario projections'!E10 -> 0.098 | J32: ='EST Scenario projections'!K10 -> 0.3651875 | K32: ='EST Scenario projections'!J10 -> 0.37471875 | L32: ='EST Scenario projections'!L10 -> 0.097875 | N32: ='EST Scenario projections'!R10 -> 0.34896154 | O32: ='EST Scenario projections'!Q10 -> 0.32982692 | P32: ='EST Scenario projections'!S10 -> 0.076961538 | R32: =F32*B32 -> 1154.0968 | S32: =G32*C32 -> 5864.974 | T32: =H32*D32 -> 997.48032 | V32: =J32*B32 -> 1425.2329 | W32: =K32*C32 -> 5761.8015 | X32: =L32*D32 -> 996.20802 | Z32: =N32*B32 -> 1361.9071 | AA32: =O32*C32 -> 5071.5297 | AB32: =P32*D32 -> 783.34306
A33: 2030 | B33: =B88 -> 3893.1413 | C33: =B141 -> 15400.769 | D33: =B194 -> 10207.623 | F33: ='EST Scenario projections'!D11 -> 0.27 | G33: ='EST Scenario projections'!C11 -> 0.4 | H33: ='EST Scenario projections'!E11 -> 0 | J33: ='EST Scenario projections'!K11 -> 0.375625 | K33: ='EST Scenario projections'!J11 -> 0.3915625 | L33: ='EST Scenario projections'!L11 -> 0.11625 | N33: ='EST Scenario projections'!R11 -> 0.35615385 | O33: ='EST Scenario projections'!Q11 -> 0.33769231 | P33: ='EST Scenario projections'!S11 -> 0.091153846 | R33: =F33*B33 -> 1051.1482 | S33: =G33*C33 -> 6160.3078 | T33: =H33*D33 -> 0 | V33: =J33*B33 -> 1462.3612 | W33: =K33*C33 -> 6030.3638 | X33: =L33*D33 -> 1186.6362 | Z33: =N33*B33 -> 1386.5573 | AA33: =O33*C33 -> 5200.7214 | AB33: =P33*D33 -> 930.4641
A34: 2031 | B34: =B89 -> 3884.3928 | C34: =B142 -> 15428.536 | D34: =B195 -> 10239.146 | F34: ='EST Scenario projections'!D12 -> 0.2565 | G34: ='EST Scenario projections'!C12 -> 0.405 | H34: ='EST Scenario projections'!E12 -> 0 | J34: ='EST Scenario projections'!K12 -> 0.3860625 | K34: ='EST Scenario projections'!J12 -> 0.40840625 | L34: ='EST Scenario projections'!L12 -> 0.134625 | N34: ='EST Scenario projections'!R12 -> 0.36334615 | O34: ='EST Scenario projections'!Q12 -> 0.34555769 | P34: ='EST Scenario projections'!S12 -> 0.10534615 | R34: =F34*B34 -> 996.34675 | S34: =G34*C34 -> 6248.557 | T34: =H34*D34 -> 0 | V34: =J34*B34 -> 1499.6184 | W34: =K34*C34 -> 6301.1104 | X34: =L34*D34 -> 1378.445 | Z34: =N34*B34 -> 1411.3792 | AA34: =O34*C34 -> 5331.4492 | AB34: =P34*D34 -> 1078.6546
A35: 2032 | B35: =B90 -> 3876.2618 | C35: =B143 -> 15458.736 | D35: =B196 -> 10272.35 | F35: ='EST Scenario projections'!D13 -> 0.243 | G35: ='EST Scenario projections'!C13 -> 0.41 | H35: ='EST Scenario projections'!E13 -> 0 | J35: ='EST Scenario projections'!K13 -> 0.3965 | K35: ='EST Scenario projections'!J13 -> 0.42525 | L35: ='EST Scenario projections'!L13 -> 0.153 | N35: ='EST Scenario projections'!R13 -> 0.37053846 | O35: ='EST Scenario projections'!Q13 -> 0.35342308 | P35: ='EST Scenario projections'!S13 -> 0.11953846 | R35: =F35*B35 -> 941.93161 | S35: =G35*C35 -> 6338.0819 | T35: =H35*D35 -> 0 | V35: =J35*B35 -> 1536.9378 | W35: =K35*C35 -> 6573.8277 | X35: =L35*D35 -> 1571.6696 | Z35: =N35*B35 -> 1436.3041 | AA35: =O35*C35 -> 5463.4742 | AB35: =P35*D35 -> 1227.941
A36: 2033 | B36: =B91 -> 3868.754 | C36: =B144 -> 15491.424 | D36: =B197 -> 10307.278 | F36: ='EST Scenario projections'!D14 -> 0.2295 | G36: ='EST Scenario projections'!C14 -> 0.415 | H36: ='EST Scenario projections'!E14 -> 0 | J36: ='EST Scenario projections'!K14 -> 0.4069375 | K36: ='EST Scenario projections'!J14 -> 0.44209375 | L36: ='EST Scenario projections'!L14 -> 0.171375 | N36: ='EST Scenario projections'!R14 -> 0.37773077 | O36: ='EST Scenario projections'!Q14 -> 0.36128846 | P36: ='EST Scenario projections'!S14 -> 0.13373077 | R36: =F36*B36 -> 887.87905 | S36: =G36*C36 -> 6428.9408 | T36: =H36*D36 -> 0 | V36: =J36*B36 -> 1574.3411 | W36: =K36*C36 -> 6848.6616 | X36: =L36*D36 -> 1766.4097 | Z36: =N36*B36 -> 1461.3474 | AA36: =O36*C36 -> 5596.8726 | AB36: =P36*D36 -> 1378.4002
A37: 2034 | B37: =B92 -> 3861.9499 | C37: =B145 -> 15526.951 | D37: =B198 -> 10344.17 | F37: ='EST Scenario projections'!D15 -> 0.216 | G37: ='EST Scenario projections'!C15 -> 0.42 | H37: ='EST Scenario projections'!E15 -> 0 | J37: ='EST Scenario projections'!K15 -> 0.417375 | K37: ='EST Scenario projections'!J15 -> 0.4589375 | L37: ='EST Scenario projections'!L15 -> 0.18975 | N37: ='EST Scenario projections'!R15 -> 0.38492308 | O37: ='EST Scenario projections'!Q15 -> 0.36915385 | P37: ='EST Scenario projections'!S15 -> 0.14792308 | R37: =F37*B37 -> 834.18119 | S37: =G37*C37 -> 6521.3193 | T37: =H37*D37 -> 0 | V37: =J37*B37 -> 1611.8814 | W37: =K37*C37 -> 7125.9 | X37: =L37*D37 -> 1962.8062 | Z37: =N37*B37 -> 1486.5537 | AA37: =O37*C37 -> 5731.8336 | AB37: =P37*D37 -> 1530.1414
A38: 2035 | B38: =B93 -> 3855.9386 | C38: =B146 -> 15565.711 | D38: =B199 -> 10383.296 | F38: ='EST Scenario projections'!D16 -> 0.2025 | G38: ='EST Scenario projections'!C16 -> 0.425 | H38: ='EST Scenario projections'!E16 -> 0 | J38: ='EST Scenario projections'!K16 -> 0.4278125 | K38: ='EST Scenario projections'!J16 -> 0.47578125 | L38: ='EST Scenario projections'!L16 -> 0.208125 | N38: ='EST Scenario projections'!R16 -> 0.39211538 | O38: ='EST Scenario projections'!Q16 -> 0.37701923 | P38: ='EST Scenario projections'!S16 -> 0.16211538 | R38: =F38*B38 -> 780.82756 | S38: =G38*C38 -> 6615.4272 | T38: =H38*D38 -> 0 | V38: =J38*B38 -> 1649.6187 | W38: =K38*C38 -> 7405.8734 | X38: =L38*D38 -> 2161.0235 | Z38: =N38*B38 -> 1511.9728 | AA38: =O38*C38 -> 5868.5724 | AB38: =P38*D38 -> 1683.292
... A53: 2050 | B53: =B108 -> 3785.7207 | C53: =B161 -> 16305.591 | D53: =B214 -> 11102.271 | F53: ='EST Scenario projections'!D31 -> 0 | G53: ='EST Scenario projections'!C31 -> 0.5 | H53: ='EST Scenario projections'!E31 -> 0 | J53: ='EST Scenario projections'!K31 -> 0.62 | K53: ='EST Scenario projections'!J31 -> 0.6 | L53: ='EST Scenario projections'!L31 -> 0.6 | N53: ='EST Scenario projections'!R31 -> 0.5 | O53: ='EST Scenario projections'!Q31 -> 0.495 | P53: ='EST Scenario projections'!S31 -> 0.375 | R53: =F53*B53 -> 0 | S53: =G53*C53 -> 8152.7957 | T53: =H53*D53 -> 0 | V53: =J53*B53 -> 2347.1468 | W53: =K53*C53 -> 9783.3548 | X53: =L53*D53 -> 6661.3627 | Z53: =N53*B53 -> 1892.8603 | AA53: =O53*C53 -> 8071.2677 | AB53: =P53*D53 -> 4163.3517
A57: Years | B57: Industry FEC GWh | C57: Total consumption MWh | D57: Population | E57: Per capita/MWh
A58: 2000 | B58: 6747 | C58: =B58*1000 -> 6747000 | D58: 1401250 | E58: =C58/D58 -> 4.8149866
A59: 2001 | B59: 7485 | C59: =B59*1000 -> 7485000 | D59: 1392720 | E59: =C59/D59 -> 5.3743753
A60: 2002 | B60: 6803 | C60: =B60*1000 -> 6803000 | D60: 1383510 | E60: =C60/D60 -> 4.9172033
A61: 2003 | B61: 7730 | C61: =B61*1000 -> 7730000 | D61: 1375190 | E61: =C61/D61 -> 5.6210415
A62: 2004 | B62: 7937 | C62: =B62*1000 -> 7937000 | D62: 1366250 | E62: =C62/D62 -> 5.8093321
A63: 2005 | B63: 8268 | C63: =B63*1000 -> 8268000 | D63: 1358850 | E63: =C63/D63 -> 6.0845568
A64: 2006 | B64: 7968 | C64: =B64*1000 -> 7968000 | D64: 1350700 | E64: =C64/D64 -> 5.8991634
A65: 2007 | B65: 8790 | C65: =B65*1000 -> 8790000 | D65: 1342920 | E65: =C65/D65 -> 6.5454383
A66: 2008 | B66: 8518 | C66: =B66*1000 -> 8518000 | D66: 1338440 | E66: =C66/D66 -> 6.3641254
A67: 2009 | B67: 6167 | C67: =B67*1000 -> 6167000 | D67: 1335740 | E67: =C67/D67 -> 4.6169165
A68: 2010 | B68: 6723 | C68: =B68*1000 -> 6723000 | D68: 1333290 | E68: =C68/D68 -> 5.0424139
A69: 2011 | B69: 6822 | C69: =B69*1000 -> 6822000 | D69: 1329660 | E69: =C69/D69 -> 5.1306349
... A78: 2020 | B78: 4753 | C78: =B78*1000 -> 4753000 | D78: 1328889 | E78: =C78/D78 -> 3.5766719
A79: 2021 | B79: 4464 | C79: =B79*1000 -> 4464000 | D79: 1330068 | E79: =C79/D79 -> 3.3562194 | H79: Last years value is assumed constant till 2050
A80: 2022 | B80: 4175 | C80: =B80*1000 -> 4175000 | D80: 1331796 | E80: =C80/D80 -> 3.1348645
A81: 2023 | B81: 3923 | C81: =B81*1000 -> 3923000 | D81: 1365884 | E81: =C81/D81 -> 2.8721326 | F81: =(E81/E77)^(1/5)-1 -> -0.065812626 | G81: =AVERAGE(E70:E81) -> 4.1411589
A82: 2024 | B82: =C82/1000 -> 3948.2834 | C82: =D82*E82 -> 3948283.4 | D82: 1374687 | E82: 2.8721326 | F82: =E81*(1+F81) -> 2.68311
A83: 2025 | B83: =C83/1000 -> 3934.8073 | C83: =D83*E83 -> 3934807.3 | D83: 1369995 | E83: 2.8721326 | F83: =F82*(1+F$81) -> 2.5065275
A84: 2026 | B84: =C84/1000 -> 3914.5847 | C84: =D84*E84 -> 3914584.7 | D84: 1362954 | E84: 2.8721326 | F84: =F83*(1+F$81) -> 2.3415664
A85: 2027 | B85: =C85/1000 -> 3925.3178 | C85: =D85*E85 -> 3925317.8 | D85: 1366691 | E85: 2.8721326 | F85: =F84*(1+F$81) -> 2.1874617
A86: 2028 | B86: =C86/1000 -> 3913.8494 | C86: =D86*E86 -> 3913849.4 | D86: 1362698 | E86: 2.8721326 | F86: =F85*(1+F$81) -> 2.0434991
A87: 2029 | B87: =C87/1000 -> 3902.7428 | C87: =D87*E87 -> 3902742.8 | D87: 1358831 | E87: 2.8721326 | F87: =F86*(1+F$81) -> 1.9090111
A88: 2030 | B88: =C88/1000 -> 3893.1413 | C88: =D88*E88 -> 3893141.3 | D88: 1355488 | E88: 2.8721326 | F88: =F87*(1+F$81) -> 1.7833741
A89: 2031 | B89: =C89/1000 -> 3884.3928 | C89: =D89*E89 -> 3884392.8 | D89: 1352442 | E89: 2.8721326 | F89: =F88*(1+F$81) -> 1.6660055
A90: 2032 | B90: =C90/1000 -> 3876.2618 | C90: =D90*E90 -> 3876261.8 | D90: 1349611 | E90: 2.8721326 | F90: =F89*(1+F$81) -> 1.5563613
A91: 2033 | B91: =C91/1000 -> 3868.754 | C91: =D91*E91 -> 3868754 | D91: 1346997 | E91: 2.8721326 | F91: =F90*(1+F$81) -> 1.4539331
A92: 2034 | B92: =C92/1000 -> 3861.9499 | C92: =D92*E92 -> 3861949.9 | D92: 1344628 | E92: 2.8721326 | F92: =F91*(1+F$81) -> 1.358246
A93: 2035 | B93: =C93/1000 -> 3855.9386 | C93: =D93*E93 -> 3855938.6 | D93: 1342535 | E93: 2.8721326 | F93: =F92*(1+F$81) -> 1.2688562
A94: 2036 | B94: =C94/1000 -> 3851.3317 | C94: =D94*E94 -> 3851331.7 | D94: 1340931 | E94: 2.8721326 | F94: =F93*(1+F$81) -> 1.1853495
... A107: 2049 | B107: =C107/1000 -> 3791.9877 | C107: =D107*E107 -> 3791987.7 | D107: 1320269 | E107: 2.8721326 | F107: =F106*(1+F$81) -> 0.48920211
A108: 2050 | B108: =C108/1000 -> 3785.7207 | C108: =D108*E109 -> 3785720.7 | D108: 1318087 | E108: 2.8721326 | F108: =F107*(1+F$81) -> 0.45700644
E109: 2.8721326 | F109: =F108*(1+F$81) -> 0.42692964
A110: Buildings GWh | B110: Buildings FEC GWh | C110: Total consumption MWh | D110: Population | E110: Per capita/MWh
A111: 2000 | B111: 14133 | C111: =B111*1000 -> 14133000 | D111: 1401250 | E111: =C111/D111 -> 10.085995
A112: 2001 | B112: 14462 | C112: =B112*1000 -> 14462000 | D112: 1392720 | E112: =C112/D112 -> 10.383997
A113: 2002 | B113: 14135 | C113: =B113*1000 -> 14135000 | D113: 1383510 | E113: =C113/D113 -> 10.216767
A114: 2003 | B114: 14689 | C114: =B114*1000 -> 14689000 | D114: 1375190 | E114: =C114/D114 -> 10.681433
A115: 2004 | B115: 15152 | C115: =B115*1000 -> 15152000 | D115: 1366250 | E115: =C115/D115 -> 11.09021
A116: 2005 | B116: 14866 | C116: =B116*1000 -> 14866000 | D116: 1358850 | E116: =C116/D116 -> 10.940133
A117: 2006 | B117: 14869 | C117: =B117*1000 -> 14869000 | D117: 1350700 | E117: =C117/D117 -> 11.008366
A118: 2007 | B118: 15950 | C118: =B118*1000 -> 15950000 | D118: 1342920 | E118: =C118/D118 -> 11.877104
A119: 2008 | B119: 16111 | C119: =B119*1000 -> 16111000 | D119: 1338440 | E119: =C119/D119 -> 12.037148
A120: 2009 | B120: 16153 | C120: =B120*1000 -> 16153000 | D120: 1335740 | E120: =C120/D120 -> 12.092922
A121: 2010 | B121: 16879 | C121: =B121*1000 -> 16879000 | D121: 1333290 | E121: =C121/D121 -> 12.659661
A122: 2011 | B122: 15558 | C122: =B122*1000 -> 15558000 | D122: 1329660 | E122: =C122/D122 -> 11.700736
... A130: 2019 | B130: 16441 | C130: =B130*1000 -> 16441000 | D130: 1324820 | E130: =C130/D130 -> 12.409988
A131: 2020 | B131: 16423 | C131: =B131*1000 -> 16423000 | D131: 1328889 | E131: =C131/D131 -> 12.358444 | G131: Last 10 years average
A132: 2021 | B132: 17179 | C132: =B132*1000 -> 17179000 | D132: 1330068 | E132: =C132/D132 -> 12.915881
A133: 2022 | B133: 16514 | C133: =B133*1000 -> 16514000 | D133: 1331796 | E133: =C133/D133 -> 12.399797
A134: 2023 | B134: 15085 | C134: =B134*1000 -> 15085000 | D134: 1365884 | E134: =C134/D134 -> 11.04413 | F134: =(E133/E124)^(1/10)-1 -> 0.0040592021
A135: 2024 | B135: =C135/1000 -> 15243.849 | C135: =D135*E135 -> 15243849 | D135: 1374687 | E135: =F135 -> 11.08896 | F135: =E134*(1+F134) -> 11.08896
A136: 2025 | B136: =C136/1000 -> 15253.486 | C136: =D136*E136 -> 15253486 | D136: 1369995 | E136: =F136 -> 11.133972 | F136: =F135*(1+$F$134) -> 11.133972
A137: 2026 | B137: =C137/1000 -> 15236.691 | C137: =D137*E137 -> 15236691 | D137: 1362954 | E137: =F137 -> 11.179167 | F137: =F136*(1+$F$134) -> 11.179167
A138: 2027 | B138: =C138/1000 -> 15340.486 | C138: =D138*E138 -> 15340486 | D138: 1366691 | E138: =F138 -> 11.224546 | F138: =F137*(1+$F$134) -> 11.224546
A139: 2028 | B139: =C139/1000 -> 15357.754 | C139: =D139*E139 -> 15357754 | D139: 1362698 | E139: =F139 -> 11.270109 | F139: =F138*(1+$F$134) -> 11.270109
A140: 2029 | B140: =C140/1000 -> 15376.336 | C140: =D140*E140 -> 15376336 | D140: 1358831 | E140: =F140 -> 11.315856 | F140: =F139*(1+$F$134) -> 11.315856
A141: 2030 | B141: =C141/1000 -> 15400.769 | C141: =D141*E141 -> 15400769 | D141: 1355488 | E141: =F141 -> 11.36179 | F141: =F140*(1+$F$134) -> 11.36179
A142: 2031 | B142: =C142/1000 -> 15428.536 | C142: =D142*E142 -> 15428536 | D142: 1352442 | E142: =F142 -> 11.407909 | F142: =F141*(1+$F$134) -> 11.407909
A143: 2032 | B143: =C143/1000 -> 15458.736 | C143: =D143*E143 -> 15458736 | D143: 1349611 | E143: =F143 -> 11.454216 | F143: =F142*(1+$F$134) -> 11.454216
A144: 2033 | B144: =C144/1000 -> 15491.424 | C144: =D144*E144 -> 15491424 | D144: 1346997 | E144: =F144 -> 11.500711 | F144: =F143*(1+$F$134) -> 11.500711
A145: 2034 | B145: =C145/1000 -> 15526.951 | C145: =D145*E145 -> 15526951 | D145: 1344628 | E145: =F145 -> 11.547395 | F145: =F144*(1+$F$134) -> 11.547395
A146: 2035 | B146: =C146/1000 -> 15565.711 | C146: =D146*E146 -> 15565711 | D146: 1342535 | E146: =F146 -> 11.594268 | F146: =F145*(1+$F$134) -> 11.594268
A147: 2036 | B147: =C147/1000 -> 15610.223 | C147: =D147*E147 -> 15610223 | D147: 1340931 | E147: =F147 -> 11.641332 | F147: =F146*(1+$F$134) -> 11.641332
... A160: 2049 | B160: =C160/1000 -> 16200.793 | C160: =D160*E160 -> 16200793 | D160: 1320269 | E160: =F160 -> 12.270827 | F160: =F159*(1+$F$134) -> 12.270827
A161: 2050 | B161: =C161/1000 -> 16305.591 | C161: =D161*E162 -> 16305591 | D161: 1318087 | E161: =F161 -> 12.320637 | F161: =F160*(1+$F$134) -> 12.320637
E162: =F162 -> 12.370649 | F162: =F161*(1+$F$134) -> 12.370649
A163: Transport | B163: Transport FEC GWh | C163: Total consumption MWh | D163: Population | E163: Per capita/MWh
A164: 2000 | B164: 7732 | C164: =B164*1000 -> 7732000 | D164: 1401250 | E164: =C164/D164 -> 5.5179304
A165: 2001 | B165: 7875 | C165: =B165*1000 -> 7875000 | D165: 1392720 | E165: =C165/D165 -> 5.6544029
A166: 2002 | B166: 7843 | C166: =B166*1000 -> 7843000 | D166: 1383510 | E166: =C166/D166 -> 5.6689146
A167: 2003 | B167: 8131 | C167: =B167*1000 -> 8131000 | D167: 1375190 | E167: =C167/D167 -> 5.9126375
...

Sheet LAT_FEC
A1: Total FEC, GWh | F1: APS | J1: EURELECTRIC | N1: JRC | R1: APS | V1: EUROELECTRIC | Z1: JRC
B2: Industry | C2: Buildings | D2: Transport | F2: Industry | G2: Buildings | H2: Transport | J2: Industry | K2: Buildings | L2: Transport | N2: Industry | O2: Buildings | P2: Transport | R2: Industry | S2: Buildings | T2: Transport | V2: Industry | W2: Buildings | X2: Transport | Z2: Industry | AA2: Buildings | AB2: Transport
A3: 2000 | B3: =B58 -> 6686 | C3: =B111 -> 20927.795 | D3: =B164 -> 8410.8401 | F3: 0.21430946 | G3: 0.13 | H3: 0.018065326 | J3: 0.21430946 | K3: 0.13 | L3: 0.018065326 | N3: 0.21430946 | O3: 0.13 | P3: 0.018065326 | R3: =F3*B3 -> 1432.873 | S3: =G3*C3 -> 2720.6133 | T3: =H3*D3 -> 151.94457 | V3: =J3*B3 -> 1432.873 | W3: =K3*C3 -> 2720.6133 | X3: =L3*D3 -> 151.94457 | Z3: =N3*B3 -> 1432.873 | AA3: =O3*C3 -> 2720.6133 | AB3: =P3*D3 -> 151.94457
A4: 2001 | B4: =B59 -> 7109 | C4: =B112 -> 22613.074 | D4: =B165 -> 9915.0079 | F4: 0.21732505 | G4: 0.12 | H4: 0.017425898 | J4: 0.21732505 | K4: 0.12 | L4: 0.017425898 | N4: 0.21732505 | O4: 0.12 | P4: 0.017425898 | R4: =F4*B4 -> 1544.9638 | S4: =G4*C4 -> 2713.5688 | T4: =H4*D4 -> 172.77792 | V4: =J4*B4 -> 1544.9638 | W4: =K4*C4 -> 2713.5688 | X4: =L4*D4 -> 172.77792 | Z4: =N4*B4 -> 1544.9638 | AA4: =O4*C4 -> 2713.5688 | AB4: =P4*D4 -> 172.77792
A5: 2002 | B5: =B60 -> 7212 | C5: =B113 -> 22865.018 | D5: =B166 -> 10170.008 | F5: 0.21157846 | G5: 0.13 | H5: 0.014148367 | J5: 0.21157846 | K5: 0.13 | L5: 0.014148367 | N5: 0.21157846 | O5: 0.13 | P5: 0.014148367 | R5: =F5*B5 -> 1525.9039 | S5: =G5*C5 -> 2972.4524 | T5: =H5*D5 -> 143.889 | V5: =J5*B5 -> 1525.9039 | W5: =K5*C5 -> 2972.4524 | X5: =L5*D5 -> 143.889 | Z5: =N5*B5 -> 1525.9039 | AA5: =O5*C5 -> 2972.4524 | AB5: =P5*D5 -> 143.889
A6: 2003 | B6: =B61 -> 7296 | C6: =B114 -> 24004.186 | D6: =B167 -> 10708.064 | F6: 0.2199802 | G6: 0.14 | H6: 0.012685154 | J6: 0.2199802 | K6: 0.14 | L6: 0.012685154 | N6: 0.2199802 | O6: 0.14 | P6: 0.012685154 | R6: =F6*B6 -> 1604.9756 | S6: =G6*C6 -> 3360.586 | T6: =H6*D6 -> 135.83344 | V6: =J6*B6 -> 1604.9756 | W6: =K6*C6 -> 3360.586 | X6: =L6*D6 -> 135.83344 | Z6: =N6*B6 -> 1604.9756 | AA6: =O6*C6 -> 3360.586 | AB6: =P6*D6 -> 135.83344
A7: 2004 | B7: =B62 -> 7781 | C7: =B115 -> 24070.019 | D7: =B168 -> 11234.453 | F7: 0.20998893 | G7: 0.14 | H7: 0.012362773 | J7: 0.20998893 | K7: 0.14 | L7: 0.012362773 | N7: 0.20998893 | O7: 0.14 | P7: 0.012362773 | R7: =F7*B7 -> 1633.9239 | S7: =G7*C7 -> 3369.8027 | T7: =H7*D7 -> 138.889 | V7: =J7*B7 -> 1633.9239 | W7: =K7*C7 -> 3369.8027 | X7: =L7*D7 -> 138.889 | Z7: =N7*B7 -> 1633.9239 | AA7: =O7*C7 -> 3369.8027 | AB7: =P7*D7 -> 138.889
A8: 2005 | B8: =B63 -> 8199 | C8: =B116 -> 24413.631 | D8: =B169 -> 11746.121 | F8: 0.20734517 | G8: 0.15 | H8: 0.012580996 | J8: 0.20734517 | K8: 0.15 | L8: 0.012580996 | N8: 0.20734517 | O8: 0.15 | P8: 0.012580996 | R8: =F8*B8 -> 1700.023 | S8: =G8*C8 -> 3662.0446 | T8: =H8*D8 -> 147.7779 | V8: =J8*B8 -> 1700.023 | W8: =K8*C8 -> 3662.0446 | X8: =L8*D8 -> 147.7779 | Z8: =N8*B8 -> 1700.023 | AA8: =O8*C8 -> 3662.0446 | AB8: =P8*D8 -> 147.7779
A9: 2006 | B9: =B64 -> 8627 | C9: =B117 -> 24618.353 | D9: =B170 -> 12963.899 | F9: 0.20388975 | G9: 0.16 | H9: 0.011570602 | J9: 0.20388975 | K9: 0.16 | L9: 0.011570602 | N9: 0.20388975 | O9: 0.16 | P9: 0.011570602 | R9: =F9*B9 -> 1758.9569 | S9: =G9*C9 -> 3938.9365 | T9: =H9*D9 -> 150.00012 | V9: =J9*B9 -> 1758.9569 | W9: =K9*C9 -> 3938.9365 | X9: =L9*D9 -> 150.00012 | Z9: =N9*B9 -> 1758.9569 | AA9: =O9*C9 -> 3938.9365 | AB9: =P9*D9 -> 150.00012
A10: 2007 | B10: =B65 -> 8416 | C10: =B118 -> 24904.742 | D10: =B171 -> 14595.012 | F10: 0.21574969 | G10: 0.18 | H10: 0.0095732937 | J10: 0.21574969 | K10: 0.18 | L10: 0.0095732937 | N10: 0.21574969 | O10: 0.18 | P10: 0.0095732937 | R10: =F10*B10 -> 1815.7494 | S10: =G10*C10 -> 4482.8536 | T10: =H10*D10 -> 139.72233 | V10: =J10*B10 -> 1815.7494 | W10: =K10*C10 -> 4482.8536 | X10: =L10*D10 -> 139.72233 | Z10: =N10*B10 -> 1815.7494 | AA10: =O10*C10 -> 4482.8536 | AB10: =P10*D10 -> 139.72233
A11: 2008 | B11: =B66 -> 8983 | C11: =B119 -> 23987 | D11: =B172 -> 15175 | F11: 0.19 | G11: 0.19 | H11: 0.009 | J11: 0.19 | K11: 0.19 | L11: 0.009 | N11: 0.19 | O11: 0.19 | P11: 0.009 | R11: =F11*B11 -> 1706.77 | S11: =G11*C11 -> 4557.53 | T11: =H11*D11 -> 136.575 | V11: =J11*B11 -> 1706.77 | W11: =K11*C11 -> 4557.53 | X11: =L11*D11 -> 136.575 | Z11: =N11*B11 -> 1706.77 | AA11: =O11*C11 -> 4557.53 | AB11: =P11*D11 -> 136.575
A12: 2009 | B12: =B67 -> 8302 | C12: =B120 -> 24523 | D12: =B173 -> 13445 | F12: 0.18 | G12: 0.18 | H12: 0.009 | J12: 0.18 | K12: 0.18 | L12: 0.009 | N12: 0.18 | O12: 0.18 | P12: 0.009 | R12: =F12*B12 -> 1494.36 | S12: =G12*C12 -> 4414.14 | T12: =H12*D12 -> 121.005 | V12: =J12*B12 -> 1494.36 | W12: =K12*C12 -> 4414.14 | X12: =L12*D12 -> 121.005 | Z12: =N12*B12 -> 1494.36 | AA12: =O12*C12 -> 4414.14 | AB12: =P12*D12 -> 121.005
A13: 2010 | B13: =B68 -> 9694 | C13: =B121 -> 23144 | D13: =B174 -> 14126 | F13: 0.16 | G13: 0.19 | H13: 0.009 | J13: 0.16 | K13: 0.19 | L13: 0.009 | N13: 0.16 | O13: 0.19 | P13: 0.009 | R13: =F13*B13 -> 1551.04 | S13: =G13*C13 -> 4397.36 | T13: =H13*D13 -> 127.134 | V13: =J13*B13 -> 1551.04 | W13: =K13*C13 -> 4397.36 | X13: =L13*D13 -> 127.134 | Z13: =N13*B13 -> 1551.04 | AA13: =O13*C13 -> 4397.36 | AB13: =P13*D13 -> 127.134
A14: 2011 | B14: =B69 -> 9607 | C14: =B122 -> 21942 | D14: =B175 -> 12773 | F14: 0.17 | G14: 0.19 | H14: 0.01 | J14: 0.17 | K14: 0.19 | L14: 0.01 | N14: 0.17 | O14: 0.19 | P14: 0.01 | R14: =F14*B14 -> 1633.19 | S14: =G14*C14 -> 4168.98 | T14: =H14*D14 -> 127.73 | V14: =J14*B14 -> 1633.19 | W14: =K14*C14 -> 4168.98 | X14: =L14*D14 -> 127.73 | Z14: =N14*B14 -> 1633.19 | AA14: =O14*C14 -> 4168.98 | AB14: =P14*D14 -> 127.73
... A26: 2023 | B26: =B81 -> 11700 | C26: =B134 -> 18750 | D26: =B187 -> 13779 | F26: 0.15 | G26: 0.23 | H26: 0.008 | J26: 0.15 | K26: 0.23 | L26: 0.008 | N26: 0.15 | O26: 0.23 | P26: 0.008 | R26: =F26*B26 -> 1755 | S26: =G26*C26 -> 4312.5 | T26: =H26*D26 -> 110.232 | V26: =J26*B26 -> 1755 | W26: =K26*C26 -> 4312.5 | X26: =L26*D26 -> 110.232 | Z26: =N26*B26 -> 1755 | AA26: =O26*C26 -> 4312.5 | AB26: =P26*D26 -> 110.232
A27: 2024 | B27: =B82 -> 11598 | C27: =B135 -> 19027 | D27: =B188 -> 12970 | F27: ='LAT Scenario projections '!D5 -> 0.16714286 | G27: ='LAT Scenario projections '!C5 -> 0.25428571 | H27: ='LAT Scenario projections '!E5 -> 0.0077142857 | J27: ='LAT Scenario projections '!K5 -> 0.166 | K27: ='LAT Scenario projections '!J5 -> 0.24941176 | L27: ='LAT Scenario projections '!L5 -> 0.011 | N27: ='LAT Scenario projections '!R5 -> 0.166 | O27: ='LAT Scenario projections '!Q5 -> 0.24941176 | P27: ='LAT Scenario projections '!S5 -> 0.011 | R27: =F27*B27 -> 1938.5229 | S27: =G27*C27 -> 4838.2943 | T27: =H27*D27 -> 100.05429 | V27: =J27*B27 -> 1925.268 | W27: =K27*C27 -> 4745.5576 | X27: =L27*D27 -> 142.67 | Z27: =N27*B27 -> 1925.268 | AA27: =O27*C27 -> 4745.5576 | AB27: =P27*D27 -> 142.67
A28: 2025 | B28: =B83 -> 12048.673 | C28: =B136 -> 18240.805 | D28: =B189 -> 14061.776 | F28: ='LAT Scenario projections '!D6 -> 0.18428571 | G28: ='LAT Scenario projections '!C6 -> 0.27857143 | H28: ='LAT Scenario projections '!E6 -> 0.032 | J28: ='LAT Scenario projections '!K6 -> 0.185625 | K28: ='LAT Scenario projections '!J6 -> 0.26882353 | L28: ='LAT Scenario projections '!L6 -> 0.0290625 | N28: ='LAT Scenario projections '!R6 -> 0.17884615 | O28: ='LAT Scenario projections '!Q6 -> 0.25922658 | P28: ='LAT Scenario projections '!S6 -> 0.025 | R28: =F28*B28 -> 2220.3983 | S28: =G28*C28 -> 5081.3672 | T28: =H28*D28 -> 449.97682 | V28: =J28*B28 -> 2236.5349 | W28: =K28*C28 -> 4903.5577 | X28: =L28*D28 -> 408.67036 | Z28: =N28*B28 -> 2154.8588 | AA28: =O28*C28 -> 4728.5016 | AB28: =P28*D28 -> 351.54439
A29: 2026 | B29: =B84 -> 12157.9 | C29: =B137 -> 17889.906 | D29: =B190 -> 14125.182 | F29: ='LAT Scenario projections '!D7 -> 0.20142857 | G29: ='LAT Scenario projections '!C7 -> 0.30285714 | H29: ='LAT Scenario projections '!E7 -> 0.056285714 | J29: ='LAT Scenario projections '!K7 -> 0.20525 | K29: ='LAT Scenario projections '!J7 -> 0.28823529 | L29: ='LAT Scenario projections '!L7 -> 0.047125 | N29: ='LAT Scenario projections '!R7 -> 0.19169231 | O29: ='LAT Scenario projections '!Q7 -> 0.26904139 | P29: ='LAT Scenario projections '!S7 -> 0.039 | R29: =F29*B29 -> 2448.9484 | S29: =G29*C29 -> 5418.0857 | T29: =H29*D29 -> 795.04598 | V29: =J29*B29 -> 2495.4089 | W29: =K29*C29 -> 5156.5022 | X29: =L29*D29 -> 665.64922 | Z29: =N29*B29 -> 2330.5759 | AA29: =O29*C29 -> 4813.1251 | AB29: =P29*D29 -> 550.88211
A30: 2027 | B30: =B85 -> 12262.949 | C30: =B138 -> 17538.364 | D30: =B191 -> 14182.898 | F30: ='LAT Scenario projections '!D8 -> 0.21857143 | G30: ='LAT Scenario projections '!C8 -> 0.32714286 | H30: ='LAT Scenario projections '!E8 -> 0.080571429 | J30: ='LAT Scenario projections '!K8 -> 0.224875 | K30: ='LAT Scenario projections '!J8 -> 0.30764706 | L30: ='LAT Scenario projections '!L8 -> 0.0651875 | N30: ='LAT Scenario projections '!R8 -> 0.20453846 | O30: ='LAT Scenario projections '!Q8 -> 0.27885621 | P30: ='LAT Scenario projections '!S8 -> 0.053 | R30: =F30*B30 -> 2680.3302 | S30: =G30*C30 -> 5737.5506 | T30: =H30*D30 -> 1142.7363 | V30: =J30*B30 -> 2757.6305 | W30: =K30*C30 -> 5395.6262 | X30: =L30*D30 -> 924.54763 | Z30: =N30*B30 -> 2508.2446 | AA30: =O30*C30 -> 4890.6818 | AB30: =P30*D30 -> 751.69357
A31: 2028 | B31: =B86 -> 12362.059 | C31: =B139 -> 17184.215 | D31: =B192 -> 14232.967 | F31: ='LAT Scenario projections '!D9 -> 0.23571429 | G31: ='LAT Scenario projections '!C9 -> 0.35142857 | H31: ='LAT Scenario projections '!E9 -> 0.10485714 | J31: ='LAT Scenario projections '!K9 -> 0.2445 | K31: ='LAT Scenario projections '!J9 -> 0.32705882 | L31: ='LAT Scenario projections '!L9 -> 0.08325 | N31: ='LAT Scenario projections '!R9 -> 0.21738462 | O31: ='LAT Scenario projections '!Q9 -> 0.28867102 | P31: ='LAT Scenario projections '!S9 -> 0.067 | R31: =F31*B31 -> 2913.9139 | S31: =G31*C31 -> 6039.0241 | T31: =H31*D31 -> 1492.4282 | V31: =J31*B31 -> 3022.5235 | W31: =K31*C31 -> 5620.2491 | X31: =L31*D31 -> 1184.8945 | Z31: =N31*B31 -> 2687.3215 | AA31: =O31*C31 -> 4960.5849 | AB31: =P31*D31 -> 953.60877
A32: 2029 | B32: =B87 -> 12462.553 | C32: =B140 -> 16838.003 | D32: =B193 -> 14283.879 | F32: ='LAT Scenario projections '!D10 -> 0.25285714 | G32: ='LAT Scenario projections '!C10 -> 0.37571429 | H32: ='LAT Scenario projections '!E10 -> 0.12914286 | J32: ='LAT Scenario projections '!K10 -> 0.264125 | K32: ='LAT Scenario projections '!J10 -> 0.34647059 | L32: ='LAT Scenario projections '!L10 -> 0.1013125 | N32: ='LAT Scenario projections '!R10 -> 0.23023077 | O32: ='LAT Scenario projections '!Q10 -> 0.29848584 | P32: ='LAT Scenario projections '!S10 -> 0.081 | R32: =F32*B32 -> 3151.2454 | S32: =G32*C32 -> 6326.2781 | T32: =H32*D32 -> 1844.661 | V32: =J32*B32 -> 3291.6717 | W32: =K32*C32 -> 5833.8726 | X32: =L32*D32 -> 1447.1355 | Z32: =N32*B32 -> 2869.2631 | AA32: =O32*C32 -> 5025.9053 | AB32: =P32*D32 -> 1156.9942
A33: 2030 | B33: =B88 -> 12564.558 | C33: =B141 -> 16499.678 | D33: =B194 -> 14335.767 | F33: ='LAT Scenario projections '!D11 -> 0.27 | G33: ='LAT Scenario projections '!C11 -> 0.4 | H33: ='LAT Scenario projections '!E11 -> 0 | J33: ='LAT Scenario projections '!K11 -> 0.28375 | K33: ='LAT Scenario projections '!J11 -> 0.36588235 | L33: ='LAT Scenario projections '!L11 -> 0.119375 | N33: ='LAT Scenario projections '!R11 -> 0.24307692 | O33: ='LAT Scenario projections '!Q11 -> 0.30830065 | P33: ='LAT Scenario projections '!S11 -> 0.095 | R33: =F33*B33 -> 3392.4306 | S33: =G33*C33 -> 6599.8713 | T33: =H33*D33 -> 0 | V33: =J33*B33 -> 3565.1933 | W33: =K33*C33 -> 6036.9411 | X33: =L33*D33 -> 1711.3322 | Z33: =N33*B33 -> 3054.1541 | AA33: =O33*C33 -> 5086.8616 | AB33: =P33*D33 -> 1361.8979
A34: 2031 | B34: =B89 -> 12668.644 | C34: =B142 -> 16169.741 | D34: =B195 -> 14389.258 | F34: ='LAT Scenario projections '!D12 -> 0.2565 | G34: ='LAT Scenario projections '!C12 -> 0.405 | H34: ='LAT Scenario projections '!E12 -> 0 | J34: ='LAT Scenario projections '!K12 -> 0.303375 | K34: ='LAT Scenario projections '!J12 -> 0.38529412 | L34: ='LAT Scenario projections '!L12 -> 0.1374375 | N34: ='LAT Scenario projections '!R12 -> 0.25592308 | O34: ='LAT Scenario projections '!Q12 -> 0.31811547 | P34: ='LAT Scenario projections '!S12 -> 0.109 | R34: =F34*B34 -> 3249.5071 | S34: =G34*C34 -> 6548.7452 | T34: =H34*D34 -> 0 | V34: =J34*B34 -> 3843.3497 | W34: =K34*C34 -> 6230.1062 | X34: =L34*D34 -> 1977.6236 | Z34: =N34*B34 -> 3242.1982 | AA34: =O34*C34 -> 5143.8448 | AB34: =P34*D34 -> 1568.4291
A35: 2032 | B35: =B90 -> 12776.643 | C35: =B143 -> 15850.188 | D35: =B196 -> 14446.399 | F35: ='LAT Scenario projections '!D13 -> 0.243 | G35: ='LAT Scenario projections '!C13 -> 0.41 | H35: ='LAT Scenario projections '!E13 -> 0 | J35: ='LAT Scenario projections '!K13 -> 0.323 | K35: ='LAT Scenario projections '!J13 -> 0.40470588 | L35: ='LAT Scenario projections '!L13 -> 0.1555 | N35: ='LAT Scenario projections '!R13 -> 0.26876923 | O35: ='LAT Scenario projections '!Q13 -> 0.32793028 | P35: ='LAT Scenario projections '!S13 -> 0.123 | R35: =F35*B35 -> 3104.7243 | S35: =G35*C35 -> 6498.5771 | T35: =H35*D35 -> 0 | V35: =J35*B35 -> 4126.8558 | W35: =K35*C35 -> 6414.6643 | X35: =L35*D35 -> 2246.4151 | Z35: =N35*B35 -> 3433.9686 | AA35: =O35*C35 -> 5197.7566 | AB35: =P35*D35 -> 1776.9071
A36: 2033 | B36: =B91 -> 12889.435 | C36: =B144 -> 15541.617 | D36: =B197 -> 14508.124 | F36: ='LAT Scenario projections '!D14 -> 0.2295 | G36: ='LAT Scenario projections '!C14 -> 0.415 | H36: ='LAT Scenario projections '!E14 -> 0 | J36: ='LAT Scenario projections '!K14 -> 0.342625 | K36: ='LAT Scenario projections '!J14 -> 0.42411765 | L36: ='LAT Scenario projections '!L14 -> 0.1735625 | N36: ='LAT Scenario projections '!R14 -> 0.28161538 | O36: ='LAT Scenario projections '!Q14 -> 0.3377451 | P36: ='LAT Scenario projections '!S14 -> 0.137 | R36: =F36*B36 -> 2958.1252 | S36: =G36*C36 -> 6449.7711 | T36: =H36*D36 -> 0 | V36: =J36*B36 -> 4416.2425 | W36: =K36*C36 -> 6591.4741 | X36: =L36*D36 -> 2518.0663 | Z36: =N36*B36 -> 3629.8631 | AA36: =O36*C36 -> 5249.105 | AB36: =P36*D36 -> 1987.613
A37: 2034 | B37: =B92 -> 13007.733 | C37: =B145 -> 15244.341 | D37: =B198 -> 14575.168 | F37: ='LAT Scenario projections '!D15 -> 0.216 | G37: ='LAT Scenario projections '!C15 -> 0.42 | H37: ='LAT Scenario projections '!E15 -> 0 | J37: ='LAT Scenario projections '!K15 -> 0.36225 | K37: ='LAT Scenario projections '!J15 -> 0.44352941 | L37: ='LAT Scenario projections '!L15 -> 0.191625 | N37: ='LAT Scenario projections '!R15 -> 0.29446154 | O37: ='LAT Scenario projections '!Q15 -> 0.34755991 | P37: ='LAT Scenario projections '!S15 -> 0.151 | R37: =F37*B37 -> 2809.6703 | S37: =G37*C37 -> 6402.623 | T37: =H37*D37 -> 0 | V37: =J37*B37 -> 4712.0512 | W37: =K37*C37 -> 6761.3134 | X37: =L37*D37 -> 2792.9665 | Z37: =N37*B37 -> 3830.277 | AA37: =O37*C37 -> 5298.3217 | AB37: =P37*D37 -> 2200.8503
A38: 2035 | B38: =B93 -> 13142.613 | C38: =B146 -> 14970.402 | D38: =B199 -> 14659.806 | F38: ='LAT Scenario projections '!D16 -> 0.2025 | G38: ='LAT Scenario projections '!C16 -> 0.425 | H38: ='LAT Scenario projections '!E16 -> 0 | J38: ='LAT Scenario projections '!K16 -> 0.381875 | K38: ='LAT Scenario projections '!J16 -> 0.46294118 | L38: ='LAT Scenario projections '!L16 -> 0.2096875 | N38: ='LAT Scenario projections '!R16 -> 0.30730769 | O38: ='LAT Scenario projections '!Q16 -> 0.35737473 | P38: ='LAT Scenario projections '!S16 -> 0.165 | R38: =F38*B38 -> 2661.3792 | S38: =G38*C38 -> 6362.4207 | T38: =H38*D38 -> 0 | V38: =J38*B38 -> 5018.8354 | W38: =K38*C38 -> 6930.4154 | X38: =L38*D38 -> 3073.9781 | Z38: =N38*B38 -> 4038.8262 | AA38: =O38*C38 -> 5350.0432 | AB38: =P38*D38 -> 2418.8681
... A53: 2050 | B53: =B108 -> 15704.266 | C53: =B161 -> 11674.54 | D53: =B214 -> 16367.505 | F53: ='LAT Scenario projections '!D31 -> 0 | G53: ='LAT Scenario projections '!C31 -> 0.5 | H53: ='LAT Scenario projections '!E31 -> 0 | J53: ='LAT Scenario projections '!K31 -> 0.62 | K53: ='LAT Scenario projections '!J31 -> 0.6 | L53: ='LAT Scenario projections '!L31 -> 0.6 | N53: ='LAT Scenario projections '!R31 -> 0.5 | O53: ='LAT Scenario projections '!Q31 -> 0.495 | P53: ='LAT Scenario projections '!S31 -> 0.375 | R53: =F53*B53 -> 0 | S53: =G53*C53 -> 5837.27 | T53: =H53*D53 -> 0 | V53: =J53*B53 -> 9736.6452 | W53: =K53*C53 -> 7004.724 | X53: =L53*D53 -> 9820.5033 | Z53: =N53*B53 -> 7852.1332 | AA53: =O53*C53 -> 5778.8973 | AB53: =P53*D53 -> 6137.8145
A57: Industry | B57: Industry FEC GWh | C57: Total consumption MWh | D57: Population | E57: Per capita/MWh
A58: 2000 | B58: 6686 | C58: =B58*1000 -> 6686000 | D58: 2367550 | E58: =C58/D58 -> 2.8240164
A59: 2001 | B59: 7109 | C59: =B59*1000 -> 7109000 | D59: 2337170 | E59: =C59/D59 -> 3.0417128
A60: 2002 | B60: 7212 | C60: =B60*1000 -> 7212000 | D60: 2310173 | E60: =C60/D60 -> 3.1218441
A61: 2003 | B61: 7296 | C61: =B61*1000 -> 7296000 | D61: 2287955 | E61: =C61/D61 -> 3.1888739
A62: 2004 | B62: 7781 | C62: =B62*1000 -> 7781000 | D62: 2263122 | E62: =C62/D62 -> 3.4381708
A63: 2005 | B63: 8199 | C63: =B63*1000 -> 8199000 | D63: 2238799 | E63: =C63/D63 -> 3.6622314
A64: 2006 | B64: 8627 | C64: =B64*1000 -> 8627000 | D64: 2218357 | E64: =C64/D64 -> 3.8889142
A65: 2007 | B65: 8416 | C65: =B65*1000 -> 8416000 | D65: 2200325 | E65: =C65/D65 -> 3.8248895
A66: 2008 | B66: 8983 | C66: =B66*1000 -> 8983000 | D66: 2177322 | E66: =C66/D66 -> 4.1257104
A67: 2009 | B67: 8302 | C67: =B67*1000 -> 8302000 | D67: 2141669 | E67: =C67/D67 -> 3.876416
A68: 2010 | B68: 9694 | C68: =B68*1000 -> 9694000 | D68: 2097555 | E68: =C68/D68 -> 4.6215713
A69: 2011 | B69: 9607 | C69: =B69*1000 -> 9607000 | D69: 2059709 | E69: =C69/D69 -> 4.6642511
... A78: 2020 | B78: 11004 | C78: =B78*1000 -> 11004000 | D78: 1900449 | E78: =C78/D78 -> 5.7902106
A79: 2021 | B79: 11445 | C79: =B79*1000 -> 11445000 | D79: 1884490 | E79: =C79/D79 -> 6.0732612 | H79: Last 10 years average
A80: 2022 | B80: 11420 | C80: =B80*1000 -> 11420000 | D80: 1879383 | E80: =C80/D80 -> 6.0764623
A81: 2023 | B81: 11700 | C81: =B81*1000 -> 11700000 | D81: 1883710 | E81: =C81/D81 -> 6.2111472 | F81: =(E81/E72)^(1/10)-1 -> 0.020391654
A82: 2024 | B82: 11598 | C82: =D82*E82 -> 11827126 | D82: 1866124 | E82: 6.3378027 | F82: =E81*(1+F81) -> 6.3378027
A83: 2025 | B83: =C83/1000 -> 12048.673 | C83: =D83*E83 -> 12048673 | D83: 1863089 | E83: 6.467041 | F83: =F82*(1+F$81) -> 6.467041
A84: 2026 | B84: =C84/1000 -> 12157.9 | C84: =D84*E84 -> 12157900 | D84: 1842409 | E84: 6.5989147 | F84: =F83*(1+F$81) -> 6.5989147
A85: 2027 | B85: =C85/1000 -> 12262.949 | C85: =D85*E85 -> 12262949 | D85: 1821191 | E85: 6.7334774 | F85: =F84*(1+F$81) -> 6.7334774
A86: 2028 | B86: =C86/1000 -> 12362.059 | C86: =D86*E86 -> 12362059 | D86: 1799221 | E86: 6.8707842 | F86: =F85*(1+F$81) -> 6.8707842
A87: 2029 | B87: =C87/1000 -> 12462.553 | C87: =D87*E87 -> 12462553 | D87: 1777599 | E87: 7.0108908 | F87: =F86*(1+F$81) -> 7.0108908
A88: 2030 | B88: =C88/1000 -> 12564.558 | C88: =D88*E88 -> 12564558 | D88: 1756334 | E88: 7.1538545 | F88: =F87*(1+F$81) -> 7.1538545
A89: 2031 | B89: =C89/1000 -> 12668.644 | C89: =D89*E89 -> 12668644 | D89: 1735494 | E89: 7.2997334 | F89: =F88*(1+F$81) -> 7.2997334
A90: 2032 | B90: =C90/1000 -> 12776.643 | C90: =D90*E90 -> 12776643 | D90: 1715311 | E90: 7.448587 | F90: =F89*(1+F$81) -> 7.448587
A91: 2033 | B91: =C91/1000 -> 12889.435 | C91: =D91*E91 -> 12889435 | D91: 1695872 | E91: 7.6004761 | F91: =F90*(1+F$81) -> 7.6004761
A92: 2034 | B92: =C92/1000 -> 13007.733 | C92: =D92*E92 -> 13007733 | D92: 1677235 | E92: 7.7554623 | F92: =F91*(1+F$81) -> 7.7554623
A93: 2035 | B93: =C93/1000 -> 13142.613 | C93: =D93*E93 -> 13142613 | D93: 1660761 | E93: 7.913609 | F93: =F92*(1+F$81) -> 7.913609
A94: 2036 | B94: =C94/1000 -> 13282.947 | C94: =D94*E94 -> 13282947 | D94: 1644951 | E94: 8.0749806 | F94: =F93*(1+F$81) -> 8.0749806
... A107: 2049 | B107: =C107/1000 -> 15507.526 | C107: =D107*E107 -> 15507526 | D107: 1477173 | E107: 10.498111 | F107: =F106*(1+F$81) -> 10.498111
A108: 2050 | B108: =C108/1000 -> 15704.266 | C108: =D108*E109 -> 15704266 | D108: 1466019 | E108: 10.712185 | F108: =F107*(1+F$81) -> 10.712185
E109: 10.712185 | F109: =F108*(1+F$81) -> 10.930624
A110: Buildings GWh | B110: Buildings FEC GWh | C110: Total consumption MWh | D110: Population | E110: Per capita/MWh
A111: 2000 | B111: 20927.795 | C111: =B111*1000 -> 20927795 | D111: 2367550 | E111: =C111/D111 -> 8.8394309
A112: 2001 | B112: 22613.074 | C112: =B112*1000 -> 22613074 | D112: 2337170 | E112: =C112/D112 -> 9.6754081
A113: 2002 | B113: 22865.018 | C113: =B113*1000 -> 22865018 | D113: 2310173 | E113: =C113/D113 -> 9.8975351
A114: 2003 | B114: 24004.186 | C114: =B114*1000 -> 24004186 | D114: 2287955 | E114: =C114/D114 -> 10.491546
A115: 2004 | B115: 24070.019 | C115: =B115*1000 -> 24070019 | D115: 2263122 | E115: =C115/D115 -> 10.635759
A116: 2005 | B116: 24413.631 | C116: =B116*1000 -> 24413631 | D116: 2238799 | E116: =C116/D116 -> 10.904789
A117: 2006 | B117: 24618.353 | C117: =B117*1000 -> 24618353 | D117: 2218357 | E117: =C117/D117 -> 11.097561
A118: 2007 | B118: 24904.742 | C118: =B118*1000 -> 24904742 | D118: 2200325 | E118: =C118/D118 -> 11.318665
A119: 2008 | B119: 23987 | C119: =B119*1000 -> 23987000 | D119: 2177322 | E119: =C119/D119 -> 11.016744
A120: 2009 | B120: 24523 | C120: =B120*1000 -> 24523000 | D120: 2141669 | E120: =C120/D120 -> 11.450416
A121: 2010 | B121: 23144 | C121: =B121*1000 -> 23144000 | D121: 2097555 | E121: =C121/D121 -> 11.033799
A122: 2011 | B122: 21942 | C122: =B122*1000 -> 21942000 | D122: 2059709 | E122: =C122/D122 -> 10.652961
A123: 2012 | B123: 23259 | C123: =B123*1000 -> 23259000 | D123: 2034319 | E123: =C123/D123 -> 11.43331
A124: 2013 | B124: 21759 | C124: =B124*1000 -> 21759000 | D124: 2012647 | E124: =C124/D124 -> 10.811136 | F124: =AVERAGE(E123:E125) -> 11.009324
A125: 2014 | B125: 21500 | C125: =B125*1000 -> 21500000 | D125: 1993782 | E125: =C125/D125 -> 10.783526
A126: 2015 | B126: 19702 | C126: =B126*1000 -> 19702000 | D126: 1977527 | E126: =C126/D126 -> 9.9629487
A127: 2016 | B127: 20243 | C127: =B127*1000 -> 20243000 | D127: 1959537 | E127: =C127/D127 -> 10.330502
A128: 2017 | B128: 20994 | C128: =B128*1000 -> 20994000 | D128: 1942248 | E128: =C128/D128 -> 10.809124
A129: 2018 | B129: 21199 | C129: =B129*1000 -> 21199000 | D129: 1927174 | E129: =C129/D129 -> 11.000045
A130: 2019 | B130: 20428 | C130: =B130*1000 -> 20428000 | D130: 1913822 | E130: =C130/D130 -> 10.673929
A131: 2020 | B131: 19383 | C131: =B131*1000 -> 19383000 | D131: 1900449 | E131: =C131/D131 -> 10.199169
A132: 2021 | B132: 20939 | C132: =B132*1000 -> 20939000 | D132: 1884490 | E132: =C132/D132 -> 11.111229
A133: 2022 | B133: 19589 | C133: =B133*1000 -> 19589000 | D133: 1879383 | E133: =C133/D133 -> 10.423102 | F133: =AVERAGE(E132:E134) -> 10.496031
A134: 2023 | B134: 18750 | C134: =B134*1000 -> 18750000 | D134: 1883710 | E134: =C134/D134 -> 9.9537615 | F134: =(E134/E124)^(1/10)-1 -> -0.0082285762 | H134: Last 10 years average
A135: 2024 | B135: 19027 | C135: =D135*E135 -> 18422108 | D135: 1866124 | E135: =F135 -> 9.8718562 | F135: =E134*(1+F134) -> 9.8718562
A136: 2025 | B136: =C136/1000 -> 18240.805 | C136: =D136*E136 -> 18240805 | D136: 1863089 | E136: =F136 -> 9.7906249 | F136: =F135*(1+$F$134) -> 9.7906249
A137: 2026 | B137: =C137/1000 -> 17889.906 | C137: =D137*E137 -> 17889906 | D137: 1842409 | E137: =F137 -> 9.710062 | F137: =F136*(1+$F$134) -> 9.710062
A138: 2027 | B138: =C138/1000 -> 17538.364 | C138: =D138*E138 -> 17538364 | D138: 1821191 | E138: =F138 -> 9.630162 | F138: =F137*(1+$F$134) -> 9.630162
A139: 2028 | B139: =C139/1000 -> 17184.215 | C139: =D139*E139 -> 17184215 | D139: 1799221 | E139: =F139 -> 9.5509194 | F139: =F138*(1+$F$134) -> 9.5509194
A140: 2029 | B140: =C140/1000 -> 16838.003 | C140: =D140*E140 -> 16838003 | D140: 1777599 | E140: =F140 -> 9.472329 | F140: =F139*(1+$F$134) -> 9.472329
A141: 2030 | B141: =C141/1000 -> 16499.678 | C141: =D141*E141 -> 16499678 | D141: 1756334 | E141: =F141 -> 9.3943852 | F141: =F140*(1+$F$134) -> 9.3943852
A142: 2031 | B142: =C142/1000 -> 16169.741 | C142: =D142*E142 -> 16169741 | D142: 1735494 | E142: =F142 -> 9.3170828 | F142: =F141*(1+$F$134) -> 9.3170828
A143: 2032 | B143: =C143/1000 -> 15850.188 | C143: =D143*E143 -> 15850188 | D143: 1715311 | E143: =F143 -> 9.2404165 | F143: =F142*(1+$F$134) -> 9.2404165
A144: 2033 | B144: =C144/1000 -> 15541.617 | C144: =D144*E144 -> 15541617 | D144: 1695872 | E144: =F144 -> 9.164381 | F144: =F143*(1+$F$134) -> 9.164381
A145: 2034 | B145: =C145/1000 -> 15244.341 | C145: =D145*E145 -> 15244341 | D145: 1677235 | E145: =F145 -> 9.0889712 | F145: =F144*(1+$F$134) -> 9.0889712
A146: 2035 | B146: =C146/1000 -> 14970.402 | C146: =D146*E146 -> 14970402 | D146: 1660761 | E146: =F146 -> 9.0141819 | F146: =F145*(1+$F$134) -> 9.0141819
A147: 2036 | B147: =C147/1000 -> 14705.875 | C147: =D147*E147 -> 14705875 | D147: 1644951 | E147: =F147 -> 8.940008 | F147: =F146*(1+$F$134) -> 8.940008
... A161: 2050 | B161: =C161/1000 -> 11674.54 | C161: =D161*E161 -> 11674540 | D161: 1466019 | E161: =F161 -> 7.9634302 | F161: =F160*(1+$F$134) -> 7.9634302
...

Sheet LIT_FEC
A1: Total FEC, GWh | F1: APS | J1: EUROELECTRIC | N1: JRC | R1: APS | V1: EURELECTRIC | Z1: JRC
B2: Industry | C2: Buildings | D2: Transport | F2: Industry | G2: Buildings | H2: Transport | J2: Industry | K2: Buildings | L2: Transport | N2: Industry | O2: Buildings | P2: Transport | R2: Industry | S2: Buildings | T2: Transport | V2: Industry | W2: Buildings | X2: Transport | Z2: Industry | AA2: Buildings | AB2: Transport
A3: 2000 | B3: =B58 -> 8619 | C3: =B111 -> 21284 | D3: =B164 -> 12284 | F3: 0.25 | G3: 0.17 | H3: 0.006 | J3: 0.25 | K3: 0.17 | L3: 0.006 | N3: 0.25 | O3: 0.17 | P3: 0.006 | R3: =F3*B3 -> 2154.75 | S3: =G3*C3 -> 3618.28 | T3: =H3*D3 -> 73.704 | V3: =J3*B3 -> 2154.75 | W3: =K3*C3 -> 3618.28 | X3: =L3*D3 -> 73.704 | Z3: =N3*B3 -> 2154.75 | AA3: =O3*C3 -> 3618.28 | AB3: =P3*D3 -> 73.704
A4: 2001 | B4: =B59 -> 8565 | C4: =B112 -> 21954 | D4: =B165 -> 13463 | F4: 0.26 | G4: 0.17 | H4: 0.007 | J4: 0.26 | K4: 0.17 | L4: 0.007 | N4: 0.26 | O4: 0.17 | P4: 0.007 | R4: =F4*B4 -> 2226.9 | S4: =G4*C4 -> 3732.18 | T4: =H4*D4 -> 94.241 | V4: =J4*B4 -> 2226.9 | W4: =K4*C4 -> 3732.18 | X4: =L4*D4 -> 94.241 | Z4: =N4*B4 -> 2226.9 | AA4: =O4*C4 -> 3732.18 | AB4: =P4*D4 -> 94.241
A5: 2002 | B5: =B60 -> 9494 | C5: =B113 -> 22423 | D5: =B166 -> 13897 | F5: 0.26 | G5: 0.17 | H5: 0.006 | J5: 0.26 | K5: 0.17 | L5: 0.006 | N5: 0.26 | O5: 0.17 | P5: 0.006 | R5: =F5*B5 -> 2468.44 | S5: =G5*C5 -> 3811.91 | T5: =H5*D5 -> 83.382 | V5: =J5*B5 -> 2468.44 | W5: =K5*C5 -> 3811.91 | X5: =L5*D5 -> 83.382 | Z5: =N5*B5 -> 2468.44 | AA5: =O5*C5 -> 3811.91 | AB5: =P5*D5 -> 83.382
A6: 2003 | B6: =B61 -> 9999 | C6: =B114 -> 23074 | D6: =B167 -> 14191 | F6: 0.25 | G6: 0.19 | H6: 0.006 | J6: 0.25 | K6: 0.19 | L6: 0.006 | N6: 0.25 | O6: 0.19 | P6: 0.006 | R6: =F6*B6 -> 2499.75 | S6: =G6*C6 -> 4384.06 | T6: =H6*D6 -> 85.146 | V6: =J6*B6 -> 2499.75 | W6: =K6*C6 -> 4384.06 | X6: =L6*D6 -> 85.146 | Z6: =N6*B6 -> 2499.75 | AA6: =O6*C6 -> 4384.06 | AB6: =P6*D6 -> 85.146
A7: 2004 | B7: =B62 -> 10276 | C7: =B115 -> 23524 | D7: =B168 -> 15583 | F7: 0.26 | G7: 0.2 | H7: 0.006 | J7: 0.26 | K7: 0.2 | L7: 0.006 | N7: 0.26 | O7: 0.2 | P7: 0.006 | R7: =F7*B7 -> 2671.76 | S7: =G7*C7 -> 4704.8 | T7: =H7*D7 -> 93.498 | V7: =J7*B7 -> 2671.76 | W7: =K7*C7 -> 4704.8 | X7: =L7*D7 -> 93.498 | Z7: =N7*B7 -> 2671.76 | AA7: =O7*C7 -> 4704.8 | AB7: =P7*D7 -> 93.498
A8: 2005 | B8: =B63 -> 11689 | C8: =B116 -> 24075 | D8: =B169 -> 16723 | F8: 0.23 | G8: 0.2 | H8: 0.006 | J8: 0.23 | K8: 0.2 | L8: 0.006 | N8: 0.23 | O8: 0.2 | P8: 0.006 | R8: =F8*B8 -> 2688.47 | S8: =G8*C8 -> 4815 | T8: =H8*D8 -> 100.338 | V8: =J8*B8 -> 2688.47 | W8: =K8*C8 -> 4815 | X8: =L8*D8 -> 100.338 | Z8: =N8*B8 -> 2688.47 | AA8: =O8*C8 -> 4815 | AB8: =P8*D8 -> 100.338
A9: 2006 | B9: =B64 -> 12044 | C9: =B117 -> 25309 | D9: =B170 -> 18029 | F9: 0.23 | G9: 0.21 | H9: 0.005 | J9: 0.23 | K9: 0.21 | L9: 0.005 | N9: 0.23 | O9: 0.21 | P9: 0.005 | R9: =F9*B9 -> 2770.12 | S9: =G9*C9 -> 5314.89 | T9: =H9*D9 -> 90.145 | V9: =J9*B9 -> 2770.12 | W9: =K9*C9 -> 5314.89 | X9: =L9*D9 -> 90.145 | Z9: =N9*B9 -> 2770.12 | AA9: =O9*C9 -> 5314.89 | AB9: =P9*D9 -> 90.145
A10: 2007 | B10: =B65 -> 12336 | C10: =B118 -> 24811 | D10: =B171 -> 21435 | F10: 0.24 | G10: 0.22 | H10: 0.003 | J10: 0.24 | K10: 0.22 | L10: 0.003 | N10: 0.24 | O10: 0.22 | P10: 0.003 | R10: =F10*B10 -> 2960.64 | S10: =G10*C10 -> 5458.42 | T10: =H10*D10 -> 64.305 | V10: =J10*B10 -> 2960.64 | W10: =K10*C10 -> 5458.42 | X10: =L10*D10 -> 64.305 | Z10: =N10*B10 -> 2960.64 | AA10: =O10*C10 -> 5458.42 | AB10: =P10*D10 -> 64.305
A11: 2008 | B11: =B66 -> 11058 | C11: =B119 -> 25068 | D11: =B172 -> 21491 | F11: 0.24 | G11: 0.24 | H11: 0.004 | J11: 0.24 | K11: 0.24 | L11: 0.004 | N11: 0.24 | O11: 0.24 | P11: 0.004 | R11: =F11*B11 -> 2653.92 | S11: =G11*C11 -> 6016.32 | T11: =H11*D11 -> 85.964 | V11: =J11*B11 -> 2653.92 | W11: =K11*C11 -> 6016.32 | X11: =L11*D11 -> 85.964 | Z11: =N11*B11 -> 2653.92 | AA11: =O11*C11 -> 6016.32 | AB11: =P11*D11 -> 85.964
A12: 2009 | B12: =B67 -> 9711 | C12: =B120 -> 25129 | D12: =B173 -> 17515 | F12: 0.24 | G12: 0.23 | H12: 0.004 | J12: 0.24 | K12: 0.23 | L12: 0.004 | N12: 0.24 | O12: 0.23 | P12: 0.004 | R12: =F12*B12 -> 2330.64 | S12: =G12*C12 -> 5779.67 | T12: =H12*D12 -> 70.06 | V12: =J12*B12 -> 2330.64 | W12: =K12*C12 -> 5779.67 | X12: =L12*D12 -> 70.06 | Z12: =N12*B12 -> 2330.64 | AA12: =O12*C12 -> 5779.67 | AB12: =P12*D12 -> 70.06
A13: 2010 | B13: =B68 -> 10572 | C13: =B121 -> 25530 | D13: =B174 -> 18040 | F13: 0.24 | G13: 0.21 | H13: 0.004 | J13: 0.24 | K13: 0.21 | L13: 0.004 | N13: 0.24 | O13: 0.21 | P13: 0.004 | R13: =F13*B13 -> 2537.28 | S13: =G13*C13 -> 5361.3 | T13: =H13*D13 -> 72.16 | V13: =J13*B13 -> 2537.28 | W13: =K13*C13 -> 5361.3 | X13: =L13*D13 -> 72.16 | Z13: =N13*B13 -> 2537.28 | AA13: =O13*C13 -> 5361.3 | AB13: =P13*D13 -> 72.16
A14: 2011 | B14: =B69 -> 11323 | C14: =B122 -> 24618 | D14: =B175 -> 17958 | F14: 0.24 | G14: 0.23 | H14: 0.004 | J14: 0.24 | K14: 0.23 | L14: 0.004 | N14: 0.24 | O14: 0.23 | P14: 0.004 | R14: =F14*B14 -> 2717.52 | S14: =G14*C14 -> 5662.14 | T14: =H14*D14 -> 71.832 | V14: =J14*B14 -> 2717.52 | W14: =K14*C14 -> 5662.14 | X14: =L14*D14 -> 71.832 | Z14: =N14*B14 -> 2717.52 | AA14: =O14*C14 -> 5662.14 | AB14: =P14*D14 -> 71.832
... A26: 2023 | B26: =B81 -> 10160 | C26: =B134 -> 24837 | D26: =B187 -> 26327 | F26: 0.32 | G26: 0.26 | H26: 0.004 | J26: 0.32 | K26: 0.26 | L26: 0.004 | N26: 0.32 | O26: 0.26 | P26: 0.004 | R26: =F26*B26 -> 3251.2 | S26: =G26*C26 -> 6457.62 | T26: =H26*D26 -> 105.308 | V26: =J26*B26 -> 3251.2 | W26: =K26*C26 -> 6457.62 | X26: =L26*D26 -> 105.308 | Z26: =N26*B26 -> 3251.2 | AA26: =O26*C26 -> 6457.62 | AB26: =P26*D26 -> 105.308
A27: 2024 | B27: =B82 -> 10932 | C27: =B135 -> 26278 | D27: =B188 -> 25701 | F27: ='LIT Scenario projections '!D5 -> 0.31285714 | G27: ='LIT Scenario projections '!C5 -> 0.28 | H27: ='LIT Scenario projections '!E5 -> 0.0042857143 | J27: ='LIT Scenario projections '!K5 -> 0.311 | K27: ='LIT Scenario projections '!J5 -> 0.27764706 | L27: ='LIT Scenario projections '!L5 -> 0.0049 | N27: ='LIT Scenario projections '!R5 -> 0.311 | O27: ='LIT Scenario projections '!Q5 -> 0.27764706 | P27: ='LIT Scenario projections '!S5 -> 0.0049 | R27: =F27*B27 -> 3420.1543 | S27: =G27*C27 -> 7357.84 | T27: =H27*D27 -> 110.14714 | V27: =J27*B27 -> 3399.852 | W27: =K27*C27 -> 7296.0094 | X27: =L27*D27 -> 125.9349 | Z27: =N27*B27 -> 3399.852 | AA27: =O27*C27 -> 7296.0094 | AB27: =P27*D27 -> 125.9349
A28: 2025 | B28: =B83 -> 10278.711 | C28: =B136 -> 25329.575 | D28: =B189 -> 26729.945 | F28: ='LIT Scenario projections '!D6 -> 0.30571429 | G28: ='LIT Scenario projections '!C6 -> 0.3 | H28: ='LIT Scenario projections '!E6 -> 0.024285714 | J28: ='LIT Scenario projections '!K6 -> 0.3215625 | K28: ='LIT Scenario projections '!J6 -> 0.29529412 | L28: ='LIT Scenario projections '!L6 -> 0.02334375 | N28: ='LIT Scenario projections '!R6 -> 0.31826923 | O28: ='LIT Scenario projections '!Q6 -> 0.28635076 | P28: ='LIT Scenario projections '!S6 -> 0.019134615 | R28: =F28*B28 -> 3142.3489 | S28: =G28*C28 -> 7598.8724 | T28: =H28*D28 -> 649.15581 | V28: =J28*B28 -> 3305.2481 | W28: =K28*C28 -> 7479.6744 | X28: =L28*D28 -> 623.97715 | Z28: =N28*B28 -> 3271.3976 | AA28: =O28*C28 -> 7253.143 | AB28: =P28*D28 -> 511.46722
A29: 2026 | B29: =B84 -> 10265.267 | C29: =B137 -> 25398.108 | D29: =B190 -> 26742.715 | F29: ='LIT Scenario projections '!D7 -> 0.29857143 | G29: ='LIT Scenario projections '!C7 -> 0.32 | H29: ='LIT Scenario projections '!E7 -> 0.044285714 | J29: ='LIT Scenario projections '!K7 -> 0.332125 | K29: ='LIT Scenario projections '!J7 -> 0.31294118 | L29: ='LIT Scenario projections '!L7 -> 0.0417875 | N29: ='LIT Scenario projections '!R7 -> 0.32553846 | O29: ='LIT Scenario projections '!Q7 -> 0.29505447 | P29: ='LIT Scenario projections '!S7 -> 0.033369231 | R29: =F29*B29 -> 3064.9154 | S29: =G29*C29 -> 8127.3946 | T29: =H29*D29 -> 1184.3202 | V29: =J29*B29 -> 3409.3517 | W29: =K29*C29 -> 7948.1138 | X29: =L29*D29 -> 1117.5112 | Z29: =N29*B29 -> 3341.7392 | AA29: =O29*C29 -> 7493.8252 | AB29: =P29*D29 -> 892.38383
A30: 2027 | B30: =B85 -> 10236.401 | C30: =B138 -> 25428.474 | D30: =B191 -> 26715.198 | F30: ='LIT Scenario projections '!D8 -> 0.29142857 | G30: ='LIT Scenario projections '!C8 -> 0.34 | H30: ='LIT Scenario projections '!E8 -> 0.064285714 | J30: ='LIT Scenario projections '!K8 -> 0.3426875 | K30: ='LIT Scenario projections '!J8 -> 0.33058824 | L30: ='LIT Scenario projections '!L8 -> 0.06023125 | N30: ='LIT Scenario projections '!R8 -> 0.33280769 | O30: ='LIT Scenario projections '!Q8 -> 0.30375817 | P30: ='LIT Scenario projections '!S8 -> 0.047603846 | R30: =F30*B30 -> 2983.1796 | S30: =G30*C30 -> 8645.6811 | T30: =H30*D30 -> 1717.4056 | V30: =J30*B30 -> 3507.8865 | W30: =K30*C30 -> 8406.3543 | X30: =L30*D30 -> 1609.0898 | Z30: =N30*B30 -> 3406.7529 | AA30: =O30*C30 -> 7724.1067 | AB30: =P30*D30 -> 1271.7462
A31: 2028 | B31: =B86 -> 10210.703 | C31: =B139 -> 25466.575 | D31: =B192 -> 26695.78 | F31: ='LIT Scenario projections '!D9 -> 0.28428571 | G31: ='LIT Scenario projections '!C9 -> 0.36 | H31: ='LIT Scenario projections '!E9 -> 0.084285714 | J31: ='LIT Scenario projections '!K9 -> 0.35325 | K31: ='LIT Scenario projections '!J9 -> 0.34823529 | L31: ='LIT Scenario projections '!L9 -> 0.078675 | N31: ='LIT Scenario projections '!R9 -> 0.34007692 | O31: ='LIT Scenario projections '!Q9 -> 0.31246187 | P31: ='LIT Scenario projections '!S9 -> 0.061838462 | R31: =F31*B31 -> 2902.7569 | S31: =G31*C31 -> 9167.9672 | T31: =H31*D31 -> 2250.0729 | V31: =J31*B31 -> 3606.9307 | W31: =K31*C31 -> 8868.3604 | X31: =L31*D31 -> 2100.2905 | Z31: =N31*B31 -> 3472.4243 | AA31: =O31*C31 -> 7957.3339 | AB31: =P31*D31 -> 1650.826
A32: 2029 | B32: =B87 -> 10181.634 | C32: =B140 -> 25496.131 | D32: =B193 -> 26667.378 | F32: ='LIT Scenario projections '!D10 -> 0.27714286 | G32: ='LIT Scenario projections '!C10 -> 0.38 | H32: ='LIT Scenario projections '!E10 -> 0.10428571 | J32: ='LIT Scenario projections '!K10 -> 0.3638125 | K32: ='LIT Scenario projections '!J10 -> 0.36588235 | L32: ='LIT Scenario projections '!L10 -> 0.09711875 | N32: ='LIT Scenario projections '!R10 -> 0.34734615 | O32: ='LIT Scenario projections '!Q10 -> 0.32116558 | P32: ='LIT Scenario projections '!S10 -> 0.076073077 | R32: =F32*B32 -> 2821.767 | S32: =G32*C32 -> 9688.5299 | T32: =H32*D32 -> 2781.0266 | V32: =J32*B32 -> 3704.2056 | W32: =K32*C32 -> 9328.5845 | X32: =L32*D32 -> 2589.9024 | Z32: =N32*B32 -> 3536.5513 | AA32: =O32*C32 -> 8188.4797 | AB32: =P32*D32 -> 2028.6695
A33: 2030 | B33: =B88 -> 10149.112 | C33: =B141 -> 25516.833 | D33: =B194 -> 26629.73 | F33: ='LIT Scenario projections '!D11 -> 0.27 | G33: ='LIT Scenario projections '!C11 -> 0.4 | H33: ='LIT Scenario projections '!E11 -> 0 | J33: ='LIT Scenario projections '!K11 -> 0.374375 | K33: ='LIT Scenario projections '!J11 -> 0.38352941 | L33: ='LIT Scenario projections '!L11 -> 0.1155625 | N33: ='LIT Scenario projections '!R11 -> 0.35461538 | O33: ='LIT Scenario projections '!Q11 -> 0.32986928 | P33: ='LIT Scenario projections '!S11 -> 0.090307692 | R33: =F33*B33 -> 2740.2603 | S33: =G33*C33 -> 10206.733 | T33: =H33*D33 -> 0 | V33: =J33*B33 -> 3799.5738 | W33: =K33*C33 -> 9786.4558 | X33: =L33*D33 -> 3077.3981 | Z33: =N33*B33 -> 3599.0313 | AA33: =O33*C33 -> 8417.2193 | AB33: =P33*D33 -> 2404.8694
A34: 2031 | B34: =B89 -> 10113.031 | C34: =B142 -> 25528.304 | D34: =B195 -> 26582.506 | F34: ='LIT Scenario projections '!D12 -> 0.2565 | G34: ='LIT Scenario projections '!C12 -> 0.405 | H34: ='LIT Scenario projections '!E12 -> 0 | J34: ='LIT Scenario projections '!K12 -> 0.3849375 | K34: ='LIT Scenario projections '!J12 -> 0.40117647 | L34: ='LIT Scenario projections '!L12 -> 0.13400625 | N34: ='LIT Scenario projections '!R12 -> 0.36188462 | O34: ='LIT Scenario projections '!Q12 -> 0.33857298 | P34: ='LIT Scenario projections '!S12 -> 0.10454231 | R34: =F34*B34 -> 2593.9925 | S34: =G34*C34 -> 10338.963 | T34: =H34*D34 -> 0 | V34: =J34*B34 -> 3892.8849 | W34: =K34*C34 -> 10241.355 | X34: =L34*D34 -> 3562.2219 | Z34: =N34*B34 -> 3659.7503 | AA34: =O34*C34 -> 8643.194 | AB34: =P34*D34 -> 2778.9965
A35: 2032 | B35: =B90 -> 10077.569 | C35: =B143 -> 25541.023 | D35: =B196 -> 26536.657 | F35: ='LIT Scenario projections '!D13 -> 0.243 | G35: ='LIT Scenario projections '!C13 -> 0.41 | H35: ='LIT Scenario projections '!E13 -> 0 | J35: ='LIT Scenario projections '!K13 -> 0.3955 | K35: ='LIT Scenario projections '!J13 -> 0.41882353 | L35: ='LIT Scenario projections '!L13 -> 0.15245 | N35: ='LIT Scenario projections '!R13 -> 0.36915385 | O35: ='LIT Scenario projections '!Q13 -> 0.34727669 | P35: ='LIT Scenario projections '!S13 -> 0.11877692 | R35: =F35*B35 -> 2448.8492 | S35: =G35*C35 -> 10471.819 | T35: =H35*D35 -> 0 | V35: =J35*B35 -> 3985.6784 | W35: =K35*C35 -> 10697.181 | X35: =L35*D35 -> 4045.5133 | Z35: =N35*B35 -> 3720.1733 | AA35: =O35*C35 -> 8869.8018 | AB35: =P35*D35 -> 3151.9424
A36: 2033 | B36: =B91 -> 10042.757 | C36: =B144 -> 25555.088 | D36: =B197 -> 26492.276 | F36: ='LIT Scenario projections '!D14 -> 0.2295 | G36: ='LIT Scenario projections '!C14 -> 0.415 | H36: ='LIT Scenario projections '!E14 -> 0 | J36: ='LIT Scenario projections '!K14 -> 0.4060625 | K36: ='LIT Scenario projections '!J14 -> 0.43647059 | L36: ='LIT Scenario projections '!L14 -> 0.17089375 | N36: ='LIT Scenario projections '!R14 -> 0.37642308 | O36: ='LIT Scenario projections '!Q14 -> 0.35598039 | P36: ='LIT Scenario projections '!S14 -> 0.13301154 | R36: =F36*B36 -> 2304.8128 | S36: =G36*C36 -> 10605.361 | T36: =H36*D36 -> 0 | V36: =J36*B36 -> 4077.9871 | W36: =K36*C36 -> 11154.044 | X36: =L36*D36 -> 4527.3643 | Z36: =N36*B36 -> 3780.3255 | AA36: =O36*C36 -> 9097.1101 | AB36: =P36*D36 -> 3523.7783
A37: 2034 | B37: =B92 -> 10008.746 | C37: =B145 -> 25570.897 | D37: =B198 -> 26449.765 | F37: ='LIT Scenario projections '!D15 -> 0.216 | G37: ='LIT Scenario projections '!C15 -> 0.42 | H37: ='LIT Scenario projections '!E15 -> 0 | J37: ='LIT Scenario projections '!K15 -> 0.416625 | K37: ='LIT Scenario projections '!J15 -> 0.45411765 | L37: ='LIT Scenario projections '!L15 -> 0.1893375 | N37: ='LIT Scenario projections '!R15 -> 0.38369231 | O37: ='LIT Scenario projections '!Q15 -> 0.3646841 | P37: ='LIT Scenario projections '!S15 -> 0.14724615 | R37: =F37*B37 -> 2161.8891 | S37: =G37*C37 -> 10739.777 | T37: =H37*D37 -> 0 | V37: =J37*B37 -> 4169.8937 | W37: =K37*C37 -> 11612.196 | X37: =L37*D37 -> 5007.9324 | Z37: =N37*B37 -> 3840.2787 | AA37: =O37*C37 -> 9325.2995 | AB37: =P37*D37 -> 3894.6262
A38: 2035 | B38: =B93 -> 9975.6124 | C38: =B146 -> 25588.674 | D38: =B199 -> 26409.343 | F38: ='LIT Scenario projections '!D16 -> 0.2025 | G38: ='LIT Scenario projections '!C16 -> 0.425 | H38: ='LIT Scenario projections '!E16 -> 0 | J38: ='LIT Scenario projections '!K16 -> 0.4271875 | K38: ='LIT Scenario projections '!J16 -> 0.47176471 | L38: ='LIT Scenario projections '!L16 -> 0.20778125 | N38: ='LIT Scenario projections '!R16 -> 0.39096154 | O38: ='LIT Scenario projections '!Q16 -> 0.3733878 | P38: ='LIT Scenario projections '!S16 -> 0.16148077 | R38: =F38*B38 -> 2020.0615 | S38: =G38*C38 -> 10875.186 | T38: =H38*D38 -> 0 | V38: =J38*B38 -> 4261.4569 | W38: =K38*C38 -> 12071.833 | X38: =L38*D38 -> 5487.3663 | Z38: =N38*B38 -> 3900.0808 | AA38: =O38*C38 -> 9554.4986 | AB38: =P38*D38 -> 4264.601
... A53: 2050 | B53: =B108 -> 9530.4544 | C53: =B161 -> 25962.727 | D53: =B214 -> 25916.097 | F53: ='LIT Scenario projections '!D31 -> 0 | G53: ='LIT Scenario projections '!C31 -> 0.5 | H53: ='LIT Scenario projections '!E31 -> 0 | J53: ='LIT Scenario projections '!K31 -> 0.62 | K53: ='LIT Scenario projections '!J31 -> 0.6 | L53: ='LIT Scenario projections '!L31 -> 0.6 | N53: ='LIT Scenario projections '!R31 -> 0.5 | O53: ='LIT Scenario projections '!Q31 -> 0.495 | P53: ='LIT Scenario projections '!S31 -> 0.375 | R53: =F53*B53 -> 0 | S53: =G53*C53 -> 12981.363 | T53: =H53*D53 -> 0 | V53: =J53*B53 -> 5908.8817 | W53: =K53*C53 -> 15577.636 | X53: =L53*D53 -> 15549.658 | Z53: =N53*B53 -> 4765.2272 | AA53: =O53*C53 -> 12851.55 | AB53: =P53*D53 -> 9718.5364
A57: Industry | B57: Industry FEC GWh | C57: Total consumption MWh | D57: Population | E57: Per capita/MWh
A58: 2000 | B58: 8619 | C58: =B58*1000 -> 8619000 | D58: 3697838 | E58: =C58/D58 -> 2.3308214
A59: 2001 | B59: 8565 | C59: =B59*1000 -> 8565000 | D59: 3499536 | E59: =C59/D59 -> 2.4474673
A60: 2002 | B60: 9494 | C60: =B60*1000 -> 9494000 | D60: 2937253 | E60: =C60/D60 -> 3.2322718
A61: 2003 | B61: 9999 | C61: =B61*1000 -> 9999000 | D61: 2911109 | E61: =C61/D61 -> 3.4347735
A62: 2004 | B62: 10276 | C62: =B62*1000 -> 10276000 | D62: 2877325 | E62: =C62/D62 -> 3.5713727
A63: 2005 | B63: 11689 | C63: =B63*1000 -> 11689000 | D63: 2842639 | E63: =C63/D63 -> 4.1120241
A64: 2006 | B64: 12044 | C64: =B64*1000 -> 12044000 | D64: 2819200 | E64: =C64/D64 -> 4.2721339
A65: 2007 | B65: 12336 | C65: =B65*1000 -> 12336000 | D65: 2811089 | E65: =C65/D65 -> 4.3883349
A66: 2008 | B66: 11058 | C66: =B66*1000 -> 11058000 | D66: 2810369 | E66: =C66/D66 -> 3.9347146
A67: 2009 | B67: 9711 | C67: =B67*1000 -> 9711000 | D67: 2808380 | E67: =C67/D67 -> 3.4578654
A68: 2010 | B68: 10572 | C68: =B68*1000 -> 10572000 | D68: 2810369 | E68: =C68/D68 -> 3.7617836
A69: 2011 | B69: 11323 | C69: =B69*1000 -> 11323000 | D69: 2808380 | E69: =C69/D69 -> 4.0318618
... A80: 2022 | B80: 10708 | C80: =B80*1000 -> 10708000 | D80: 2805998 | E80: =C80/D80 -> 3.8161111
A81: 2023 | B81: 10160 | C81: =B81*1000 -> 10160000 | D81: 2857279 | E81: =C81/D81 -> 3.5558306 | F81: =(E81/E77)^(1/5)-1 -> -0.043009146
A82: 2024 | B82: 10932 | C82: =D82*E82 -> 10261739 | D82: 2885891 | E82: =E81 -> 3.5558306 | F82: =E81*(1+F81) -> 3.4028973
A83: 2025 | B83: =C83/1000 -> 10278.711 | C83: =D83*E83 -> 10278711 | D83: 2890664 | E83: =E82 -> 3.5558306 | F83: =F82*(1+F$81) -> 3.2565416 | H83: Assume last year's value till end
A84: 2026 | B84: =C84/1000 -> 10265.267 | C84: =D84*E84 -> 10265267 | D84: 2886883 | E84: =E83 -> 3.5558306 | F84: =F83*(1+F$81) -> 3.1164805
A85: 2027 | B85: =C85/1000 -> 10236.401 | C85: =D85*E85 -> 10236401 | D85: 2878765 | E85: =E84 -> 3.5558306 | F85: =F84*(1+F$81) -> 2.9824434
A86: 2028 | B86: =C86/1000 -> 10210.703 | C86: =D86*E86 -> 10210703 | D86: 2871538 | E86: =E85 -> 3.5558306 | F86: =F85*(1+F$81) -> 2.854171
A87: 2029 | B87: =C87/1000 -> 10181.634 | C87: =D87*E87 -> 10181634 | D87: 2863363 | E87: =E86 -> 3.5558306 | F87: =F86*(1+F$81) -> 2.7314156
A88: 2030 | B88: =C88/1000 -> 10149.112 | C88: =D88*E88 -> 10149112 | D88: 2854217 | E88: =E87 -> 3.5558306 | F88: =F87*(1+F$81) -> 2.6139397
A89: 2031 | B89: =C89/1000 -> 10113.031 | C89: =D89*E89 -> 10113031 | D89: 2844070 | E89: =E88 -> 3.5558306 | F89: =F88*(1+F$81) -> 2.5015164
A90: 2032 | B90: =C90/1000 -> 10077.569 | C90: =D90*E90 -> 10077569 | D90: 2834097 | E90: =E89 -> 3.5558306 | F90: =F89*(1+F$81) -> 2.3939283
A91: 2033 | B91: =C91/1000 -> 10042.757 | C91: =D91*E91 -> 10042757 | D91: 2824307 | E91: =E90 -> 3.5558306 | F91: =F90*(1+F$81) -> 2.2909675
A92: 2034 | B92: =C92/1000 -> 10008.746 | C92: =D92*E92 -> 10008746 | D92: 2814742 | E92: =E91 -> 3.5558306 | F92: =F91*(1+F$81) -> 2.192435
A93: 2035 | B93: =C93/1000 -> 9975.6124 | C93: =D93*E93 -> 9975612.4 | D93: 2805424 | E93: =E92 -> 3.5558306 | F93: =F92*(1+F$81) -> 2.0981402
A94: 2036 | B94: =C94/1000 -> 9943.425 | C94: =D94*E94 -> 9943425 | D94: 2796372 | E94: =E93 -> 3.5558306 | F94: =F93*(1+F$81) -> 2.007901
A95: 2037 | B95: =C95/1000 -> 9912.1408 | C95: =D95*E95 -> 9912140.8 | D95: 2787574 | E95: =E94 -> 3.5558306 | F95: =F94*(1+F$81) -> 1.9215429
... A108: 2050 | B108: =C108/1000 -> 9530.4544 | C108: =D108*E108 -> 9530454.4 | D108: 2680233 | E108: =E107 -> 3.5558306 | F108: =F107*(1+F$81) -> 1.0850539
A110: Buildings GWh | B110: Buildings FEC GWh | C110: Total consumption MWh | D110: Population | E110: Per capita/MWh
A111: 2000 | B111: 21284 | C111: =B111*1000 -> 21284000 | D111: 3697838 | E111: =C111/D111 -> 5.7557957
A112: 2001 | B112: 21954 | C112: =B112*1000 -> 21954000 | D112: 3499536 | E112: =C112/D112 -> 6.2734031
A113: 2002 | B113: 22423 | C113: =B113*1000 -> 22423000 | D113: 2937253 | E113: =C113/D113 -> 7.6340036
A114: 2003 | B114: 23074 | C114: =B114*1000 -> 23074000 | D114: 2911109 | E114: =C114/D114 -> 7.926189
A115: 2004 | B115: 23524 | C115: =B115*1000 -> 23524000 | D115: 2877325 | E115: =C115/D115 -> 8.1756493
A116: 2005 | B116: 24075 | C116: =B116*1000 -> 24075000 | D116: 2842639 | E116: =C116/D116 -> 8.4692428
A117: 2006 | B117: 25309 | C117: =B117*1000 -> 25309000 | D117: 2819200 | E117: =C117/D117 -> 8.9773695
A118: 2007 | B118: 24811 | C118: =B118*1000 -> 24811000 | D118: 2811089 | E118: =C118/D118 -> 8.8261169
A119: 2008 | B119: 25068 | C119: =B119*1000 -> 25068000 | D119: 2810369 | E119: =C119/D119 -> 8.9198251
A120: 2009 | B120: 25129 | C120: =B120*1000 -> 25129000 | D120: 2808380 | E120: =C120/D120 -> 8.9478632
A121: 2010 | B121: 25530 | C121: =B121*1000 -> 25530000 | D121: 2810369 | E121: =C121/D121 -> 9.0842163
A122: 2011 | B122: 24618 | C122: =B122*1000 -> 24618000 | D122: 2808380 | E122: =C122/D122 -> 8.7659077
... A132: 2021 | B132: 26483 | C132: =B132*1000 -> 26483000 | D132: 2810761 | E132: =C132/D132 -> 9.4220035
A133: 2022 | B133: 25259 | C133: =B133*1000 -> 25259000 | D133: 2805998 | E133: =C133/D133 -> 9.0017883 | H133: 10 years average
A134: 2023 | B134: 24837 | C134: =B134*1000 -> 24837000 | D134: 2857279 | E134: =C134/D134 -> 8.6925358 | F134: =(E134/E124)^(1/10)-1 -> 0.0040189239
A135: 2024 | B135: 26278 | C135: =D135*E135 -> 25186528 | D135: 2885891 | E135: =F135 -> 8.7274704 | F135: =E134*(1+F134) -> 8.7274704
A136: 2025 | B136: =C136/1000 -> 25329.575 | C136: =D136*E136 -> 25329575 | D136: 2890664 | E136: =F136 -> 8.7625455 | F136: =F135*(1+$F$134) -> 8.7625455
A137: 2026 | B137: =C137/1000 -> 25398.108 | C137: =D137*E137 -> 25398108 | D137: 2886883 | E137: =F137 -> 8.7977615 | F137: =F136*(1+$F$134) -> 8.7977615
A138: 2027 | B138: =C138/1000 -> 25428.474 | C138: =D138*E138 -> 25428474 | D138: 2878765 | E138: =F138 -> 8.833119 | F138: =F137*(1+$F$134) -> 8.833119
A139: 2028 | B139: =C139/1000 -> 25466.575 | C139: =D139*E139 -> 25466575 | D139: 2871538 | E139: =F139 -> 8.8686187 | F139: =F138*(1+$F$134) -> 8.8686187
A140: 2029 | B140: =C140/1000 -> 25496.131 | C140: =D140*E140 -> 25496131 | D140: 2863363 | E140: =F140 -> 8.904261 | F140: =F139*(1+$F$134) -> 8.904261
A141: 2030 | B141: =C141/1000 -> 25516.833 | C141: =D141*E141 -> 25516833 | D141: 2854217 | E141: =F141 -> 8.9400465 | F141: =F140*(1+$F$134) -> 8.9400465
A142: 2031 | B142: =C142/1000 -> 25528.304 | C142: =D142*E142 -> 25528304 | D142: 2844070 | E142: =F142 -> 8.9759759 | F142: =F141*(1+$F$134) -> 8.9759759
A143: 2032 | B143: =C143/1000 -> 25541.023 | C143: =D143*E143 -> 25541023 | D143: 2834097 | E143: =F143 -> 9.0120496 | F143: =F142*(1+$F$134) -> 9.0120496
A144: 2033 | B144: =C144/1000 -> 25555.088 | C144: =D144*E144 -> 25555088 | D144: 2824307 | E144: =F144 -> 9.0482684 | F144: =F143*(1+$F$134) -> 9.0482684
A145: 2034 | B145: =C145/1000 -> 25570.897 | C145: =D145*E145 -> 25570897 | D145: 2814742 | E145: =F145 -> 9.0846327 | F145: =F144*(1+$F$134) -> 9.0846327
A146: 2035 | B146: =C146/1000 -> 25588.674 | C146: =D146*E146 -> 25588674 | D146: 2805424 | E146: =F146 -> 9.1211431 | F146: =F145*(1+$F$134) -> 9.1211431
A147: 2036 | B147: =C147/1000 -> 25608.616 | C147: =D147*E147 -> 25608616 | D147: 2796372 | E147: =F147 -> 9.1578003 | F147: =F146*(1+$F$134) -> 9.1578003
... A161: 2050 | B161: =C161/1000 -> 25962.727 | C161: =D161*E161 -> 25962727 | D161: 2680233 | E161: =F161 -> 9.6867424 | F161: =F160*(1+$F$134) -> 9.6867424
A163: Transport | B163: Transport FEC GWh | C163: Total consumption MWh | D163: Population | E163: Per capita/MWh
A164: 2000 | B164: 12284 | C164: =B164*1000 -> 12284000 | D164: 3697838 | E164: =C164/D164 -> 3.3219411
A165: 2001 | B165: 13463 | C165: =B165*1000 -> 13463000 | D165: 3499536 | E165: =C165/D165 -> 3.8470814
A166: 2002 | B166: 13897 | C166: =B166*1000 -> 13897000 | D166: 2937253 | E166: =C166/D166 -> 4.7312914
A167: 2003 | B167: 14191 | C167: =B167*1000 -> 14191000 | D167: 2911109 | E167: =C167/D167 -> 4.8747745
A168: 2004 | B168: 15583 | C168: =B168*1000 -> 15583000 | D168: 2877325 | E168: =C168/D168 -> 5.4157942
A169: 2005 | B169: 16723 | C169: =B169*1000 -> 16723000 | D169: 2842639 | E169: =C169/D169 -> 5.8829137
A170: 2006 | B170: 18029 | C170: =B170*1000 -> 18029000 | D170: 2819200 | E170: =C170/D170 -> 6.3950766
A171: 2007 | B171: 21435 | C171: =B171*1000 -> 21435000 | D171: 2811089 | E171: =C171/D171 -> 7.6251588
A172: 2008 | B172: 21491 | C172: =B172*1000 -> 21491000 | D172: 2810369 | E172: =C172/D172 -> 7.6470385
A173: 2009 | B173: 17515 | C173: =B173*1000 -> 17515000 | D173: 2808380 | E173: =C173/D173 -> 6.2366916
A174: 2010 | B174: 18040 | C174: =B174*1000 -> 18040000 | D174: 2810369 | E174: =C174/D174 -> 6.4190859
...

Sheet Sub sectoral data
A2: Estonia
A3: Year | B3: Rail | C3: Road | D3: Domestic aviation | E3: Domestic navigation | G3: Year | H3: Space Heating | I3: Space cooling | J3: Water heating | K3: Cooking | L3: Lighting and electrical appliances | N3: Year | O3: Iron & steel | P3: Chemical | Q3: Non-ferrous metals | R3: Other non-metallic mineral products | S3: Transport equipment | T3: Machinery | U3: Mining & quarrying | V3: Food, beverages & tobacco | W3: Pulp, paper & printing | X3: Wood & wood products | Y3: Construction | Z3: Textile, leather & clothing | AA3: Other industries
A4: 2024 | B4: ='SEI Scenario EST'!P7 -> 26.513428 | C4: ='SEI Scenario EST'!U7 -> 41.056125 | D4: ='SEI Scenario EST'!Z7 -> 0 | E4: ='SEI Scenario EST'!AE7 -> 0 | G4: 2024 | H4: ='SEI Scenario EST'!AN7 -> 1156.5383 | I4: ='SEI Scenario EST'!AS7 -> 8.719709 | J4: ='SEI Scenario EST'!AX7 -> 371.95511 | K4: ='SEI Scenario EST'!BC7 -> 293.19524 | L4: ='SEI Scenario EST'!BH7 -> 2551.7471 | N4: 2024 | O4: ='SEI Scenario EST'!BQ7 -> 2.0492774 | P4: ='SEI Scenario EST'!BV7 -> 72.407801 | Q4: ='SEI Scenario EST'!CA7 -> 2.0492774 | R4: ='SEI Scenario EST'!CF7 -> 91.702742 | S4: ='SEI Scenario EST'!CK7 -> 28.882754 | T4: ='SEI Scenario EST'!CP7 -> 166.7979 | U4: ='SEI Scenario EST'!CU7 -> 14.441377 | V4: ='SEI Scenario EST'!CZ7 -> 209.70939 | W4: ='SEI Scenario EST'!DE7 -> 192.63207 | X4: ='SEI Scenario EST'!DJ7 -> 309.44088 | Y4: ='SEI Scenario EST'!DO7 -> 27.323698 | Z4: ='SEI Scenario EST'!DT7 -> 23.908236 | AA4: ='SEI Scenario EST'!DY7 -> 102.46387
A5: =A4+1 -> 2025 | B5: ='SEI Scenario EST'!P8 -> 24.049602 | C5: ='SEI Scenario EST'!U8 -> 97.700284 | D5: ='SEI Scenario EST'!Z8 -> 0 | E5: ='SEI Scenario EST'!AE8 -> 0 | G5: =G4+1 -> 2025 | H5: ='SEI Scenario EST'!AN8 -> 1220.6728 | I5: ='SEI Scenario EST'!AS8 -> 8.8115299 | J5: ='SEI Scenario EST'!AX8 -> 382.8114 | K5: ='SEI Scenario EST'!BC8 -> 301.40499 | L5: ='SEI Scenario EST'!BH8 -> 2578.6179 | N5: =N4+1 -> 2025 | O5: ='SEI Scenario EST'!BQ8 -> 2.0777782 | P5: ='SEI Scenario EST'!BV8 -> 73.5898 | Q5: ='SEI Scenario EST'!CA8 -> 2.0932982 | R5: ='SEI Scenario EST'!CF8 -> 93.459978 | S5: ='SEI Scenario EST'!CK8 -> 29.357656 | T5: ='SEI Scenario EST'!CP8 -> 168.80142 | U5: ='SEI Scenario EST'!CU8 -> 14.594783 | V5: ='SEI Scenario EST'!CZ8 -> 212.67074 | W5: ='SEI Scenario EST'!DE8 -> 196.92746 | X5: ='SEI Scenario EST'!DJ8 -> 313.66694 | Y5: ='SEI Scenario EST'!DO8 -> 28.230919 | Z5: ='SEI Scenario EST'!DT8 -> 24.24489 | AA5: ='SEI Scenario EST'!DY8 -> 103.34325
A6: =A5+1 -> 2026 | B6: ='SEI Scenario EST'!P9 -> 24.453848 | C6: ='SEI Scenario EST'!U9 -> 119.0736 | D6: ='SEI Scenario EST'!Z9 -> 0 | E6: ='SEI Scenario EST'!AE9 -> 0 | G6: =G5+1 -> 2026 | H6: ='SEI Scenario EST'!AN9 -> 1239.1494 | I6: ='SEI Scenario EST'!AS9 -> 8.8171006 | J6: ='SEI Scenario EST'!AX9 -> 385.41819 | K6: ='SEI Scenario EST'!BC9 -> 303.34107 | L6: ='SEI Scenario EST'!BH9 -> 2580.2481 | N6: =N5+1 -> 2026 | O6: ='SEI Scenario EST'!BQ9 -> 2.075877 | P6: ='SEI Scenario EST'!BV9 -> 73.581408 | Q6: ='SEI Scenario EST'!CA9 -> 2.0966112 | R6: ='SEI Scenario EST'!CF9 -> 93.536791 | S6: ='SEI Scenario EST'!CK9 -> 29.355455 | T6: ='SEI Scenario EST'!CP9 -> 168.54041 | U6: ='SEI Scenario EST'!CU9 -> 14.565446 | V6: ='SEI Scenario EST'!CZ9 -> 212.49122 | W6: ='SEI Scenario EST'!DE9 -> 197.29178 | X6: ='SEI Scenario EST'!DJ9 -> 313.35379 | Y6: ='SEI Scenario EST'!DO9 -> 28.382699 | Z6: ='SEI Scenario EST'!DT9 -> 24.224101 | AA6: ='SEI Scenario EST'!DY9 -> 103.06485
A7: =A6+1 -> 2027 | B7: ='SEI Scenario EST'!P10 -> 24.932859 | C7: ='SEI Scenario EST'!U10 -> 147.23946 | D7: ='SEI Scenario EST'!Z10 -> 0 | E7: ='SEI Scenario EST'!AE10 -> 0 | G7: =G6+1 -> 2027 | H7: ='SEI Scenario EST'!AN10 -> 1261.2747 | I7: ='SEI Scenario EST'!AS10 -> 8.8073921 | J7: ='SEI Scenario EST'!AX10 -> 388.13122 | K7: ='SEI Scenario EST'!BC10 -> 305.32292 | L7: ='SEI Scenario EST'!BH10 -> 2577.4071 | N7: =N6+1 -> 2027 | O7: ='SEI Scenario EST'!BQ10 -> 2.0720666 | P7: ='SEI Scenario EST'!BV10 -> 73.524042 | Q7: ='SEI Scenario EST'!CA10 -> 2.0996544 | R7: ='SEI Scenario EST'!CF10 -> 93.579068 | S7: ='SEI Scenario EST'!CK10 -> 29.33408 | T7: ='SEI Scenario EST'!CP10 -> 168.09061 | U7: ='SEI Scenario EST'!CU10 -> 14.517645 | V7: ='SEI Scenario EST'!CZ10 -> 212.12107 | W7: ='SEI Scenario EST'!DE10 -> 197.64736 | X7: ='SEI Scenario EST'!DJ10 -> 312.74417 | Y7: ='SEI Scenario EST'!DO10 -> 28.564708 | Z7: ='SEI Scenario EST'!DT10 -> 24.181477 | AA7: ='SEI Scenario EST'!DY10 -> 102.63337
A8: =A7+1 -> 2028 | B8: ='SEI Scenario EST'!P11 -> 25.76481 | C8: ='SEI Scenario EST'!U11 -> 185.91196 | D8: ='SEI Scenario EST'!Z11 -> 0 | E8: ='SEI Scenario EST'!AE11 -> 0 | G8: =G7+1 -> 2028 | H8: ='SEI Scenario EST'!AN11 -> 1301.1074 | I8: ='SEI Scenario EST'!AS11 -> 8.8673896 | J8: ='SEI Scenario EST'!AX11 -> 394.94791 | K8: ='SEI Scenario EST'!BC11 -> 310.48285 | L8: ='SEI Scenario EST'!BH11 -> 2594.965 | N8: =N7+1 -> 2028 | O8: ='SEI Scenario EST'!BQ11 -> 2.0868327 | P8: ='SEI Scenario EST'!BV11 -> 74.150565 | Q8: ='SEI Scenario EST'!CA11 -> 2.1237154 | R8: ='SEI Scenario EST'!CF11 -> 94.528416 | S8: ='SEI Scenario EST'!CK11 -> 29.586039 | T8: ='SEI Scenario EST'!CP11 -> 169.10306 | U8: ='SEI Scenario EST'!CU11 -> 14.59329 | V8: ='SEI Scenario EST'!CZ11 -> 213.65894 | W8: ='SEI Scenario EST'!DE11 -> 200.00337 | X8: ='SEI Scenario EST'!DJ11 -> 314.92738 | Y8: ='SEI Scenario EST'!DO11 -> 29.077335 | Z8: ='SEI Scenario EST'!DT11 -> 24.356229 | AA8: ='SEI Scenario EST'!DY11 -> 103.04487
A9: =A8+1 -> 2029 | B9: ='SEI Scenario EST'!P12 -> 26.651378 | C9: ='SEI Scenario EST'!U12 -> 235.63277 | D9: ='SEI Scenario EST'!Z12 -> 0 | E9: ='SEI Scenario EST'!AE12 -> 0 | G9: =G8+1 -> 2029 | H9: ='SEI Scenario EST'!AN12 -> 1343.5904 | I9: ='SEI Scenario EST'!AS12 -> 8.8773715 | J9: ='SEI Scenario EST'!AX12 -> 400.87114 | K9: ='SEI Scenario EST'!BC12 -> 314.87636 | L9: ='SEI Scenario EST'!BH12 -> 2597.8862 | N9: =N8+1 -> 2029 | O9: ='SEI Scenario EST'!BQ12 -> 2.0926156 | P9: ='SEI Scenario EST'!BV12 -> 74.489595 | Q9: ='SEI Scenario EST'!CA12 -> 2.1414463 | R9: ='SEI Scenario EST'!CF12 -> 95.158152 | S9: ='SEI Scenario EST'!CK12 -> 29.723903 | T9: ='SEI Scenario EST'!CP12 -> 169.33027 | U9: ='SEI Scenario EST'!CU12 -> 14.59752 | V9: ='SEI Scenario EST'!CZ12 -> 214.28519 | W9: ='SEI Scenario EST'!DE12 -> 201.79128 | X9: ='SEI Scenario EST'!DJ12 -> 315.74088 | Y9: ='SEI Scenario EST'!DO12 -> 29.560314 | Z9: ='SEI Scenario EST'!DT12 -> 24.426887 | AA9: ='SEI Scenario EST'!DY12 -> 102.91394
A10: =A9+1 -> 2030 | B10: ='SEI Scenario EST'!P13 -> 27.785557 | C10: ='SEI Scenario EST'!U13 -> 300.39555 | D10: ='SEI Scenario EST'!Z13 -> 0 | E10: ='SEI Scenario EST'!AE13 -> 0 | G10: =G9+1 -> 2030 | H10: ='SEI Scenario EST'!AN13 -> 1398.5718 | I10: ='SEI Scenario EST'!AS13 -> 8.8881125 | J10: ='SEI Scenario EST'!AX13 -> 408.48266 | K10: ='SEI Scenario EST'!BC13 -> 320.51769 | L10: ='SEI Scenario EST'!BH13 -> 2601.0297 | N10: =N9+1 -> 2030 | O10: ='SEI Scenario EST'!BQ13 -> 2.1020679 | P10: ='SEI Scenario EST'!BV13 -> 74.998094 | Q10: ='SEI Scenario EST'!CA13 -> 2.1663786 | R10: ='SEI Scenario EST'!CF13 -> 96.061746 | S10: ='SEI Scenario EST'!CK13 -> 29.930145 | T10: ='SEI Scenario EST'!CP13 -> 169.78417 | U10: ='SEI Scenario EST'!CU13 -> 14.616812 | V10: ='SEI Scenario EST'!CZ13 -> 215.29713 | W10: ='SEI Scenario EST'!DE13 -> 204.29193 | X10: ='SEI Scenario EST'!DJ13 -> 317.09081 | Y10: ='SEI Scenario EST'!DO13 -> 30.212196 | Z10: ='SEI Scenario EST'!DT13 -> 24.541297 | AA10: ='SEI Scenario EST'!DY13 -> 102.84229
A11: =A10+1 -> 2031 | B11: ='SEI Scenario EST'!P14 -> 29.229571 | C11: ='SEI Scenario EST'!U14 -> 383.85872 | D11: ='SEI Scenario EST'!Z14 -> 0 | E11: ='SEI Scenario EST'!AE14 -> 0 | G11: =G10+1 -> 2031 | H11: ='SEI Scenario EST'!AN14 -> 1469.3805 | I11: ='SEI Scenario EST'!AS14 -> 8.9022358 | J11: ='SEI Scenario EST'!AX14 -> 418.29251 | K11: ='SEI Scenario EST'!BC14 -> 327.78893 | L11: ='SEI Scenario EST'!BH14 -> 2605.163 | N11: =N10+1 -> 2031 | O11: ='SEI Scenario EST'!BQ14 -> 2.1166003 | P11: ='SEI Scenario EST'!BV14 -> 75.735218 | Q11: ='SEI Scenario EST'!CA14 -> 2.2007485 | R11: ='SEI Scenario EST'!CF14 -> 97.327961 | S11: ='SEI Scenario EST'!CK14 -> 30.22854 | T11: ='SEI Scenario EST'!CP14 -> 170.56276 | U11: ='SEI Scenario EST'!CU14 -> 14.658585 | V11: ='SEI Scenario EST'!CZ14 -> 216.84151 | W11: ='SEI Scenario EST'!DE14 -> 207.72393 | X11: ='SEI Scenario EST'!DJ14 -> 319.18605 | Y11: ='SEI Scenario EST'!DO14 -> 31.079838 | Z11: ='SEI Scenario EST'!DT14 -> 24.716139 | AA11: ='SEI Scenario EST'!DY14 -> 102.87145
A12: =A11+1 -> 2032 | B12: ='SEI Scenario EST'!P15 -> 31.032678 | C12: ='SEI Scenario EST'!U15 -> 489.7285 | D12: ='SEI Scenario EST'!Z15 -> 0 | E12: ='SEI Scenario EST'!AE15 -> 0 | G12: =G11+1 -> 2032 | H12: ='SEI Scenario EST'!AN15 -> 1558.8424 | I12: ='SEI Scenario EST'!AS15 -> 8.9182858 | J12: ='SEI Scenario EST'!AX15 -> 430.64185 | K12: ='SEI Scenario EST'!BC15 -> 336.93878 | L12: ='SEI Scenario EST'!BH15 -> 2609.8602 | N12: =N11+1 -> 2032 | O12: ='SEI Scenario EST'!BQ15 -> 2.1366833 | P12: ='SEI Scenario EST'!BV15 -> 76.726866 | Q12: ='SEI Scenario EST'!CA15 -> 2.2458495 | R12: ='SEI Scenario EST'!CF15 -> 99.003399 | S12: ='SEI Scenario EST'!CK15 -> 30.629603 | T12: ='SEI Scenario EST'!CP15 -> 171.68756 | U12: ='SEI Scenario EST'!CU15 -> 14.723637 | V12: ='SEI Scenario EST'!CZ15 -> 218.96884 | W12: ='SEI Scenario EST'!DE15 -> 212.2172 | X12: ='SEI Scenario EST'!DJ15 -> 322.09353 | Y12: ='SEI Scenario EST'!DO15 -> 32.19747 | Z12: ='SEI Scenario EST'!DT15 -> 24.95712 | AA12: ='SEI Scenario EST'!DY15 -> 102.99599
A13: =A12+1 -> 2033 | B13: ='SEI Scenario EST'!P16 -> 33.237448 | C13: ='SEI Scenario EST'!U16 -> 621.41537 | D13: ='SEI Scenario EST'!Z16 -> 0 | E13: ='SEI Scenario EST'!AE16 -> 0 | G13: =G12+1 -> 2033 | H13: ='SEI Scenario EST'!AN16 -> 1669.6439 | I13: ='SEI Scenario EST'!AS16 -> 8.935743 | J13: ='SEI Scenario EST'!AX16 -> 445.87651 | K13: ='SEI Scenario EST'!BC16 -> 348.22141 | L13: ='SEI Scenario EST'!BH16 -> 2614.9692 | N13: =N12+1 -> 2033 | O13: ='SEI Scenario EST'!BQ16 -> 2.1629161 | P13: ='SEI Scenario EST'!BV16 -> 78.002475 | Q13: ='SEI Scenario EST'!CA16 -> 2.3030138 | R13: ='SEI Scenario EST'!CF16 -> 101.13764 | S13: ='SEI Scenario EST'!CK16 -> 31.145236 | T13: ='SEI Scenario EST'!CP16 -> 173.19241 | U13: ='SEI Scenario EST'!CU16 -> 14.813951 | V13: ='SEI Scenario EST'!CZ16 -> 221.74256 | W13: ='SEI Scenario EST'!DE16 -> 217.90441 | X13: ='SEI Scenario EST'!DJ16 -> 325.90008 | Y13: ='SEI Scenario EST'!DO16 -> 33.597981 | Z13: ='SEI Scenario EST'!DT16 -> 25.271428 | AA13: ='SEI Scenario EST'!DY16 -> 103.2201
A14: =A13+1 -> 2034 | B14: ='SEI Scenario EST'!P17 -> 35.867073 | C14: ='SEI Scenario EST'!U17 -> 781.33689 | D14: ='SEI Scenario EST'!Z17 -> 0 | E14: ='SEI Scenario EST'!AE17 -> 0 | G14: =G13+1 -> 2034 | H14: ='SEI Scenario EST'!AN17 -> 1803.7068 | I14: ='SEI Scenario EST'!AS17 -> 8.9546375 | J14: ='SEI Scenario EST'!AX17 -> 464.25396 | K14: ='SEI Scenario EST'!BC17 -> 361.82693 | L14: ='SEI Scenario EST'!BH17 -> 2620.499 | N14: =N13+1 -> 2034 | O14: ='SEI Scenario EST'!BQ17 -> 2.1957741 | P14: ='SEI Scenario EST'!BV17 -> 79.58425 | Q14: ='SEI Scenario EST'!CA17 -> 2.3731963 | R14: ='SEI Scenario EST'!CF17 -> 103.76683 | S14: ='SEI Scenario EST'!CK17 -> 31.784402 | T14: ='SEI Scenario EST'!CP17 -> 175.10624 | U14: ='SEI Scenario EST'!CU17 -> 14.931411 | V14: ='SEI Scenario EST'!CZ17 -> 225.2127 | W14: ='SEI Scenario EST'!DE17 -> 224.88018 | X14: ='SEI Scenario EST'!DJ17 -> 330.67508 | Y14: ='SEI Scenario EST'!DO17 -> 35.303995 | Z14: ='SEI Scenario EST'!DT17 -> 25.664738 | AA14: ='SEI Scenario EST'!DY17 -> 103.55071
A15: =A14+1 -> 2035 | B15: ='SEI Scenario EST'!P18 -> 38.911192 | C15: ='SEI Scenario EST'!U18 -> 970.03466 | D15: ='SEI Scenario EST'!Z18 -> 0 | E15: ='SEI Scenario EST'!AE18 -> 0 | G15: =G14+1 -> 2035 | H15: ='SEI Scenario EST'!AN18 -> 1961.4158 | I15: ='SEI Scenario EST'!AS18 -> 8.9751735 | J15: ='SEI Scenario EST'!AX18 -> 485.83064 | K15: ='SEI Scenario EST'!BC18 -> 377.79744 | L15: ='SEI Scenario EST'!BH18 -> 2626.5092 | N15: =N14+1 -> 2035 | O15: ='SEI Scenario EST'!BQ18 -> 2.2353225 | P15: ='SEI Scenario EST'!BV18 -> 81.474756 | Q15: ='SEI Scenario EST'!CA18 -> 2.4564857 | R15: ='SEI Scenario EST'!CF18 -> 106.89462 | S15: ='SEI Scenario EST'!CK18 -> 32.548129 | T15: ='SEI Scenario EST'!CP18 -> 177.43386 | U15: ='SEI Scenario EST'!CU18 -> 15.076406 | V15: ='SEI Scenario EST'!CZ18 -> 229.386 | W15: ='SEI Scenario EST'!DE18 -> 233.15307 | X15: ='SEI Scenario EST'!DJ18 -> 336.42826 | Y15: ='SEI Scenario EST'!DO18 -> 37.31718 | Z15: ='SEI Scenario EST'!DT18 -> 26.137816 | AA15: ='SEI Scenario EST'!DY18 -> 103.99024
A16: =A15+1 -> 2036 | B16: ='SEI Scenario EST'!P19 -> 42.315055 | C16: ='SEI Scenario EST'!U19 -> 1185.3223 | D16: ='SEI Scenario EST'!Z19 -> 0 | E16: ='SEI Scenario EST'!AE19 -> 0 | G16: =G15+1 -> 2036 | H16: ='SEI Scenario EST'!AN19 -> 2140.9056 | I16: ='SEI Scenario EST'!AS19 -> 8.9975784 | J16: ='SEI Scenario EST'!AX19 -> 510.36309 | K16: ='SEI Scenario EST'!BC19 -> 395.95373 | L16: ='SEI Scenario EST'!BH19 -> 2633.0664 | N16: =N15+1 -> 2036 | O16: ='SEI Scenario EST'!BQ19 -> 2.2809958 | P16: ='SEI Scenario EST'!BV19 -> 83.647007 | Q16: ='SEI Scenario EST'!CA19 -> 2.5516951 | R16: ='SEI Scenario EST'!CF19 -> 110.47643 | S16: ='SEI Scenario EST'!CK19 -> 33.425517 | T16: ='SEI Scenario EST'!CP19 -> 180.1419 | U16: ='SEI Scenario EST'!CU19 -> 15.246848 | V16: ='SEI Scenario EST'!CZ19 -> 234.20279 | W16: ='SEI Scenario EST'!DE19 -> 242.60524 | X16: ='SEI Scenario EST'!DJ19 -> 343.07732 | Y16: ='SEI Scenario EST'!DO19 -> 39.608894 | Z16: ='SEI Scenario EST'!DT19 -> 26.683897 | AA16: ='SEI Scenario EST'!DY19 -> 104.53226
... A30: =A29+1 -> 2050 | B30: ='SEI Scenario EST'!P33 -> 74.427818 | C30: ='SEI Scenario EST'!U33 -> 3382.1127 | D30: ='SEI Scenario EST'!Z33 -> 0 | E30: ='SEI Scenario EST'!AE33 -> 0 | G30: =G29+1 -> 2050 | H30: ='SEI Scenario EST'!AN33 -> 3951.1527 | I30: ='SEI Scenario EST'!AS33 -> 9.3646799 | J30: ='SEI Scenario EST'!AX33 -> 761.30574 | K30: ='SEI Scenario EST'!BC33 -> 581.96932 | L30: ='SEI Scenario EST'!BH33 -> 2740.5016 | N30: =N29+1 -> 2050 | O30: ='SEI Scenario EST'!BQ33 -> 2.7014636 | P30: ='SEI Scenario EST'!BV33 -> 103.69621 | Q30: ='SEI Scenario EST'!CA33 -> 3.4327575 | R30: ='SEI Scenario EST'!CF33 -> 143.59221 | S30: ='SEI Scenario EST'!CK33 -> 41.524278 | T30: ='SEI Scenario EST'!CP33 -> 204.97915 | U30: ='SEI Scenario EST'!CU33 -> 16.801984 | V30: ='SEI Scenario EST'!CZ33 -> 278.55935 | W30: ='SEI Scenario EST'!DE33 -> 330.09725 | X30: ='SEI Scenario EST'!DJ33 -> 404.26577 | Y30: ='SEI Scenario EST'!DO33 -> 60.861464 | Z30: ='SEI Scenario EST'!DT33 -> 31.712337 | AA30: ='SEI Scenario EST'!DY33 -> 109.36158
A32: Latvia
A33: Year | B33: Rail | C33: Road | D33: Domestic aviation | E33: Domestic navigation | G33: Year | H33: Space Heating | I33: Space cooling | J33: Water heating | K33: Cooking | L33: Lighting and electrical appliances | N33: Year | O33: Iron & steel | P33: Chemical | Q33: Non-ferrous metals | R33: Other non-metallic mineral products | S33: Transport equipment | T33: Machinery | U33: Mining & quarrying | V33: Food, beverages & tobacco | W33: Pulp, paper & printing | X33: Wood & wood products | Y33: Construction | Z33: Textile, leather & clothing | AA33: Other industries
A34: 2024 | B34: ='SEI Scenario LAT'!P7 -> 83.990111 | C34: ='SEI Scenario LAT'!U7 -> 53.022353 | D34: ='SEI Scenario LAT'!Z7 -> 0 | E34: ='SEI Scenario LAT'!AE7 -> 0 | G34: 2024 | H34: ='SEI Scenario LAT'!AN7 -> 616.52569 | I34: ='SEI Scenario LAT'!AS7 -> 13.806162 | J34: ='SEI Scenario LAT'!AX7 -> 1394.8446 | K34: ='SEI Scenario LAT'!BC7 -> 190.17312 | L34: ='SEI Scenario LAT'!BH7 -> 2401.914 | N34: 2024 | O34: ='SEI Scenario LAT'!BQ7 -> 14.449842 | P34: ='SEI Scenario LAT'!BV7 -> 90.532814 | Q34: ='SEI Scenario LAT'!CA7 -> 11.368457 | R34: ='SEI Scenario LAT'!CF7 -> 313.48676 | S34: ='SEI Scenario LAT'!CK7 -> 43.553136 | T34: ='SEI Scenario LAT'!CP7 -> 2.3215756 | U34: ='SEI Scenario LAT'!CU7 -> 13.798722 | V34: ='SEI Scenario LAT'!CZ7 -> 304.21321 | W34: ='SEI Scenario LAT'!DE7 -> 27.207644 | X34: ='SEI Scenario LAT'!DJ7 -> 840.42526 | Y34: ='SEI Scenario LAT'!DO7 -> 62.714337 | Z34: ='SEI Scenario LAT'!DT7 -> 21.413988 | AA34: ='SEI Scenario LAT'!DY7 -> 116.09088
A35: =A34+1 -> 2025 | B35: ='SEI Scenario LAT'!P8 -> 98.428427 | C35: ='SEI Scenario LAT'!U8 -> 130.02249 | D35: ='SEI Scenario LAT'!Z8 -> 0 | E35: ='SEI Scenario LAT'!AE8 -> 0 | G35: =G34+1 -> 2025 | H35: ='SEI Scenario LAT'!AN8 -> 686.33214 | I35: ='SEI Scenario LAT'!AS8 -> 14.010125 | J35: ='SEI Scenario LAT'!AX8 -> 1419.3871 | K35: ='SEI Scenario LAT'!BC8 -> 207.77769 | L35: ='SEI Scenario LAT'!BH8 -> 2437.3983 | N35: =N34+1 -> 2025 | O35: ='SEI Scenario LAT'!BQ8 -> 14.322893 | P35: ='SEI Scenario LAT'!BV8 -> 90.58634 | Q35: ='SEI Scenario LAT'!CA8 -> 11.388477 | R35: ='SEI Scenario LAT'!CF8 -> 315.26132 | S35: ='SEI Scenario LAT'!CK8 -> 43.577876 | T35: ='SEI Scenario LAT'!CP8 -> 2.3254905 | U35: ='SEI Scenario LAT'!CU8 -> 14.575435 | V35: ='SEI Scenario LAT'!CZ8 -> 304.25566 | W35: ='SEI Scenario LAT'!DE8 -> 27.19201 | X35: ='SEI Scenario LAT'!DJ8 -> 851.33833 | Y35: ='SEI Scenario LAT'!DO8 -> 63.032251 | Z35: ='SEI Scenario LAT'!DT8 -> 21.523795 | AA35: ='SEI Scenario LAT'!DY8 -> 116.13132
A36: =A35+1 -> 2026 | B36: ='SEI Scenario LAT'!P9 -> 107.26276 | C36: ='SEI Scenario LAT'!U9 -> 166.47178 | D36: ='SEI Scenario LAT'!Z9 -> 0 | E36: ='SEI Scenario LAT'!AE9 -> 0 | G36: =G35+1 -> 2026 | H36: ='SEI Scenario LAT'!AN9 -> 677.86353 | I36: ='SEI Scenario LAT'!AS9 -> 13.431227 | J36: ='SEI Scenario LAT'!AX9 -> 1362.0279 | K36: ='SEI Scenario LAT'!BC9 -> 204.04061 | L36: ='SEI Scenario LAT'!BH9 -> 2336.6851 | N36: =N35+1 -> 2026 | O36: ='SEI Scenario LAT'!BQ9 -> 14.879102 | P36: ='SEI Scenario LAT'!BV9 -> 94.405602 | Q36: ='SEI Scenario LAT'!CA9 -> 11.873312 | R36: ='SEI Scenario LAT'!CF9 -> 329.11231 | S36: ='SEI Scenario LAT'!CK9 -> 45.414833 | T36: ='SEI Scenario LAT'!CP9 -> 2.4244313 | U36: ='SEI Scenario LAT'!CU9 -> 15.460335 | V36: ='SEI Scenario LAT'!CZ9 -> 317.03522 | W36: ='SEI Scenario LAT'!DE9 -> 28.327309 | X36: ='SEI Scenario LAT'!DJ9 -> 890.8965 | Y36: ='SEI Scenario LAT'!DO9 -> 65.788587 | Z36: ='SEI Scenario LAT'!DT9 -> 22.465449 | AA36: ='SEI Scenario LAT'!DY9 -> 121.01769
A37: =A36+1 -> 2027 | B37: ='SEI Scenario LAT'!P10 -> 108.4804 | C37: ='SEI Scenario LAT'!U10 -> 201.32489 | D37: ='SEI Scenario LAT'!Z10 -> 0 | E37: ='SEI Scenario LAT'!AE10 -> 0 | G37: =G36+1 -> 2027 | H37: ='SEI Scenario LAT'!AN10 -> 690.79083 | I37: ='SEI Scenario LAT'!AS10 -> 13.172849 | J37: ='SEI Scenario LAT'!AX10 -> 1337.5104 | K37: ='SEI Scenario LAT'!BC10 -> 206.44497 | L37: ='SEI Scenario LAT'!BH10 -> 2291.7341 | N37: =N36+1 -> 2027 | O37: ='SEI Scenario LAT'!BQ10 -> 15.013523 | P37: ='SEI Scenario LAT'!BV10 -> 95.663415 | Q37: ='SEI Scenario LAT'!CA10 -> 12.03777 | R37: ='SEI Scenario LAT'!CF10 -> 334.24581 | S37: ='SEI Scenario LAT'!CK10 -> 46.019443 | T37: ='SEI Scenario LAT'!CP10 -> 2.4579307 | U37: ='SEI Scenario LAT'!CU10 -> 16.028336 | V37: ='SEI Scenario LAT'!CZ10 -> 321.19452 | W37: ='SEI Scenario LAT'!DE10 -> 28.689787 | X37: ='SEI Scenario LAT'!DJ10 -> 907.67273 | Y37: ='SEI Scenario LAT'!DO10 -> 66.797404 | Z37: ='SEI Scenario LAT'!DT10 -> 22.810527 | AA37: ='SEI Scenario LAT'!DY10 -> 122.61678
A38: =A37+1 -> 2028 | B38: ='SEI Scenario LAT'!P11 -> 109.90003 | C38: ='SEI Scenario LAT'!U11 -> 247.51216 | D38: ='SEI Scenario LAT'!Z11 -> 0 | E38: ='SEI Scenario LAT'!AE11 -> 0 | G38: =G37+1 -> 2028 | H38: ='SEI Scenario LAT'!AN11 -> 710.94308 | I38: ='SEI Scenario LAT'!AS11 -> 12.914 | J38: ='SEI Scenario LAT'!AX11 -> 1313.415 | K38: ='SEI Scenario LAT'!BC11 -> 210.60902 | L38: ='SEI Scenario LAT'!BH11 -> 2246.701 | N38: =N37+1 -> 2028 | O38: ='SEI Scenario LAT'!BQ11 -> 15.142623 | P38: ='SEI Scenario LAT'!BV11 -> 97.027144 | Q38: ='SEI Scenario LAT'!CA11 -> 12.21771 | R38: ='SEI Scenario LAT'!CF11 -> 340.00675 | S38: ='SEI Scenario LAT'!CK11 -> 46.67484 | T38: ='SEI Scenario LAT'!CP11 -> 2.4945632 | U38: ='SEI Scenario LAT'!CU11 -> 16.738548 | V38: ='SEI Scenario LAT'!CZ11 -> 325.68718 | W38: ='SEI Scenario LAT'!DE11 -> 29.078892 | X38: ='SEI Scenario LAT'!DJ11 -> 927.14078 | Y38: ='SEI Scenario LAT'!DO11 -> 67.925657 | Z38: ='SEI Scenario LAT'!DT11 -> 23.196592 | AA38: ='SEI Scenario LAT'!DY11 -> 124.34707
A39: =A38+1 -> 2029 | B39: ='SEI Scenario LAT'!P12 -> 111.57799 | C39: ='SEI Scenario LAT'!U12 -> 308.32189 | D39: ='SEI Scenario LAT'!Z12 -> 0 | E39: ='SEI Scenario LAT'!AE12 -> 0 | G39: =G38+1 -> 2029 | H39: ='SEI Scenario LAT'!AN12 -> 740.09326 | I39: ='SEI Scenario LAT'!AS12 -> 12.653229 | J39: ='SEI Scenario LAT'!AX12 -> 1289.7146 | K39: ='SEI Scenario LAT'!BC12 -> 216.96075 | L39: ='SEI Scenario LAT'!BH12 -> 2201.3337 | N39: =N38+1 -> 2029 | O39: ='SEI Scenario LAT'!BQ12 -> 15.264182 | P39: ='SEI Scenario LAT'!BV12 -> 98.524248 | Q39: ='SEI Scenario LAT'!CA12 -> 12.417228 | R39: ='SEI Scenario LAT'!CF12 -> 346.56767 | S39: ='SEI Scenario LAT'!CK12 -> 47.394186 | T39: ='SEI Scenario LAT'!CP12 -> 2.5351568 | U39: ='SEI Scenario LAT'!CU12 -> 17.632618 | V39: ='SEI Scenario LAT'!CZ12 -> 330.59877 | W39: ='SEI Scenario LAT'!DE12 -> 29.501331 | X39: ='SEI Scenario LAT'!DJ12 -> 950.06326 | Y39: ='SEI Scenario LAT'!DO12 -> 69.206056 | Z39: ='SEI Scenario LAT'!DT12 -> 23.634876 | AA39: ='SEI Scenario LAT'!DY12 -> 126.24239
A40: =A39+1 -> 2030 | B40: ='SEI Scenario LAT'!P13 -> 113.66753 | C40: ='SEI Scenario LAT'!U13 -> 387.96598 | D40: ='SEI Scenario LAT'!Z13 -> 0 | E40: ='SEI Scenario LAT'!AE13 -> 0 | G40: =G39+1 -> 2030 | H40: ='SEI Scenario LAT'!AN13 -> 780.84607 | I40: ='SEI Scenario LAT'!AS13 -> 12.398303 | J40: ='SEI Scenario LAT'!AX13 -> 1267.3401 | K40: ='SEI Scenario LAT'!BC13 -> 226.15748 | L40: ='SEI Scenario LAT'!BH13 -> 2156.9832 | N40: =N39+1 -> 2030 | O40: ='SEI Scenario LAT'!BQ13 -> 15.38718 | P40: ='SEI Scenario LAT'!BV13 -> 100.26363 | Q40: ='SEI Scenario LAT'!CA13 -> 12.650823 | R40: ='SEI Scenario LAT'!CF13 -> 354.40419 | S40: ='SEI Scenario LAT'!CK13 -> 48.229807 | T40: ='SEI Scenario LAT'!CP13 -> 2.5826618 | U40: ='SEI Scenario LAT'!CU13 -> 18.774795 | V40: ='SEI Scenario LAT'!CZ13 -> 336.28672 | W40: ='SEI Scenario LAT'!DE13 -> 29.987866 | X40: ='SEI Scenario LAT'!DJ13 -> 978.09694 | Y40: ='SEI Scenario LAT'!DO13 -> 70.731453 | Z40: ='SEI Scenario LAT'!DT13 -> 24.157159 | AA40: ='SEI Scenario LAT'!DY13 -> 128.44064
A41: =A40+1 -> 2031 | B41: ='SEI Scenario LAT'!P14 -> 116.27204 | C41: ='SEI Scenario LAT'!U14 -> 491.20237 | D41: ='SEI Scenario LAT'!Z14 -> 0 | E41: ='SEI Scenario LAT'!AE14 -> 0 | G41: =G40+1 -> 2031 | H41: ='SEI Scenario LAT'!AN14 -> 835.61727 | I41: ='SEI Scenario LAT'!AS14 -> 12.149185 | J41: ='SEI Scenario LAT'!AX14 -> 1246.4446 | K41: ='SEI Scenario LAT'!BC14 -> 238.78795 | L41: ='SEI Scenario LAT'!BH14 -> 2113.6431 | N41: =N40+1 -> 2031 | O41: ='SEI Scenario LAT'!BQ14 -> 15.511708 | P41: ='SEI Scenario LAT'!BV14 -> 102.30649 | Q41: ='SEI Scenario LAT'!CA14 -> 12.927132 | R41: ='SEI Scenario LAT'!CF14 -> 363.84179 | S41: ='SEI Scenario LAT'!CK14 -> 49.211079 | T41: ='SEI Scenario LAT'!CP14 -> 2.6388294 | U41: ='SEI Scenario LAT'!CU14 -> 20.229312 | V41: ='SEI Scenario LAT'!CZ14 -> 342.94689 | W41: ='SEI Scenario LAT'!DE14 -> 30.554624 | X41: ='SEI Scenario LAT'!DJ14 -> 1012.5541 | Y41: ='SEI Scenario LAT'!DO14 -> 72.564311 | Z41: ='SEI Scenario LAT'!DT14 -> 24.784861 | AA41: ='SEI Scenario LAT'!DY14 -> 131.01828
A42: =A41+1 -> 2032 | B42: ='SEI Scenario LAT'!P15 -> 119.5084 | C42: ='SEI Scenario LAT'!U15 -> 623.24699 | D42: ='SEI Scenario LAT'!Z15 -> 0 | E42: ='SEI Scenario LAT'!AE15 -> 0 | G42: =G41+1 -> 2032 | H42: ='SEI Scenario LAT'!AN15 -> 906.87971 | I42: ='SEI Scenario LAT'!AS15 -> 11.906243 | J42: ='SEI Scenario LAT'!AX15 -> 1227.2246 | K42: ='SEI Scenario LAT'!BC15 -> 255.45597 | L42: ='SEI Scenario LAT'!BH15 -> 2071.3775 | N42: =N41+1 -> 2032 | O42: ='SEI Scenario LAT'!BQ15 -> 15.63839 | P42: ='SEI Scenario LAT'!BV15 -> 104.724 | Q42: ='SEI Scenario LAT'!CA15 -> 13.256144 | R42: ='SEI Scenario LAT'!CF15 -> 375.25278 | S42: ='SEI Scenario LAT'!CK15 -> 50.372155 | T42: ='SEI Scenario LAT'!CP15 -> 2.7056859 | U42: ='SEI Scenario LAT'!CU15 -> 22.067903 | V42: ='SEI Scenario LAT'!CZ15 -> 350.80751 | W42: ='SEI Scenario LAT'!DE15 -> 31.220479 | X42: ='SEI Scenario LAT'!DJ15 -> 1054.9206 | Y42: ='SEI Scenario LAT'!DO15 -> 74.776173 | Z42: ='SEI Scenario LAT'!DT15 -> 25.542508 | AA42: ='SEI Scenario LAT'!DY15 -> 134.06434
A43: =A42+1 -> 2033 | B43: ='SEI Scenario LAT'!P16 -> 123.50493 | C43: ='SEI Scenario LAT'!U16 -> 789.36014 | D43: ='SEI Scenario LAT'!Z16 -> 0 | E43: ='SEI Scenario LAT'!AE16 -> 0 | G43: =G42+1 -> 2033 | H43: ='SEI Scenario LAT'!AN16 -> 996.89907 | I43: ='SEI Scenario LAT'!AS16 -> 11.670947 | J43: ='SEI Scenario LAT'!AX16 -> 1209.9713 | K43: ='SEI Scenario LAT'!BC16 -> 276.71804 | L43: ='SEI Scenario LAT'!BH16 -> 2030.4421 | N43: =N42+1 -> 2033 | O43: ='SEI Scenario LAT'!BQ16 -> 15.769412 | P43: ='SEI Scenario LAT'!BV16 -> 107.59875 | Q43: ='SEI Scenario LAT'!CA16 -> 13.64931 | R43: ='SEI Scenario LAT'!CF16 -> 389.05212 | S43: ='SEI Scenario LAT'!CK16 -> 51.752684 | T43: ='SEI Scenario LAT'!CP16 -> 2.7855554 | U43: ='SEI Scenario LAT'!CU16 -> 24.365527 | V43: ='SEI Scenario LAT'!CZ16 -> 360.13494 | W43: ='SEI Scenario LAT'!DE16 -> 32.007677 | X43: ='SEI Scenario LAT'!DJ16 -> 1106.8084 | Y43: ='SEI Scenario LAT'!DO16 -> 77.447041 | Z43: ='SEI Scenario LAT'!DT16 -> 26.45752 | AA43: ='SEI Scenario LAT'!DY16 -> 137.68244
A44: =A43+1 -> 2034 | B44: ='SEI Scenario LAT'!P17 -> 128.36358 | C44: ='SEI Scenario LAT'!U17 -> 993.95987 | D44: ='SEI Scenario LAT'!Z17 -> 0 | E44: ='SEI Scenario LAT'!AE17 -> 0 | G44: =G43+1 -> 2034 | H44: ='SEI Scenario LAT'!AN17 -> 1107.0901 | I44: ='SEI Scenario LAT'!AS17 -> 11.443737 | J44: ='SEI Scenario LAT'!AX17 -> 1194.8195 | K44: ='SEI Scenario LAT'!BC17 -> 302.92027 | L44: ='SEI Scenario LAT'!BH17 -> 1990.9135 | N44: =N43+1 -> 2034 | O44: ='SEI Scenario LAT'!BQ17 -> 15.905788 | P44: ='SEI Scenario LAT'!BV17 -> 110.99693 | Q44: ='SEI Scenario LAT'!CA17 -> 14.115879 | R44: ='SEI Scenario LAT'!CF17 -> 405.58106 | S44: ='SEI Scenario LAT'!CK17 -> 53.384443 | T44: ='SEI Scenario LAT'!CP17 -> 2.8803146 | U44: ='SEI Scenario LAT'!CU17 -> 27.186452 | V44: ='SEI Scenario LAT'!CZ17 -> 371.14195 | W44: ='SEI Scenario LAT'!DE17 -> 32.933877 | X44: ='SEI Scenario LAT'!DJ17 -> 1169.5663 | Y44: ='SEI Scenario LAT'!DO17 -> 80.64257 | Z44: ='SEI Scenario LAT'!DT17 -> 27.552404 | AA44: ='SEI Scenario LAT'!DY17 -> 141.95547
A45: =A44+1 -> 2035 | B45: ='SEI Scenario LAT'!P18 -> 134.14304 | C45: ='SEI Scenario LAT'!U18 -> 1239.5201 | D45: ='SEI Scenario LAT'!Z18 -> 0 | E45: ='SEI Scenario LAT'!AE18 -> 0 | G45: =G44+1 -> 2035 | H45: ='SEI Scenario LAT'!AN18 -> 1237.438 | I45: ='SEI Scenario LAT'!AS18 -> 11.224844 | J45: ='SEI Scenario LAT'!AX18 -> 1181.791 | K45: ='SEI Scenario LAT'!BC18 -> 334.05975 | L45: ='SEI Scenario LAT'!BH18 -> 1952.8317 | N45: =N44+1 -> 2035 | O45: ='SEI Scenario LAT'!BQ18 -> 16.048359 | P45: ='SEI Scenario LAT'!BV18 -> 114.96077 | Q45: ='SEI Scenario LAT'!CA18 -> 14.661733 | R45: ='SEI Scenario LAT'!CF18 -> 425.05499 | S45: ='SEI Scenario LAT'!CK18 -> 55.2877 | T45: ='SEI Scenario LAT'!CP18 -> 2.9911572 | U45: ='SEI Scenario LAT'!CU18 -> 30.57057 | V45: ='SEI Scenario LAT'!CZ18 -> 383.96444 | W45: ='SEI Scenario LAT'!DE18 -> 34.010388 | X45: ='SEI Scenario LAT'!DJ18 -> 1244.0397 | Y45: ='SEI Scenario LAT'!DO18 -> 84.404236 | Z45: ='SEI Scenario LAT'!DT18 -> 28.841375 | AA45: ='SEI Scenario LAT'!DY18 -> 146.93635
A46: =A45+1 -> 2036 | B46: ='SEI Scenario LAT'!P19 -> 140.94416 | C46: ='SEI Scenario LAT'!U19 -> 1526.5217 | D46: ='SEI Scenario LAT'!Z19 -> 0 | E46: ='SEI Scenario LAT'!AE19 -> 0 | G46: =G45+1 -> 2036 | H46: ='SEI Scenario LAT'!AN19 -> 1386.9874 | I46: ='SEI Scenario LAT'!AS19 -> 11.023135 | J46: ='SEI Scenario LAT'!AX19 -> 1171.694 | K46: ='SEI Scenario LAT'!BC19 -> 369.92918 | L46: ='SEI Scenario LAT'!BH19 -> 1917.7396 | N46: =N45+1 -> 2036 | O46: ='SEI Scenario LAT'!BQ19 -> 16.210791 | P46: ='SEI Scenario LAT'!BV19 -> 119.58812 | Q46: ='SEI Scenario LAT'!CA19 -> 15.299351 | R46: ='SEI Scenario LAT'!CF19 -> 447.83566 | S46: ='SEI Scenario LAT'!CK19 -> 57.509515 | T46: ='SEI Scenario LAT'!CP19 -> 3.1206289 | U46: ='SEI Scenario LAT'!CU19 -> 34.54388 | V46: ='SEI Scenario LAT'!CZ19 -> 398.92924 | W46: ='SEI Scenario LAT'!DE19 -> 35.266159 | X46: ='SEI Scenario LAT'!DJ19 -> 1331.2873 | Y46: ='SEI Scenario LAT'!DO19 -> 88.803873 | Z46: ='SEI Scenario LAT'!DT19 -> 30.348981 | AA46: ='SEI Scenario LAT'!DY19 -> 152.75014
... A60: =A59+1 -> 2050 | B60: ='SEI Scenario LAT'!P33 -> 226.30473 | C60: ='SEI Scenario LAT'!U33 -> 4952.6986 | D60: ='SEI Scenario LAT'!Z33 -> 0 | E60: ='SEI Scenario LAT'!AE33 -> 0 | G60: =G59+1 -> 2050 | H60: ='SEI Scenario LAT'!AN33 -> 2531.6499 | I60: ='SEI Scenario LAT'!AS33 -> 8.7335664 | J60: ='SEI Scenario LAT'!AX33 -> 1021.2342 | K60: ='SEI Scenario LAT'!BC33 -> 642.32183 | L60: ='SEI Scenario LAT'!BH33 -> 1519.414 | N60: =N59+1 -> 2050 | O60: ='SEI Scenario LAT'!BQ33 -> 19.078385 | P60: ='SEI Scenario LAT'!BV33 -> 183.77687 | Q60: ='SEI Scenario LAT'!CA33 -> 24.083828 | R60: ='SEI Scenario LAT'!CF33 -> 756.63331 | S60: ='SEI Scenario LAT'!CK33 -> 88.334216 | T60: ='SEI Scenario LAT'!CP33 -> 4.9050798 | U60: ='SEI Scenario LAT'!CU33 -> 86.174874 | V60: ='SEI Scenario LAT'!CZ33 -> 607.13798 | W60: ='SEI Scenario LAT'!DE33 -> 52.829545 | X60: ='SEI Scenario LAT'!DJ33 -> 2494.3157 | Y60: ='SEI Scenario LAT'!DO33 -> 148.56036 | Z60: ='SEI Scenario LAT'!DT33 -> 50.821346 | AA60: ='SEI Scenario LAT'!DY33 -> 233.52467
A62: Lithuania
A63: Year | B63: Rail | C63: Road | D63: Domestic aviation | E63: Domestic navigation | G63: Year | H63: Space Heating | I63: Space cooling | J63: Water heating | K63: Cooking | L63: Lighting and electrical appliances | N63: Year | O63: Iron & steel | P63: Chemical | Q63: Non-ferrous metals | R63: Other non-metallic mineral products | S63: Transport equipment | T63: Machinery | U63: Mining & quarrying | V63: Food, beverages & tobacco | W63: Pulp, paper & printing | X63: Wood & wood products | Y63: Construction | Z63: Textile, leather & clothing | AA63: Other industries
A64: 2024 | B64: ='SEI Scenario LIT'!P7 -> 14.958756 | C64: ='SEI Scenario LIT'!U7 -> 85.475025 | D64: ='SEI Scenario LIT'!Z7 -> 0 | E64: ='SEI Scenario LIT'!AE7 -> 0 | G64: 2024 | H64: ='SEI Scenario LIT'!AN7 -> 496.73014 | I64: ='SEI Scenario LIT'!AS7 -> 33.200426 | J64: ='SEI Scenario LIT'!AX7 -> 550.26277 | K64: ='SEI Scenario LIT'!BC7 -> 387.88975 | L64: ='SEI Scenario LIT'!BH7 -> 4530.2939 | N64: 2024 | O64: ='SEI Scenario LIT'!BQ7 -> 17.964543 | P64: ='SEI Scenario LIT'!BV7 -> 527.0493 | Q64: ='SEI Scenario LIT'!CA7 -> 0 | R64: ='SEI Scenario LIT'!CF7 -> 242.38726 | S64: ='SEI Scenario LIT'!CK7 -> 56.753655 | T64: ='SEI Scenario LIT'!CP7 -> 232.91343 | U64: ='SEI Scenario LIT'!CU7 -> 36.107837 | V64: ='SEI Scenario LIT'!CZ7 -> 727.96617 | W64: ='SEI Scenario LIT'!DE7 -> 192.60492 | X64: ='SEI Scenario LIT'!DJ7 -> 347.13574 | Y64: ='SEI Scenario LIT'!DO7 -> 124.05366 | Z64: ='SEI Scenario LIT'!DT7 -> 157.21209 | AA64: ='SEI Scenario LIT'!DY7 -> 508.906
A65: =A64+1 -> 2025 | B65: ='SEI Scenario LIT'!P8 -> 17.158654 | C65: ='SEI Scenario LIT'!U8 -> 229.37065 | D65: ='SEI Scenario LIT'!Z8 -> 0 | E65: ='SEI Scenario LIT'!AE8 -> 0 | G65: =G64+1 -> 2025 | H65: ='SEI Scenario LIT'!AN8 -> 610.86915 | I65: ='SEI Scenario LIT'!AS8 -> 35.126658 | J65: ='SEI Scenario LIT'!AX8 -> 593.17502 | K65: ='SEI Scenario LIT'!BC8 -> 430.83096 | L65: ='SEI Scenario LIT'!BH8 -> 4793.1338 | N65: =N64+1 -> 2025 | O65: ='SEI Scenario LIT'!BQ8 -> 19.329565 | P65: ='SEI Scenario LIT'!BV8 -> 582.69068 | Q65: ='SEI Scenario LIT'!CA8 -> 0 | R65: ='SEI Scenario LIT'!CF8 -> 265.28763 | S65: ='SEI Scenario LIT'!CK8 -> 61.10667 | T65: ='SEI Scenario LIT'!CP8 -> 251.43815 | U65: ='SEI Scenario LIT'!CU8 -> 39.371787 | V65: ='SEI Scenario LIT'!CZ8 -> 790.08818 | W65: ='SEI Scenario LIT'!DE8 -> 209.26739 | X65: ='SEI Scenario LIT'!DJ8 -> 373.96804 | Y65: ='SEI Scenario LIT'!DO8 -> 133.92994 | Z65: ='SEI Scenario LIT'!DT8 -> 169.97048 | AA65: ='SEI Scenario LIT'!DY8 -> 547.5973
