Workbook

Sheet Cover
B3: SEI Stockholm Environment Institute
B6: Electrification Potential Analysis for the Baltics Past and Future Developments
B8: Scenario Projections & Historical Analysis · Estonia · Latvia · Lithuania
B10: PROJECT INFORMATION
B11: Project Title | C11: Electrification Potential Analysis for Baltics – Past and Future Developments
B12: Study Carried Out By | C12: Stockholm Environment Institute (SEI), Tallinn Centre
B13: Beneficiary | C13: Sunly
B14: Countries Covered | C14: Estonia · Latvia · Lithuania
B15: Date | C15: 46266

Sheet Historical trend ass. Est_visua
A1: The main sources are:
A2: IEA: https://www.iea.org/countries/estonia
A3: Eurostat: https://ec.europa.eu/eurostat/web/main/data/database
A4: National statistics: https://www.stat.ee/et
B8: Figure 1 - Total Monthly Electricity Production | G8: Source: National Statistics Estonia | K8: Figure 2 - Sectoral final energy consumption - electricity | Q8: Source: National Statistics Estonia and IEA Estonia
B24: Figure 3 - Total yearly Electricity Production by fuel | G24: Source: National Statistics Estonia | L24: Figure 4 - Total share of fossil and renewable electricity generation | R24: Source: National Statistics Estonia
B45: Figure 5 - Final energy consumption of electricity | H45: Source: National Statistics Estonia | K45: Figure 6 - Industrial final energy consumption | P45: Source: IEA and Eurostat Estonia
B63: Figure 7 - Transport final energy consumption | G63: Source: IEA and Eurostat Estonia | L63: Figure 8 - Buildings final energy consumption | Q63: Source: IEA Estonia
B80: Figure 9 - Final energy consumption | F80: Source: National Statistics Estonia | L80: Figure 10 - Per capita electricty consumption | P80: Source: National Statistics Estonia
A100: Figure 1 - Total Monthly Electricity Production
A101: Total electricity production, GWh | B101: 2005 January | C101: 2005 February | D101: 2005 March | E101: 2005 April | F101: 2005 May | G101: 2005 June | H101: 2005 July | I101: 2005 August | J101: 2005 September | K101: 2005 October | L101: 2005 November | M101: 2005 December | N101: 2006 January | O101: 2006 February | P101: 2006 March | Q101: 2006 April | R101: 2006 May | S101: 2006 June | T101: 2006 July | U101: 2006 August | V101: 2006 September | W101: 2006 October | X101: 2006 November | Y101: 2006 December | Z101: 2007 January | AA101: 2007 February | AB101: 2007 March | AC101: 2007 April | AD101: 2007 May | AE101: 2007 June | AF101: 2007 July | AG101: 2007 August | AH101: 2007 September | AI101: 2007 October | AJ101: 2007 November | AK101: 2007 December | AL101: 2008 January | AM101: 2008 February | AN101: 2008 March | AO101: 2008 April | AP101: 2008 May | AQ101: 2008 June | AR101: 2008 July | AS101: 2008 August | AT101: 2008 September | AU101: 2008 October | AV101: 2008 November | AW101: 2008 December | AX101: 2009 January | AY101: 2009 February | AZ101: 2009 March | BA101: 2009 April | BB101: 2009 May | BC101: 2009 June | BD101: 2009 July | BE101: 2009 August | BF101: 2009 September | BG101: 2009 October | BH101: 2009 November | BI101: 2009 December | BJ101: 2010 January | BK101: 2010 February | BL101: 2010 March | BM101: 2010 April | BN101: 2010 May | BO101: 2010 June | BP101: 2010 July | BQ101: 2010 August | BR101: 2010 September | BS101: 2010 October | BT101: 2010 November | BU101: 2010 December | BV101: 2011 January | BW101: 2011 February | BX101: 2011 March | BY101: 2011 April | BZ101: 2011 May | CA101: 2011 June | CB101: 2011 July | CC101: 2011 August | CD101: 2011 September | CE101: 2011 October | CF101: 2011 November | CG101: 2011 December | CH101: 2012 January | CI101: 2012 February | CJ101: 2012 March | CK101: 2012 April | CL101: 2012 May | CM101: 2012 June | CN101: 2012 July | CO101: 2012 August | CP101: 2012 September | CQ101: 2012 October | CR101: 2012 November | CS101: 2012 December | CT101: 2013 January | CU101: 2013 February | CV101: 2013 March | CW101: 2013 April | CX101: 2013 May | CY101: 2013 June | CZ101: 2013 July | DA101: 2013 August | DB101: 2013 September | DC101: 2013 October | DD101: 2013 November | DE101: 2013 December | DF101: 2014 January | DG101: 2014 February | DH101: 2014 March | DI101: 2014 April | DJ101: 2014 May | DK101: 2014 June | DL101: 2014 July | DM101: 2014 August | DN101: 2014 September | DO101: 2014 October | DP101: 2014 November | DQ101: 2014 December | DR101: 2015 January | DS101: 2015 February | DT101: 2015 March | DU101: 2015 April | DV101: 2015 May | DW101: 2015 June | DX101: 2015 July | DY101: 2015 August | DZ101: 2015 September | EA101: 2015 October | EB101: 2015 November | EC101: 2015 December | ED101: 2016 January | EE101: 2016 February | EF101: 2016 March | EG101: 2016 April | EH101: 2016 May | EI101: 2016 June | EJ101: 2016 July | EK101: 2016 August | EL101: 2016 September | EM101: 2016 October | EN101: 2016 November | EO101: 2016 December | EP101: 2017 January | EQ101: 2017 February | ER101: 2017 March | ES101: 2017 April | ET101: 2017 May | EU101: 2017 June | EV101: 2017 July | EW101: 2017 August | EX101: 2017 September | EY101: 2017 October | EZ101: 2017 November | FA101: 2017 December | FB101: 2018 January | FC101: 2018 February | FD101: 2018 March | FE101: 2018 April | FF101: 2018 May | FG101: 2018 June | FH101: 2018 July | FI101: 2018 August | FJ101: 2018 September | FK101: 2018 October | FL101: 2018 November | FM101: 2018 December | FN101: 2019 January | FO101: 2019 February | FP101: 2019 March | FQ101: 2019 April | FR101: 2019 May | FS101: 2019 June | FT101: 2019 July | FU101: 2019 August | FV101: 2019 September | FW101: 2019 October | FX101: 2019 November | FY101: 2019 December | FZ101: 2020 January | GA101: 2020 February | GB101: 2020 March | GC101: 2020 April | GD101: 2020 May | GE101: 2020 June | GF101: 2020 July | GG101: 2020 August | GH101: 2020 September | GI101: 2020 October | GJ101: 2020 November | GK101: 2020 December | GL101: 2021 January | GM101: 2021 February | GN101: 2021 March | GO101: 2021 April | GP101: 2021 May | GQ101: 2021 June | GR101: 2021 July | GS101: 2021 August | GT101: 2021 September | GU101: 2021 October | GV101: 2021 November | GW101: 2021 December | GX101: 2022 January | GY101: 2022 February | GZ101: 2022 March | HA101: 2022 April | HB101: 2022 May | HC101: 2022 June | HD101: 2022 July | HE101: 2022 August | HF101: 2022 September | HG101: 2022 October | HH101: 2022 November | HI101: 2022 December | HJ101: 2023 January | HK101: 2023 February | HL101: 2023 March | HM101: 2023 April | HN101: 2023 May | HO101: 2023 June | HP101: 2023 July | HQ101: 2023 August | HR101: 2023 September | HS101: 2023 October | HT101: 2023 November | HU101: 2023 December | HV101: 2024 January | HW101: 2024 February | HX101: 2024 March | HY101: 2024 April | HZ101: 2024 May | IA101: 2024 June | IB101: 2024 July | IC101: 2024 August | ID101: 2024 September | IE101: 2024 October | IF101: 2024 November | IG101: 2024 December
B102: 824 | C102: 1011 | D102: 1094 | E102: 606 | F102: 616 | G102: 572 | H102: 677 | I102: 744 | J102: 1161 | K102: 1057 | L102: 881 | M102: 941 | N102: 1018 | O102: 949 | P102: 951 | Q102: 652 | R102: 724 | S102: 626 | T102: 644 | U102: 876 | V102: 636 | W102: 888 | X102: 864 | Y102: 871 | Z102: 939 | AA102: 1025 | AB102: 1000 | AC102: 895 | AD102: 891 | AE102: 836 | AF102: 926 | AG102: 1007 | AH102: 1100 | AI102: 1137 | AJ102: 1182 | AK102: 1201 | AL102: 1149 | AM102: 996 | AN102: 762 | AO102: 749 | AP102: 675 | AQ102: 599 | AR102: 658 | AS102: 970 | AT102: 1042 | AU102: 1011 | AV102: 957 | AW102: 981 | AX102: 1036 | AY102: 948 | AZ102: 901 | BA102: 603 | BB102: 577 | BC102: 724 | BD102: 554 | BE102: 594 | BF102: 671 | BG102: 673 | BH102: 649 | BI102: 808 | BJ102: 1233 | BK102: 1132 | BL102: 1183 | BM102: 854 | BN102: 950 | BO102: 945 | BP102: 959 | BQ102: 907 | BR102: 943 | BS102: 1109 | BT102: 1160 | BU102: 1375 | BV102: 1362 | BW102: 1127 | BX102: 1255 | BY102: 895 | BZ102: 972 | CA102: 1012 | CB102: 946 | CC102: 1019 | CD102: 934 | CE102: 963 | CF102: 1191 | CG102: 1194 | CH102: 1076 | CI102: 1090 | CJ102: 931 | CK102: 878 | CL102: 902 | CM102: 868 | CN102: 780 | CO102: 1058 | CP102: 971 | CQ102: 1066 | CR102: 1099 | CS102: 1247 | CT102: 1330 | CU102: 1208 | CV102: 1249 | CW102: 1050 | CX102: 1060 | CY102: 942 | CZ102: 974 | DA102: 1097 | DB102: 1131 | DC102: 1188 | DD102: 1101 | DE102: 945 | DF102: 1071 | DG102: 990 | DH102: 986 | DI102: 914 | DJ102: 1009 | DK102: 1061 | DL102: 1041 | DM102: 970 | DN102: 989 | DO102: 1106 | DP102: 1083 | DQ102: 1159 | DR102: 1127 | DS102: 1074 | DT102: 846 | DU102: 782 | DV102: 873 | DW102: 614 | DX102: 658 | DY102: 775 | DZ102: 900 | EA102: 886 | EB102: 891 | EC102: 900 | ED102: 1247 | EE102: 861 | EF102: 782 | EG102: 851 | EH102: 707 | EI102: 752 | EJ102: 948 | EK102: 1153 | EL102: 1192 | EM102: 1222 | EN102: 1239 | EO102: 1096 | EP102: 1316 | EQ102: 1145 | ER102: 1208 | ES102: 1037 | ET102: 1191 | EU102: 1021 | EV102: 901 | EW102: 986 | EX102: 952 | EY102: 1114 | EZ102: 1131 | FA102: 1027 | FB102: 1180 | FC102: 1090 | FD102: 1321 | FE102: 1152 | FF102: 830 | FG102: 808 | FH102: 955 | FI102: 1080 | FJ102: 960 | FK102: 961 | FL102: 1096 | FM102: 894 | FN102: 1218 | FO102: 804 | FP102: 796 | FQ102: 721 | FR102: 554 | FS102: 374 | FT102: 372 | FU102: 476 | FV102: 550 | FW102: 519 | FX102: 629 | FY102: 557 | FZ102: 500 | GA102: 423 | GB102: 453 | GC102: 324 | GD102: 328 | GE102: 387 | GF102: 392 | GG102: 619 | GH102: 543 | GI102: 547 | GJ102: 538 | GK102: 575 | GL102: 667 | GM102: 682 | GN102: 464 | GO102: 462 | GP102: 425 | GQ102: 506 | GR102: 547 | GS102: 486 | GT102: 647 | GU102: 683 | GV102: 762 | GW102: 961 | GX102: 820 | GY102: 589 | GZ102: 875 | HA102: 591 | HB102: 800 | HC102: 691 | HD102: 641 | HE102: 625 | HF102: 791 | HG102: 703 | HH102: 754 | HI102: 806 | HJ102: 637 | HK102: 561 | HL102: 566 | HM102: 429 | HN102: 452 | HO102: 442 | HP102: 327 | HQ102: 376 | HR102: 405 | HS102: 399 | HT102: 497 | HU102: 582 | HV102: 673 | HW102: 513 | HX102: 509 | HY102: 443 | HZ102: 518 | IA102: 500 | IB102: 463 | IC102: 415 | ID102: 492 | IE102: 481 | IF102: 454 | IG102: 584
A104: Total 2024 | B104: =SUM(HV102:IG102) -> 6045
A106: Figure 2 - Sectoral final energy consumption - electricity
B107: Industry | C107: Transport | D107: Buildings | F107: Residential | G107: Commercial and public services
A108: 2000 | B108: 1829 | C108: 92 | D108: =SUM(F108:G108) -> 2866.8445 | F108: 1466 | G108: 1400.8445
A109: 2001 | B109: 1814 | C109: 83 | D109: =SUM(F109:G109) -> 3063.9007 | F109: 1585 | G109: 1478.9007
A110: 2002 | B110: 1884 | C110: 96 | D110: =SUM(F110:G110) -> 3154.0126 | F110: 1584 | G110: 1570.0126
A111: 2003 | B111: 2030 | C111: 97 | D111: =SUM(F111:G111) -> 3257.9022 | F111: 1594 | G111: 1663.9022
A112: 2004 | B112: 2135 | C112: 99 | D112: =SUM(F112:G112) -> 3468.0148 | F112: 1618 | G112: 1850.0148
A113: 2005 | B113: 2160 | C113: 103 | D113: =SUM(F113:G113) -> 3548.9043 | F113: 1620 | G113: 1928.9043
A114: 2006 | B114: 2331 | C114: 83 | D114: =SUM(F114:G114) -> 3850.8507 | F114: 1675 | G114: 2175.8507
A115: 2007 | B115: 2386 | C115: 77 | D115: =SUM(F115:G115) -> 4130.7966 | F115: 1773 | G115: 2357.7966
A116: 2008 | B116: 2332 | C116: 80 | D116: =SUM(F116:G116) -> 4397.7982 | F116: 1845 | G116: 2552.7982
A117: 2009 | B117: 1941 | C117: 59 | D117: =SUM(F117:G117) -> 4442.9094 | F117: 1884 | G117: 2558.9094
A118: 2010 | B118: 2093 | C118: 57 | D118: =SUM(F118:G118) -> 4533.8534 | F118: 2023 | G118: 2510.8534
A119: 2011 | B119: 2055 | C119: 52 | D119: =SUM(F119:G119) -> 4311.7968 | F119: 1934 | G119: 2377.7968
... A131: 2023 | B131: 1783.0698 | C131: 59.44492 | D131: =SUM(F131:G131) -> 4013.0877 | F131: 2163.0729 | G131: 1850.0148
A133: Figure 3 - Total yearly Electricity Production by fuel
A134: Total production GWh | B134: Total | C134: Hard coal | D134: Oil shale | E134: Peat | F134: wood chips and waste | G134: Fuel oil | H134: Shale oil | I134: Diesel | J134: Natural Gas | K134: Biogases | L134: Refuse derived fuel | M134: Other renewable sources | N134: Shale oil gas | O134: Hydro energy | P134: Wind energy | Q134: Solar energy | R134: Electricity import | S134: Import electricity
A135: 2000 | B135: 8510 | C135: 0 | D135: 7719 | E135: 19 | F135: 0 | G135: 2 | H135: 32 | I135: 0 | J135: 560 | K135: 0 | L135: 0 | M135: 55 | N135: 117 | O135: 5 | P135: 0 | Q135: 0 | R135: 496 | S135: =SUM(C135:Q135) -> 8509
A136: 2001 | B136: 8481 | C136: 0 | D136: 7636 | E136: 20 | F136: 0 | G136: 2 | H136: 38 | I136: 0 | J136: 566 | K136: 0 | L136: 0 | M136: 22 | N136: 189 | O136: 7.4 | P136: 0 | Q136: 0 | R136: 412 | S136: =SUM(C136:Q136) -> 8480.4
A137: 2002 | B137: 8524 | C137: 0 | D137: 7729 | E137: 20 | F137: 0 | G137: 2 | H137: 25 | I137: 0 | J137: 518 | K137: 0 | L137: 0 | M137: 27 | N137: 196 | O137: 5.6 | P137: 1.4 | Q137: 0 | R137: 93 | S137: =SUM(C137:Q137) -> 8524
A138: 2003 | B138: 10158 | C138: 0 | D138: 9360 | E138: 20 | F138: 0 | G138: 0 | H138: 33 | I138: 0 | J138: 505 | K138: 0 | L138: 0 | M138: 26 | N138: 195 | O138: 12.8 | P138: 6.1 | Q138: 0 | R138: 347 | S138: =SUM(C138:Q138) -> 10157.9
A139: 2004 | B139: 10302 | C139: 0 | D139: 9510 | E139: 15 | F139: 0 | G139: 0 | H139: 34 | I139: 0 | J139: 486 | K139: 0 | L139: 0 | M139: 31 | N139: 195 | O139: 22.4 | P139: 7.6 | Q139: 0 | R139: 345 | S139: =SUM(C139:Q139) -> 10301
A140: 2005 | B140: 10201 | C140: 0 | D140: 9289 | E140: 14 | F140: 0 | G140: 0 | H140: 28 | I140: 0 | J140: 545 | K140: 0 | L140: 0 | M140: 33 | N140: 217 | O140: 21.5 | P140: 53.9 | Q140: 0 | R140: 346 | S140: =SUM(C140:Q140) -> 10201.4
A141: 2006 | B141: 9729 | C141: 0 | D141: 8773 | E141: 16 | F141: 0 | G141: 0 | H141: 28 | I141: 0 | J141: 541 | K141: 0 | L141: 0 | M141: 38 | N141: 243 | O141: 13.5 | P141: 76.3 | Q141: 0 | R141: 283 | S141: =SUM(C141:Q141) -> 9728.8
A142: 2007 | B142: 12188 | C142: 0 | D142: 11402 | E142: 22 | F142: 0 | G142: 1 | H142: 29 | I142: 0 | J142: 350 | K142: 0 | L142: 0 | M142: 36 | N142: 235 | O142: 22 | P142: 91 | Q142: 0 | R142: 397 | S142: =SUM(C142:Q142) -> 12188
A143: 2008 | B143: 10579 | C143: 0 | D143: 9629 | E143: 15 | F143: 0 | G143: 0 | H143: 37 | I143: 0 | J143: 422 | K143: 0 | L143: 0 | M143: 38 | N143: 277 | O143: 28 | P143: 133 | Q143: 0 | R143: 1360 | S143: =SUM(C143:Q143) -> 10579
A144: 2009 | B144: 8777 | C144: 0 | D144: 7671 | E144: 62 | F144: 283 | G144: 0 | H144: 39 | I144: 0 | J144: 107 | K144: 0 | L144: 0 | M144: 31 | N144: 356 | O144: 32 | P144: 195 | Q144: 0 | R144: 3023 | S144: =SUM(C144:Q144) -> 8776
...

Sheet Historical trend ass. Lat_visu
A1: The main sources are:
A2: IEA: https://www.iea.org/countries/latvia
A3: Eurostat: https://ec.europa.eu/eurostat/web/main/data/database
A4: National statistics: https://stat.gov.lv/en
B9: Figure 1 - Total Monthly Electricity Production | H9: Source: National Statistics Latvia | L9: Figure 2 - Sectoral final energy consumption - electricity | R9: Source: National Statistics Latvia and IEA Latvia
B25: Figure 3 - Total yearly Electricity Production by fuel | H25: Source: National Statistics Latvia and IEA Latvia | M25: Figure 4 - Total share of fossil and renewable electricity generation | S25: Source: National Statistics Latvia and IEA Latvia
B46: Figure 5 - Final energy consumption of electricity | I46: Source: National Statistics Latvia and IEA Latvia/Eurostat | L46: Figure 6 - Industrial final energy consumption | Q46: Source: National Statistics Latvia and IEA Latvia /Eurostat
B64: Figure 7 - Transport final energy consumption | H64: Source: National Statistics Latvia and IEA Latvia/Eurostat | M64: Figure 8 - Buildings final energy consumption | R64: Source: National Statistics Latvia and IEA Latvia/Eurostat
B81: Figure 9 - Final energy consumption | G81: Source: National Statistics Latvia and IEA Latvia | M81: Figure 10 - Per capita electricty consumption | Q81: Source: IEA Latvia
A100: Figure 1 - Total Monthly Electricity Production
A101: Total Gross electricity production, GWh | B101: 2006 January | C101: 2006 February | D101: 2006 March | E101: 2006 April | F101: 2006 May | G101: 2006 June | H101: 2006 July | I101: 2006 August | J101: 2006 September | K101: 2006 October | L101: 2006 November | M101: 2006 December | N101: 2007 January | O101: 2007 February | P101: 2007 March | Q101: 2007 April | R101: 2007 May | S101: 2007 June | T101: 2007 July | U101: 2007 August | V101: 2007 September | W101: 2007 October | X101: 2007 November | Y101: 2007 December | Z101: 2008 January | AA101: 2008 February | AB101: 2008 March | AC101: 2008 April | AD101: 2008 May | AE101: 2008 June | AF101: 2008 July | AG101: 2008 August | AH101: 2008 September | AI101: 2008 October | AJ101: 2008 November | AK101: 2008 December | AL101: 2009 January | AM101: 2009 February | AN101: 2009 March | AO101: 2009 April | AP101: 2009 May | AQ101: 2009 June | AR101: 2009 July | AS101: 2009 August | AT101: 2009 September | AU101: 2009 October | AV101: 2009 November | AW101: 2009 December | AX101: 2010 January | AY101: 2010 February | AZ101: 2010 March | BA101: 2010 April | BB101: 2010 May | BC101: 2010 June | BD101: 2010 July | BE101: 2010 August | BF101: 2010 September | BG101: 2010 October | BH101: 2010 November | BI101: 2010 December | BJ101: 2011 January | BK101: 2011 February | BL101: 2011 March | BM101: 2011 April | BN101: 2011 May | BO101: 2011 June | BP101: 2011 July | BQ101: 2011 August | BR101: 2011 September | BS101: 2011 October | BT101: 2011 November | BU101: 2011 December | BV101: 2012 January | BW101: 2012 February | BX101: 2012 March | BY101: 2012 April | BZ101: 2012 May | CA101: 2012 June | CB101: 2012 July | CC101: 2012 August | CD101: 2012 September | CE101: 2012 October | CF101: 2012 November | CG101: 2012 December | CH101: 2013 January | CI101: 2013 February | CJ101: 2013 March | CK101: 2013 April | CL101: 2013 May | CM101: 2013 June | CN101: 2013 July | CO101: 2013 August | CP101: 2013 September | CQ101: 2013 October | CR101: 2013 November | CS101: 2013 December | CT101: 2014 January | CU101: 2014 February | CV101: 2014 March | CW101: 2014 April | CX101: 2014 May | CY101: 2014 June | CZ101: 2014 July | DA101: 2014 August | DB101: 2014 September | DC101: 2014 October | DD101: 2014 November | DE101: 2014 December | DF101: 2015 January | DG101: 2015 February | DH101: 2015 March | DI101: 2015 April | DJ101: 2015 May | DK101: 2015 June | DL101: 2015 July | DM101: 2015 August | DN101: 2015 September | DO101: 2015 October | DP101: 2015 November | DQ101: 2015 December | DR101: 2016 January | DS101: 2016 February | DT101: 2016 March | DU101: 2016 April | DV101: 2016 May | DW101: 2016 June | DX101: 2016 July | DY101: 2016 August | DZ101: 2016 September | EA101: 2016 October | EB101: 2016 November | EC101: 2016 December | ED101: 2017 January | EE101: 2017 February | EF101: 2017 March | EG101: 2017 April | EH101: 2017 May | EI101: 2017 June | EJ101: 2017 July | EK101: 2017 August | EL101: 2017 September | EM101: 2017 October | EN101: 2017 November | EO101: 2017 December | EP101: 2018 January | EQ101: 2018 February | ER101: 2018 March | ES101: 2018 April | ET101: 2018 May | EU101: 2018 June | EV101: 2018 July | EW101: 2018 August | EX101: 2018 September | EY101: 2018 October | EZ101: 2018 November | FA101: 2018 December | FB101: 2019 January | FC101: 2019 February | FD101: 2019 March | FE101: 2019 April | FF101: 2019 May | FG101: 2019 June | FH101: 2019 July | FI101: 2019 August | FJ101: 2019 September | FK101: 2019 October | FL101: 2019 November | FM101: 2019 December | FN101: 2020 January | FO101: 2020 February | FP101: 2020 March | FQ101: 2020 April | FR101: 2020 May | FS101: 2020 June | FT101: 2020 July | FU101: 2020 August | FV101: 2020 September | FW101: 2020 October | FX101: 2020 November | FY101: 2020 December | FZ101: 2021 January | GA101: 2021 February | GB101: 2021 March | GC101: 2021 April | GD101: 2021 May | GE101: 2021 June | GF101: 2021 July | GG101: 2021 August | GH101: 2021 September | GI101: 2021 October | GJ101: 2021 November | GK101: 2021 December | GL101: 2022 January | GM101: 2022 February | GN101: 2022 March | GO101: 2022 April | GP101: 2022 May | GQ101: 2022 June | GR101: 2022 July | GS101: 2022 August | GT101: 2022 September | GU101: 2022 October | GV101: 2022 November | GW101: 2022 December | GX101: 2023 January | GY101: 2023 February | GZ101: 2023 March | HA101: 2023 April | HB101: 2023 May | HC101: 2023 June | HD101: 2023 July | HE101: 2023 August | HF101: 2023 September | HG101: 2023 October | HH101: 2023 November | HI101: 2023 December | HJ101: 2024 January | HK101: 2024 February | HL101: 2024 March | HM101: 2024 April | HN101: 2024 May | HO101: 2024 June | HP101: 2024 July | HQ101: 2024 August | HR101: 2024 September | HS101: 2024 October | HT101: 2024 November | HU101: 2024 December
B102: 367 | C102: 324 | D102: 341 | E102: 676 | F102: 336 | G102: 322 | H102: 139 | I102: 165 | J102: 534 | K102: 362 | L102: 569 | M102: 549 | N102: 733 | O102: 496 | P102: 737 | Q102: 477 | R102: 425 | S102: 223 | T102: 177 | U102: 159 | V102: 162 | W102: 230 | X102: 317 | Y102: 411 | Z102: 436 | AA102: 444 | AB102: 726 | AC102: 758 | AD102: 414 | AE102: 338 | AF102: 215 | AG102: 153 | AH102: 292 | AI102: 389 | AJ102: 414 | AK102: 486 | AL102: 347 | AM102: 444 | AN102: 460 | AO102: 795 | AP102: 353 | AQ102: 374 | AR102: 222 | AS102: 212 | AT102: 180 | AU102: 555 | AV102: 737 | AW102: 714 | AX102: 732 | AY102: 544 | AZ102: 693 | BA102: 988 | BB102: 582 | BC102: 400 | BD102: 236 | BE102: 329 | BF102: 328 | BG102: 407 | BH102: 584 | BI102: 603 | BJ102: 699 | BK102: 665 | BL102: 662 | BM102: 1024 | BN102: 637 | BO102: 270 | BP102: 251 | BQ102: 270 | BR102: 201 | BS102: 278 | BT102: 409 | BU102: 529 | BV102: 510 | BW102: 495 | BX102: 542 | BY102: 800 | BZ102: 617 | CA102: 352 | CB102: 352 | CC102: 273 | CD102: 221 | CE102: 427 | CF102: 579 | CG102: 645 | CH102: 629 | CI102: 479 | CJ102: 466 | CK102: 692 | CL102: 699 | CM102: 320 | CN102: 290 | CO102: 291 | CP102: 316 | CQ102: 463 | CR102: 437 | CS102: 425 | CT102: 566 | CU102: 470 | CV102: 499 | CW102: 538 | CX102: 408 | CY102: 278 | CZ102: 289 | DA102: 292 | DB102: 236 | DC102: 432 | DD102: 423 | DE102: 426 | DF102: 445 | DG102: 394 | DH102: 611 | DI102: 577 | DJ102: 398 | DK102: 283 | DL102: 309 | DM102: 427 | DN102: 344 | DO102: 487 | DP102: 576 | DQ102: 533 | DR102: 649 | DS102: 443 | DT102: 577 | DU102: 594 | DV102: 525 | DW102: 414 | DX102: 331 | DY102: 354 | DZ102: 267 | EA102: 529 | EB102: 816 | EC102: 729 | ED102: 741 | EE102: 601 | EF102: 949 | EG102: 742 | EH102: 580 | EI102: 363 | EJ102: 362 | EK102: 396 | EL102: 533 | EM102: 623 | EN102: 728 | EO102: 722 | EP102: 881 | EQ102: 717 | ER102: 727 | ES102: 820 | ET102: 432 | EU102: 303 | EV102: 377 | EW102: 450 | EX102: 381 | EY102: 390 | EZ102: 494 | FA102: 528 | FB102: 599 | FC102: 471 | FD102: 686 | FE102: 499 | FF102: 421 | FG102: 407 | FH102: 357 | FI102: 525 | FJ102: 553 | FK102: 514 | FL102: 586 | FM102: 560 | FN102: 629 | FO102: 604 | FP102: 674 | FQ102: 380 | FR102: 442 | FS102: 479 | FT102: 262 | FU102: 395 | FV102: 340 | FW102: 334 | FX102: 461 | FY102: 511 | FZ102: 606 | GA102: 590 | GB102: 704 | GC102: 655 | GD102: 531 | GE102: 354 | GF102: 307 | GG102: 162 | GH102: 322 | GI102: 279 | GJ102: 427 | GK102: 671 | GL102: 520 | GM102: 456 | GN102: 460 | GO102: 658 | GP102: 402 | GQ102: 279 | GR102: 208 | GS102: 259 | GT102: 201 | GU102: 220 | GV102: 493 | GW102: 637 | GX102: 919 | GY102: 690 | GZ102: 851 | HA102: 985 | HB102: 345 | HC102: 196 | HD102: 134 | HE102: 227 | HF102: 272 | HG102: 286 | HH102: 500 | HI102: 596 | HJ102: 832 | HK102: 771 | HL102: 948 | HM102: 786 | HN102: 495 | HO102: 239 | HP102: 291 | HQ102: 316 | HR102: 292 | HS102: 219 | HT102: 347 | HU102: 370
A104: Total 2024 | B104: =SUM(B102:HU102) -> 107636
A106: Figure 2 - Sectoral final energy consumption - electricity
B107: Industry and construction | C107: Transport | D107: Buildings | F107: Households | G107: Commercial and public sector
A108: 2000 | B108: 1433 | C108: 152 | D108: =SUM(F108,G108) -> 2735 | F108: 1189 | G108: 1546
A109: 2001 | B109: 1545 | C109: 173 | D109: =SUM(F109,G109) -> 2705 | F109: 1239 | G109: 1466
A110: 2002 | B110: 1526 | C110: 144 | D110: =SUM(F110,G110) -> 3044 | F110: 1317 | G110: 1727
A111: 2003 | B111: 1605 | C111: 136 | D111: =SUM(F111,G111) -> 3286 | F111: 1421 | G111: 1865
A112: 2004 | B112: 1634 | C112: 139 | D112: =SUM(F112,G112) -> 3455 | F112: 1467 | G112: 1988
A113: 2005 | B113: 1700 | C113: 148 | D113: =SUM(F113,G113) -> 3714 | F113: 1572 | G113: 2142
A114: 2006 | B114: 1759 | C114: 150 | D114: =SUM(F114,G114) -> 4059 | F114: 1728 | G114: 2331
A115: 2007 | B115: 1816 | C115: 140 | D115: =SUM(F115,G115) -> 4498 | F115: 1794 | G115: 2704
A116: 2008 | B116: 1685 | C116: 138 | D116: =SUM(F116,G116) -> 4666 | F116: 2031 | G116: 2635
A117: 2009 | B117: 1506 | C117: 121 | D117: =SUM(F117,G117) -> 4341 | F117: 2000 | G117: 2341
A118: 2010 | B118: 1590 | C118: 126 | D118: =SUM(F118,G118) -> 4360 | F118: 1938 | G118: 2422
A119: 2011 | B119: 1670 | C119: 124 | D119: =SUM(F119,G119) -> 4262 | F119: 1772 | G119: 2490
... A132: 2024 | B132: 1782 | C132: 122 | D132: =SUM(F132,G132) -> 4412 | F132: 1740 | G132: 2672
A134: Figure 3 - Total yearly Electricity Production by fuel (GWh)
A135: Total production GWh | B135: Total | C135: Coal | D135: wood chips and waste | E135: Oil | F135: Natural Gas | G135: Biogases | H135: Biofuels | I135: Hydro energy | J135: Wind energy | K135: Solar energy | L135: Electricity import | M135: Share of fossil | N135: Share of renewable
A136: 2000 | B136: =SUM(C136:K136) -> 4137 | C136: 78 | D136: 0 | E136: 107 | F136: 1128 | G136: 0 | H136: 0 | I136: 2819 | J136: 5 | K136: 0 | L136: 2108 | M136: 0.31737974 | N136: 0.68262026
A137: 2001 | B137: =SUM(C137:K137) -> 4283 | C137: 42 | D137: 3 | E137: 95 | F137: 1304 | G137: 0 | H137: 3 | I137: 2833 | J137: 3 | K137: 0 | L137: 2340 | M137: 0.33644642 | N137: 0.66355358
A138: 2002 | B138: =SUM(C138:K138) -> 3985 | C138: 38 | D138: 5 | E138: 139 | F138: 1313 | G138: 5 | H138: 10 | I138: 2464 | J138: 11 | K138: 0 | L138: 2838 | M138: 0.37390213 | N138: 0.62609787
A139: 2003 | B139: =SUM(C139:K139) -> 3999 | C139: 22 | D139: 6 | E139: 82 | F139: 1533 | G139: 18 | H139: 24 | I139: 2266 | J139: 48 | K139: 0 | L139: 2671 | M139: 0.40935234 | N139: 0.59064766
A140: 2004 | B140: =SUM(C140:K140) -> 4727 | C140: 0 | D140: 6 | E140: 60 | F140: 1433 | G140: 32 | H140: 38 | I140: 3109 | J140: 49 | K140: 0 | L140: 2733 | M140: 0.31584514 | N140: 0.68415486
A141: 2005 | B141: =SUM(C141:K141) -> 4947 | C141: 0 | D141: 6 | E141: 6 | F141: 1486 | G141: 36 | H141: 41 | I141: 3325 | J141: 47 | K141: 0 | L141: 2855 | M141: 0.30159693 | N141: 0.69840307
A142: 2006 | B142: =SUM(C142:K142) -> 4934 | C142: 0 | D142: 7 | E142: 5 | F142: 2100 | G142: 36 | H142: 42 | I142: 2698 | J142: 46 | K142: 0 | L142: 2810 | M142: 0.42663154 | N142: 0.57336846
A143: 2007 | B143: =SUM(C143:K143) -> 4813 | C143: 1 | D143: 5 | E143: 17 | F143: 1925 | G143: 37 | H143: 42 | I143: 2733 | J143: 53 | K143: 0 | L143: 4964 | M143: 0.40369832 | N143: 0.59630168
A144: 2008 | B144: =SUM(C144:K144) -> 5319 | C144: 2 | D144: 5 | E144: 2 | F144: 2058 | G144: 40 | H144: 44 | I144: 3109 | J144: 59 | K144: 0 | L144: 4643 | M144: 0.38766685 | N144: 0.61233315
A145: 2009 | B145: =SUM(C145:K145) -> 5617 | C145: 2 | D145: 4 | E145: 4 | F145: 2007 | G145: 44 | H145: 49 | I145: 3457 | J145: 50 | K145: 0 | L145: 4259 | M145: 0.35837636 | N145: 0.64162364
...

Sheet Historical trend ass. Lit_visua
A1: The main sources are:
A2: IEA: https://www.iea.org/countries/lithuania
A3: Eurostat: https://ec.europa.eu/eurostat/web/main/data/database
A4: National statistics: https://osp.stat.gov.lt/en_GB/
B8: Figure 1 - Total Monthly Electricity Production | G8: Source: National Statistics Lithuania | K8: Figure 2 - Sectoral final energy consumption - electricity | Q8: Source: National Statistics Lithuania
B24: Figure 3 - Total yearly Electricity Production by fuel | G24: Source: IEA Lithuania | L24: Figure 4 - Total share of fossil and renewable electricity generation | R24: Source: IEA Lithuania
B45: Figure 5 - Final energy consumption of electricity | H45: Source: National Statistics Lithuania/Eurostat | K45: Figure 6 - Industrial final energy consumption | P45: Source: National Statistics Lithuania/Eurostat
B63: Figure 7 - Transport final energy consumption | G63: Source: National Statistics Lithuania/Eurostat | L63: Figure 8 - Buildings final energy consumption | Q63: Source:National Statistics Lithuania/Eurostat
B80: Figure 9 - Final energy consumption | F80: Source: National Statistics Lithuania | L80: Figure 10 - Per capita electricty consumption | Q80: Source: IEA Lithuania
A99: Figure 1 - Total Monthly Electricity Production
A100: Total electricity production, GWh | B100: 2013 January | C100: 2013 February | D100: 2013 March | E100: 2013 April | F100: 2013 May | G100: 2013 June | H100: 2013 July | I100: 2013 August | J100: 2013 September | K100: 2013 October | L100: 2013 November | M100: 2013 December | N100: 2014 January | O100: 2014 February | P100: 2014 March | Q100: 2014 April | R100: 2014 May | S100: 2014 June | T100: 2014 July | U100: 2014 August | V100: 2014 September | W100: 2014 October | X100: 2014 November | Y100: 2014 December | Z100: 2015 January | AA100: 2015 February | AB100: 2015 March | AC100: 2015 April | AD100: 2015 May | AE100: 2015 June | AF100: 2015 July | AG100: 2015 August | AH100: 2015 September | AI100: 2015 October | AJ100: 2015 November | AK100: 2015 December | AL100: 2016 January | AM100: 2016 February | AN100: 2016 March | AO100: 2016 April | AP100: 2016 May | AQ100: 2016 June | AR100: 2016 July | AS100: 2016 August | AT100: 2016 September | AU100: 2016 October | AV100: 2016 November | AW100: 2016 December | AX100: 2017 January | AY100: 2017 February | AZ100: 2017 March | BA100: 2017 April | BB100: 2017 May | BC100: 2017 June | BD100: 2017 July | BE100: 2017 August | BF100: 2017 September | BG100: 2017 October | BH100: 2017 November | BI100: 2017 December | BJ100: 2018 January | BK100: 2018 February | BL100: 2018 March | BM100: 2018 April | BN100: 2018 May | BO100: 2018 June | BP100: 2018 July | BQ100: 2018 August | BR100: 2018 September | BS100: 2018 October | BT100: 2018 November | BU100: 2018 December | BV100: 2019 January | BW100: 2019 February | BX100: 2019 March | BY100: 2019 April | BZ100: 2019 May | CA100: 2019 June | CB100: 2019 July | CC100: 2019 August | CD100: 2019 September | CE100: 2019 October | CF100: 2019 November | CG100: 2019 December | CH100: 2020 January | CI100: 2020 February | CJ100: 2020 March | CK100: 2020 April | CL100: 2020 May | CM100: 2020 June | CN100: 2020 July | CO100: 2020 August | CP100: 2020 September | CQ100: 2020 October | CR100: 2020 November | CS100: 2020 December | CT100: 2021 January | CU100: 2021 February | CV100: 2021 March | CW100: 2021 April | CX100: 2021 May | CY100: 2021 June | CZ100: 2021 July | DA100: 2021 August | DB100: 2021 September | DC100: 2021 October | DD100: 2021 November | DE100: 2021 December | DF100: 2022 January | DG100: 2022 February | DH100: 2022 March | DI100: 2022 April | DJ100: 2022 May | DK100: 2022 June | DL100: 2022 July | DM100: 2022 August | DN100: 2022 September | DO100: 2022 October | DP100: 2022 November | DQ100: 2022 December | DR100: 2023 January | DS100: 2023 February | DT100: 2023 March | DU100: 2023 April | DV100: 2023 May | DW100: 2023 June | DX100: 2023 July | DY100: 2023 August | DZ100: 2023 September | EA100: 2023 October | EB100: 2023 November | EC100: 2023 December | ED100: 2024 January | EE100: 2024 February | EF100: 2024 March | EG100: 2024 April | EH100: 2024 May | EI100: 2024 June | EJ100: 2024 July | EK100: 2024 August | EL100: 2024 September | EM100: 2024 October | EN100: 2024 November | EO100: 2024 December
B101: 480 | C101: 389 | D101: 465 | E101: 389 | F101: 233 | G101: 244 | H101: 323 | I101: 423 | J101: 461 | K101: 416 | L101: 298 | M101: 442 | N101: 438 | O101: 350 | P101: 351 | Q101: 227 | R101: 228 | S101: 308 | T101: 389 | U101: 373 | V101: 384 | W101: 336 | X101: 319 | Y101: 405 | Z101: 415 | AA101: 352 | AB101: 383 | AC101: 365 | AD101: 408 | AE101: 410 | AF101: 418 | AG101: 375 | AH101: 405 | AI101: 388 | AJ101: 380 | AK101: 484 | AL101: 403 | AM101: 377 | AN101: 304 | AO101: 292 | AP101: 270 | AQ101: 331 | AR101: 250 | AS101: 270 | AT101: 312 | AU101: 339 | AV101: 470 | AW101: 454 | AX101: 340 | AY101: 340 | AZ101: 344 | BA101: 324 | BB101: 316 | BC101: 321 | BD101: 264 | BE101: 292 | BF101: 315 | BG101: 396 | BH101: 371 | BI101: 385 | BJ101: 373 | BK101: 266 | BL101: 319 | BM101: 330 | BN101: 263 | BO101: 207 | BP101: 193 | BQ101: 227 | BR101: 299 | BS101: 352 | BT101: 224 | BU101: 249 | BV101: 331 | BW101: 342 | BX101: 378 | BY101: 300 | BZ101: 272 | CA101: 290 | CB101: 302 | CC101: 272 | CD101: 340 | CE101: 336 | CF101: 299 | CG101: 369 | CH101: 406 | CI101: 443 | CJ101: 383 | CK101: 356 | CL101: 386 | CM101: 433 | CN101: 475 | CO101: 465 | CP101: 493 | CQ101: 412 | CR101: 446 | CS101: 509 | CT101: 385 | CU101: 372 | CV101: 383 | CW101: 401 | CX101: 352 | CY101: 343 | CZ101: 314 | DA101: 306 | DB101: 436 | DC101: 408 | DD101: 374 | DE101: 415 | DF101: 448 | DG101: 402 | DH101: 369 | DI101: 333 | DJ101: 283 | DK101: 238 | DL101: 287 | DM101: 317 | DN101: 240 | DO101: 320 | DP101: 310 | DQ101: 365 | DR101: 447 | DS101: 369 | DT101: 451 | DU101: 349 | DV101: 281 | DW101: 262 | DX101: 312 | DY101: 352 | DZ101: 376 | EA101: 604 | EB101: 416 | EC101: 575 | ED101: 740 | EE101: 627 | EF101: 572 | EG101: 546 | EH101: 437 | EI101: 380 | EJ101: 426 | EK101: 433 | EL101: 474 | EM101: 555 | EN101: 664 | EO101: 799
A103: Total 2024 | B103: =SUM(B101:EO101) -> 53722
A105: Figure 2 - Sectoral final energy consumption - electricity (GWh)
B106: Industry | C106: Transport | D106: Buildings | F106: Residential | G106: Commercial and public services
A107: 2000 | B107: 2188 | C107: 76 | D107: =SUM(F107:G107) -> 3640 | F107: 1768 | G107: 1872
A108: 2001 | B108: 2250 | C108: 91 | D108: =SUM(F108:G108) -> 3814 | F108: 1818 | G108: 1996
A109: 2002 | B109: 2448 | C109: 83 | D109: =SUM(F109:G109) -> 3908 | F109: 1812 | G109: 2096
A110: 2003 | B110: 2528 | C110: 91 | D110: =SUM(F110:G110) -> 4294 | F110: 1918 | G110: 2376
A111: 2004 | B111: 2635 | C111: 92 | D111: =SUM(F111:G111) -> 4634 | F111: 2091 | G111: 2543
A112: 2005 | B112: 2716 | C112: 104 | D112: =SUM(F112:G112) -> 4848 | F112: 2163 | G112: 2685
A113: 2006 | B113: 2811 | C113: 91 | D113: =SUM(F113:G113) -> 5210 | F113: 2375 | G113: 2835
A114: 2007 | B114: 2951 | C114: 70 | D114: =SUM(F114:G114) -> 5502 | F114: 2490 | G114: 3012
A115: 2008 | B115: 2666 | C115: 83 | D115: =SUM(F115:G115) -> 5970 | F115: 2730 | G115: 3240
A116: 2009 | B116: 2327 | C116: 77 | D116: =SUM(F116:G116) -> 5681 | F116: 2726 | G116: 2955
A117: 2010 | B117: 2548 | C117: 76 | D117: =SUM(F117:G117) -> 5431 | F117: 2591 | G117: 2840
A118: 2011 | B118: 2666 | C118: 74 | D118: =SUM(F118:G118) -> 5573 | F118: 2619 | G118: 2954
... A131: 2024 | B131: 3409 | C131: 119 | D131: =SUM(F131:G131) -> 6951 | F131: 3259 | G131: 3692
A133: Figure 3 - Total yearly Gross Electricity Production by fuel (GWh)
A134: Total production GWh | B134: Total | C134: Coal | D134: Biofuels | E134: Oil | F134: Natural Gas | G134: Waste | H134: Other sources | I134: Hydropower | J134: Wind energy | K134: Nuclear | L134: Solar energy | M134: Electricity import | N134: Share of fossil | O134: Share of renewable and low-carbon
A135: 2000 | B135: =SUM(C135:L135) -> 11425 | C135: 0 | D135: 0 | E135: 655 | F135: 1616 | G135: 0 | H135: 91 | I135: 644 | J135: 0 | K135: 8419 | L135: 0 | M135: 5150 | N135: 0.20673961 | O135: 0.79326039
A136: 2001 | B136: =SUM(C136:L136) -> 14737 | C136: 0 | D136: 2 | E136: 720 | F136: 1884 | G136: 0 | H136: 68 | I136: 701 | J136: 0 | K136: 11362 | L136: 0 | M136: 4442 | N136: 0.18131234 | O136: 0.81868766
A137: 2002 | B137: =SUM(C137:L137) -> 17720.9 | C137: 0 | D137: 3.9 | E137: 547 | F137: 2109 | G137: 0 | H137: 138 | I137: 781 | J137: 0 | K137: 14142 | L137: 0 | M137: 4532 | N137: 0.15766694 | O137: 0.84233306
A138: 2003 | B138: =SUM(C138:L138) -> 19487.6 | C138: 0 | D138: 6.6 | E138: 327 | F138: 2518 | G138: 0 | H138: 167 | I138: 985 | J138: 0 | K138: 15484 | L138: 0 | M138: 4144 | N138: 0.15455982 | O138: 0.84544018
A139: 2004 | B139: =SUM(C139:L139) -> 19272.5 | C139: 0 | D139: 4.3 | E139: 361 | F139: 2691 | G139: 0 | H139: 170 | I139: 943 | J139: 1.2 | K139: 15102 | L139: 0 | M139: 4293 | N139: 0.16718122 | O139: 0.83281878
A140: 2005 | B140: =SUM(C140:L140) -> 14779.4 | C140: 0 | D140: 2.6 | E140: 401 | F140: 3017 | G140: 0 | H140: 200 | I140: 820 | J140: 1.8 | K140: 10337 | L140: 0 | M140: 5641 | N140: 0.24480019 | O140: 0.75519981
A141: 2006 | B141: =SUM(C141:L141) -> 12477 | C141: 1 | D141: 19.3 | E141: 329 | F141: 2464 | G141: 0 | H141: 197 | I141: 802 | J141: 13.7 | K141: 8651 | L141: 0 | M141: 5812 | N141: 0.23972109 | O141: 0.76027891
A142: 2007 | B142: =SUM(C142:L142) -> 14001.5 | C142: 12 | D142: 48.4 | E142: 408 | F142: 2405 | G142: 0 | H142: 231 | I142: 958 | J142: 106.1 | K142: 9833 | L142: 0 | M142: 5846 | N142: 0.21826233 | O142: 0.78173767
A143: 2008 | B143: =SUM(C143:L143) -> 13903.7 | C143: 1 | D143: 59.6 | E143: 566 | F143: 2026 | G143: 0 | H143: 238 | I143: 988 | J143: 131.1 | K143: 9894 | L143: 0 | M143: 5649 | N143: 0.20361487 | O143: 0.79638513
A144: 2009 | B144: =SUM(C144:L144) -> 15343 | C144: 0 | D144: 87.3 | E144: 735 | F144: 2101 | G144: 0 | H144: 271 | I144: 1139 | J144: 157.7 | K144: 10852 | L144: 0 | M144: 4783 | N144: 0.20250277 | O144: 0.79749723
...

Sheet Efficiency Assumptions
A1: Assumptions for SEI Scenarios
A2: JRC-IDEES 2023 country-specific fossil energy splits + efficiency gain parameters
A4: GLOBAL EFFICIENCY ASSUMPTIONS
A5: Parameter | B5: Value | C5: Description | D5: Reference | F5: Savings %
A6: J_diesel (work/motors) | B6: 3 | C6: Electric motors ~90% eff vs diesel ~35%. Indicative: 2-3x | D6: https://fiw.hs-wismar.de/storages/hs-wismar/_FIW/Bereich_EUI/AB_AET/Professoren/Wego/Diesel_vs._Electric_-_An_energy_analysis_after_three_years_of_driving.pdf https://reference-global.com/download/article/10.2478/rtuect-2020-0041.pdf | F6: =1-(1/B6) -> 0.66666667
A7: J_lowT (heat <200°C) | B7: 2.5 | C7: Heat pumps COP 3-5 vs gas boilers 80-90%. Indicative: 2.5-4x | D7: https://www.iea.org/reports/the-future-of-heat-pumps/how-a-heat-pump-works https://moveenergy.vc/electrical-heat-as-the-next-frontier-in-industrial-decarbonisation/ https://www.raponline.org/wp-content/uploads/2023/09/Heat-pump-running-costs-v271.pdf | F7: =1-(1/B7) -> 0.6
A8: J_highT (heat >500°C) | B8: 1.5 | C8: Electric arc/induction 80-95% vs combustion 40-60%. Indicative: 1.3-2x | D8: https://www.san-lan.com/de/faq/energy-saving-electric-furnace-vs-traditional-melting-furnace-energy-consumption-comparison.html https://www.agora-industry.org/fileadmin/Projects/2023/2023-20_IND_Electrification_Industrial_Heat/A-IND_329_04_Electrification_Industrial_Heat_WEB.pdf | F8: =1-(1/B8) -> 0.33333333
A10: Transitition rate parameter | B10: Value | C10: Description
A11: Estonia | B11: 0.3 | C11: Describes the sharpness of transition for the sigmoid curve (0.1 ≈ Linear, 0.3 = "steady" sigmoid, >=1 = "Step like"
A12: Latvia | B12: 0.3 | C12: Describes the sharpness of transition for the sigmoid curve (0.1 ≈ Linear, 0.3 = "steady" sigmoid, >=1 = "Step like"
A13: Lithuania | B13: 0.3 | C13: Describes the sharpness of transition for the sigmoid curve (0.1 ≈ Linear, 0.3 = "steady" sigmoid, >=1 = "Step like"
A17: Industrial efficiency assumptions
A20: ESTONIA: NON-ELECTRIC (FOSSIL) ENERGY SPLITS FROM JRC-IDEES 2023
A21: Source: JRC-IDEES-2023_Industry_EE.xlsx (process-level _fec sheets, average last 5 years)
B22: Now validated: See separate excel
A23: Subsector | B23: Diesel/motors share | C23: Low-T heat share | D23: High-T heat share | E23: Fossil energy (ktoe) | F23: Electric energy (ktoe) | G23: Composite J | H23: Model row | I23: Notes
A24: Iron & steel | B24: 0 | C24: 0 | D24: 1 | E24: 0 | F24: 0 | G24: =IF(E24=0, $B$8, 1/(B24/$B$6 + C24/$B$7 + D24/$B$8)) -> 1.5 | H24: 14 | I24: empty, assume all HT
A25: Chemical | B25: 0 | C25: 0.60801444 | D25: 0.39198556 | E25: 21.685741 | F25: 10.134609 | G25: =1/(B25/$B$6 + C25/$B$7 + D25/$B$8) -> 1.9820447 | H25: 15
A26: Non-ferrous metals | B26: 0 | C26: 0.18815139 | D26: 0.81184861 | E26: 0.74138722 | F26: 0.93762543 | G26: =1/(B26/$B$6 + C26/$B$7 + D26/$B$8) -> 1.6220785 | H26: 16
A27: Other non-metallic minerals | B27: 0 | C27: 0.12874538 | D27: 0.87125462 | E27: 40.903669 | F27: 13.795056 | G27: =1/(B27/$B$6 + C27/$B$7 + D27/$B$8) -> 1.5814413 | H27: 17
A28: Transport equipment | B28: 0 | C28: 0.66797191 | D28: 0.33202809 | E28: 3.6158641 | F28: 5.3135426 | G28: =1/(B28/$B$6 + C28/$B$7 + D28/$B$8) -> 2.0469118 | H28: 18
A29: Machinery | B29: 0 | C29: 0.66751558 | D29: 0.33248442 | E29: 12.746374 | F29: 21.369275 | G29: =1/(B29/$B$6 + C29/$B$7 + D29/$B$8) -> 2.0464021 | H29: 19
A30: Mining & quarrying | B30: 0.85 | C30: 0.1 | D30: 0.05 | G30: =1/(B30/$B$6 + C30/$B$7 + D30/$B$8) -> 2.8037383 | H30: 20 | I30: No data found; assumption mostly work
A31: Food, beverages & tobacco | B31: 0 | C31: 1 | D31: 0 | E31: 35.02965 | F31: 26.663772 | G31: =1/(B31/$B$6 + C31/$B$7 + D31/$B$8) -> 2.5 | H31: 21
A32: Pulp, paper & printing | B32: 0 | C32: 1 | D32: 0 | E32: 29.40642 | F32: 31.232058 | G32: =1/(B32/$B$6 + C32/$B$7 + D32/$B$8) -> 2.5 | H32: 22
A33: Wood & wood products | B33: 0 | C33: 1 | D33: 0 | E33: 27.11456 | F33: 46.654013 | G33: =1/(B33/$B$6 + C33/$B$7 + D33/$B$8) -> 2.5 | H33: 23
A34: Construction | B34: 0.85 | C34: 0.1 | D34: 0.05 | G34: =1/(B34/$B$6 + C34/$B$7 + D34/$B$8) -> 2.8037383 | H34: 24 | I34: No data found; assumption mostly work
A35: Textile, leather & clothing | B35: 0 | C35: 1 | D35: 0 | E35: 4.1340929 | F35: 4.8764689 | G35: =1/(B35/$B$6 + C35/$B$7 + D35/$B$8) -> 2.5 | H35: 25
A36: Other industries | B36: 0.27585505 | C36: 0.24105401 | D36: 0.48309094 | E36: 47.988607 | F36: 21.023732 | G36: =1/(B36/$B$6 + C36/$B$7 + D36/$B$8) -> 1.9591175 | H36: 26
A39: Latvia: NON-ELECTRIC (FOSSIL) ENERGY SPLITS FROM JRC-IDEES 2023
A40: Source: JRC-IDEES-2023_Industry_LV.xlsx (process-level _fec sheets, average last 5 years)
B41: Now validated: See separate excel
A42: Subsector | B42: Diesel/motors share | C42: Low-T heat share | D42: High-T heat share | E42: Fossil energy (ktoe) | F42: Electric energy (ktoe) | G42: Composite J | H42: Model row | I42: Notes
A43: Iron & steel | B43: 0 | C43: 0 | D43: 1 | E43: 0 | F43: 0 | G43: =IF(E43=0, $B$8, 1/(B43/$B$6 + C43/$B$7 + D43/$B$8)) -> 1.5 | H43: 14 | I43: empty, assume all HT
A44: Chemical | B44: 0 | C44: 0.34006824 | D44: 0.65993176 | E44: 17.936019 | F44: 5.9712812 | G44: =1/(B44/$B$6 + C44/$B$7 + D44/$B$8) -> 1.736166 | H44: 15
A45: Non-ferrous metals | B45: 0 | C45: 0.18815139 | D45: 0.81184861 | G45: =1/(B45/$B$6 + C45/$B$7 + D45/$B$8) -> 1.6220785 | H45: 16 | I45: empty, assume EE
A46: Other non-metallic minerals | B46: 0 | C46: 0.053068824 | D46: 0.94693118 | E46: 143.8446 | F46: 24.494153 | G46: =1/(B46/$B$6 + C46/$B$7 + D46/$B$8) -> 1.5325319 | H46: 17
A47: Transport equipment | B47: 0 | C47: 0.47536977 | D47: 0.52463023 | E47: 2.0293775 | F47: 3.498094 | G47: =1/(B47/$B$6 + C47/$B$7 + D47/$B$8) -> 1.8521901 | H47: 18
A48: Machinery | B48: 0 | C48: 0.47124945 | D48: 0.52875055 | E48: 8.6434944 | F48: 7.6793924 | G48: =1/(B48/$B$6 + C48/$B$7 + D48/$B$8) -> 1.8484283 | H48: 19
A49: Mining & quarrying | B49: 0.85 | C49: 0.1 | D49: 0.05 | G49: =1/(B49/$B$6 + C49/$B$7 + D49/$B$8) -> 2.8037383 | H49: 20 | I49: No data found; assumption mostly work
...

Sheet Pop Projection
A1: Estonia | D1: Latvia | G1: Lithuania
A2: Years | B2: Population | D2: Years | E2: Population | G2: Year | H2: Population
A3: 2000 | B3: 1401250 | D3: 2000 | E3: 2367550 | G3: 2000 | H3: 3697838
A4: 2001 | B4: 1392720 | D4: 2001 | E4: 2337170 | G4: 2001 | H4: 3499536
A5: 2002 | B5: 1383510 | D5: 2002 | E5: 2310173 | G5: 2002 | H5: 2937253
A6: 2003 | B6: 1375190 | D6: 2003 | E6: 2287955 | G6: 2003 | H6: 2911109
A7: 2004 | B7: 1366250 | D7: 2004 | E7: 2263122 | G7: 2004 | H7: 2877325
A8: 2005 | B8: 1358850 | D8: 2005 | E8: 2238799 | G8: 2005 | H8: 2842639
A9: 2006 | B9: 1350700 | D9: 2006 | E9: 2218357 | G9: 2006 | H9: 2819200
A10: 2007 | B10: 1342920 | D10: 2007 | E10: 2200325 | G10: 2007 | H10: 2811089
A11: 2008 | B11: 1338440 | D11: 2008 | E11: 2177322 | G11: 2008 | H11: 2810369
A12: 2009 | B12: 1335740 | D12: 2009 | E12: 2141669 | G12: 2009 | H12: 2808380
A13: 2010 | B13: 1333290 | D13: 2010 | E13: 2097555 | G13: 2010 | H13: 2810369
A14: 2011 | B14: 1329660 | D14: 2011 | E14: 2059709 | G14: 2011 | H14: 2808380
... A22: 2019 | B22: 1324820 | D22: 2019 | E22: 1913822 | G22: 2019 | H22: 2812200
A23: 2020 | B23: 1,328,889 | D23: 2020 | E23: 1900449 | G23: 2020 | H23: 2809977
A24: 2021 | B24: 1,330,068 | D24: 2021 | E24: 1884490 | G24: 2021 | H24: 2810761
A25: 2022 | B25: 1,331,796 | D25: 2022 | E25: 1879383 | G25: 2022 | H25: 2805998
A26: 2023 | B26: 1,365,884 | D26: 2023 | E26: 1883710 | G26: 2023 | H26: 2857279
A27: 2024 | B27: 1,374,687 | D27: 2024 | E27: 1866124 | G27: 2024 | H27: 2885891
A28: 2025 | B28: 1,369,995 | D28: 2025 | E28: 1863089 | G28: 2025 | H28: 2890664
A29: 2026 | B29: 1,362,954 | D29: 2026 | E29: 1842409 | G29: 2026 | H29: 2886883
A30: 2027 | B30: 1,366,691 | D30: 2027 | E30: 1821191 | G30: 2027 | H30: 2878765
A31: 2028 | B31: 1,362,698 | D31: 2028 | E31: 1799221 | G31: 2028 | H31: 2871538
A32: 2029 | B32: 1,358,831 | D32: 2029 | E32: 1777599 | G32: 2029 | H32: 2863363
A33: 2030 | B33: 1,355,488 | D33: 2030 | E33: 1756334 | G33: 2030 | H33: 2854217
A34: 2031 | B34: 1,352,442 | D34: 2031 | E34: 1735494 | G34: 2031 | H34: 2844070
... A37: 2034 | B37: 1,344,628 | D37: 2034 | E37: 1677235 | G37: 2034 | H37: 2814742
A38: 2035 | B38: 1,342,535 | D38: 2035 | E38: 1660761 | G38: 2035 | H38: 2805424
A39: 2036 | B39: 1,340,931 | D39: 2036 | E39: 1644951 | G39: 2036 | H39: 2796372
A40: 2037 | B40: 1,339,374 | D40: 2037 | E40: 1629686 | G40: 2037 | H40: 2787574
A41: 2038 | B41: 1,337,887 | D41: 2038 | E41: 1615018 | G41: 2038 | H41: 2779076
A42: 2039 | B42: 1,336,455 | D42: 2039 | E42: 1600744 | G42: 2039 | H42: 2770806
A43: 2040 | B43: 1,335,056 | D43: 2040 | E43: 1586936 | G43: 2040 | H43: 2762731
A44: 2041 | B44: 1,333,674 | D44: 2041 | E44: 1573577 | G44: 2041 | H44: 2754810
A45: 2042 | B45: 1,332,264 | D45: 2042 | E45: 1560580 | G45: 2042 | H45: 2747029
A46: 2043 | B46: 1,330,810 | D46: 2043 | E46: 1547902 | G46: 2043 | H46: 2739306
A47: 2044 | B47: 1,329,282 | D47: 2044 | E47: 1535496 | G47: 2044 | H47: 2731576
A48: 2045 | B48: 1,327,682 | D48: 2045 | E48: 1523373 | G48: 2045 | H48: 2723801
A49: 2046 | B49: 1,325,992 | D49: 2046 | E49: 1511495 | G49: 2046 | H49: 2715857
...

Sheet EST_FEC
A1: Total FEC, GWh | F1: APS | J1: EURELECTRIC | N1: JRC | R1: APS | V1: EUROELECTRIC | Z1: JRC
B2: Industry | C2: Buildings | D2: Transport | F2: Industry | G2: Buildings | H2: Transport | J2: Industry | K2: Buildings | L2: Transport | N2: Industry | O2: Buildings | P2: Transport | R2: Industry | S2: Buildings | T2: Transport | V2: Industry | W2: Buildings | X2: Transport | Z2: Industry | AA2: Buildings | AB2: Transport
A3: 2000 | B3: =B58 -> 6747 | C3: =B111 -> 14133 | D3: =B164 -> 7732 | F3: 0.2716763 | G3: 0.20285856 | H3: 0.011769271 | J3: 0.2716763 | K3: 0.20285856 | L3: 0.011769271 | N3: 0.2716763 | O3: 0.20285856 | P3: 0.011769271 | R3: =F3*B3 -> 1833 | S3: =G3*C3 -> 2867 | T3: =H3*D3 -> 91 | V3: =J3*B3 -> 1833 | W3: =K3*C3 -> 2867 | X3: =L3*D3 -> 91 | Z3: =N3*B3 -> 1833 | AA3: =O3*C3 -> 2867 | AB3: =P3*D3 -> 91
A4: 2001 | B4: =B59 -> 7485 | C4: =B112 -> 14462 | D4: =B165 -> 7875 | F4: 0.24261857 | G4: 0.21186558 | H4: 0.010666667 | J4: 0.24261857 | K4: 0.21186558 | L4: 0.010666667 | N4: 0.24261857 | O4: 0.21186558 | P4: 0.010666667 | R4: =F4*B4 -> 1816 | S4: =G4*C4 -> 3064 | T4: =H4*D4 -> 84 | V4: =J4*B4 -> 1816 | W4: =K4*C4 -> 3064 | X4: =L4*D4 -> 84 | Z4: =N4*B4 -> 1816 | AA4: =O4*C4 -> 3064 | AB4: =P4*D4 -> 84
A5: 2002 | B5: =B60 -> 6803 | C5: =B113 -> 14135 | D5: =B166 -> 7843 | F5: 0.27693665 | G5: 0.22313406 | H5: 0.012367716 | J5: 0.27693665 | K5: 0.22313406 | L5: 0.012367716 | N5: 0.27693665 | O5: 0.22313406 | P5: 0.012367716 | R5: =F5*B5 -> 1884 | S5: =G5*C5 -> 3154 | T5: =H5*D5 -> 97 | V5: =J5*B5 -> 1884 | W5: =K5*C5 -> 3154 | X5: =L5*D5 -> 97 | Z5: =N5*B5 -> 1884 | AA5: =O5*C5 -> 3154 | AB5: =P5*D5 -> 97
A6: 2003 | B6: =B61 -> 7730 | C6: =B114 -> 14689 | D6: =B167 -> 8131 | F6: 0.26274256 | G6: 0.22179862 | H6: 0.011929652 | J6: 0.26274256 | K6: 0.22179862 | L6: 0.011929652 | N6: 0.26274256 | O6: 0.22179862 | P6: 0.011929652 | R6: =F6*B6 -> 2031 | S6: =G6*C6 -> 3258 | T6: =H6*D6 -> 97 | V6: =J6*B6 -> 2031 | W6: =K6*C6 -> 3258 | X6: =L6*D6 -> 97 | Z6: =N6*B6 -> 2031 | AA6: =O6*C6 -> 3258 | AB6: =P6*D6 -> 97
A7: 2004 | B7: =B62 -> 7937 | C7: =B115 -> 15152 | D7: =B168 -> 8303 | F7: 0.27012725 | G7: 0.22888068 | H7: 0.0095146333 | J7: 0.27012725 | K7: 0.22888068 | L7: 0.0095146333 | N7: 0.27012725 | O7: 0.22888068 | P7: 0.0095146333 | R7: =F7*B7 -> 2144 | S7: =G7*C7 -> 3468 | T7: =H7*D7 -> 79 | V7: =J7*B7 -> 2144 | W7: =K7*C7 -> 3468 | X7: =L7*D7 -> 79 | Z7: =N7*B7 -> 2144 | AA7: =O7*C7 -> 3468 | AB7: =P7*D7 -> 79
A8: 2005 | B8: =B63 -> 8268 | C8: =B116 -> 14866 | D8: =B169 -> 9269 | F8: 0.26221577 | G8: 0.23873268 | H8: 0.01111231 | J8: 0.26221577 | K8: 0.23873268 | L8: 0.01111231 | N8: 0.26221577 | O8: 0.23873268 | P8: 0.01111231 | R8: =F8*B8 -> 2168 | S8: =G8*C8 -> 3549 | T8: =H8*D8 -> 103 | V8: =J8*B8 -> 2168 | W8: =K8*C8 -> 3549 | X8: =L8*D8 -> 103 | Z8: =N8*B8 -> 2168 | AA8: =O8*C8 -> 3549 | AB8: =P8*D8 -> 103
A9: 2006 | B9: =B64 -> 7968 | C9: =B117 -> 14869 | D9: =B170 -> 9391 | F9: 0.2935492 | G9: 0.25899522 | H9: 0.0088382494 | J9: 0.2935492 | K9: 0.25899522 | L9: 0.0088382494 | N9: 0.2935492 | O9: 0.25899522 | P9: 0.0088382494 | R9: =F9*B9 -> 2339 | S9: =G9*C9 -> 3851 | T9: =H9*D9 -> 83 | V9: =J9*B9 -> 2339 | W9: =K9*C9 -> 3851 | X9: =L9*D9 -> 83 | Z9: =N9*B9 -> 2339 | AA9: =O9*C9 -> 3851 | AB9: =P9*D9 -> 83
A10: 2007 | B10: =B65 -> 8790 | C10: =B118 -> 15950 | D10: =B171 -> 9518 | F10: 0.27212742 | G10: 0.25899687 | H10: 0.0080899349 | J10: 0.27212742 | K10: 0.25899687 | L10: 0.0080899349 | N10: 0.27212742 | O10: 0.25899687 | P10: 0.0080899349 | R10: =F10*B10 -> 2392 | S10: =G10*C10 -> 4131 | T10: =H10*D10 -> 77 | V10: =J10*B10 -> 2392 | W10: =K10*C10 -> 4131 | X10: =L10*D10 -> 77 | Z10: =N10*B10 -> 2392 | AA10: =O10*C10 -> 4131 | AB10: =P10*D10 -> 77
A11: 2008 | B11: =B66 -> 8518 | C11: =B119 -> 16111 | D11: =B172 -> 8387 | F11: 0.27412538 | G11: 0.27298119 | H11: 0.0095385716 | J11: 0.27412538 | K11: 0.27298119 | L11: 0.0095385716 | N11: 0.27412538 | O11: 0.27298119 | P11: 0.0095385716 | R11: =F11*B11 -> 2335 | S11: =G11*C11 -> 4398 | T11: =H11*D11 -> 80 | V11: =J11*B11 -> 2335 | W11: =K11*C11 -> 4398 | X11: =L11*D11 -> 80 | Z11: =N11*B11 -> 2335 | AA11: =O11*C11 -> 4398 | AB11: =P11*D11 -> 80
A12: 2009 | B12: =B67 -> 6167 | C12: =B120 -> 16153 | D12: =B173 -> 8843 | F12: 0.31473974 | G12: 0.27505726 | H12: 0.010177542 | J12: 0.31473974 | K12: 0.27505726 | L12: 0.010177542 | N12: 0.31473974 | O12: 0.27505726 | P12: 0.010177542 | R12: =F12*B12 -> 1941 | S12: =G12*C12 -> 4443 | T12: =H12*D12 -> 90 | V12: =J12*B12 -> 1941 | W12: =K12*C12 -> 4443 | X12: =L12*D12 -> 90 | Z12: =N12*B12 -> 1941 | AA12: =O12*C12 -> 4443 | AB12: =P12*D12 -> 90
A13: 2010 | B13: =B68 -> 6723 | C13: =B121 -> 16879 | D13: =B174 -> 8746 | F13: 0.31161684 | G13: 0.26861781 | H13: 0.01017608 | J13: 0.31161684 | K13: 0.26861781 | L13: 0.01017608 | N13: 0.31161684 | O13: 0.26861781 | P13: 0.01017608 | R13: =F13*B13 -> 2095 | S13: =G13*C13 -> 4534 | T13: =H13*D13 -> 89 | V13: =J13*B13 -> 2095 | W13: =K13*C13 -> 4534 | X13: =L13*D13 -> 89 | Z13: =N13*B13 -> 2095 | AA13: =O13*C13 -> 4534 | AB13: =P13*D13 -> 89
A14: 2011 | B14: =B69 -> 6822 | C14: =B122 -> 15558 | D14: =B175 -> 8767 | F14: 0.29991205 | G14: 0.27715645 | H14: 0.0091251283 | J14: 0.29991205 | K14: 0.27715645 | L14: 0.0091251283 | N14: 0.29991205 | O14: 0.27715645 | P14: 0.0091251283 | R14: =F14*B14 -> 2046 | S14: =G14*C14 -> 4312 | T14: =H14*D14 -> 80 | V14: =J14*B14 -> 2046 | W14: =K14*C14 -> 4312 | X14: =L14*D14 -> 80 | Z14: =N14*B14 -> 2046 | AA14: =O14*C14 -> 4312 | AB14: =P14*D14 -> 80
... A26: 2023 | B26: =B81 -> 3923 | C26: =B134 -> 15085 | D26: =B187 -> 9909 | F26: 0.45449911 | G26: 0.26602585 | H26: 0.0060551014 | J26: 0.45449911 | K26: 0.26602585 | L26: 0.0060551014 | N26: 0.45449911 | O26: 0.26602585 | P26: 0.0060551014 | R26: =F26*B26 -> 1783 | S26: =G26*C26 -> 4013 | T26: =H26*D26 -> 60 | V26: =J26*B26 -> 1783 | W26: =K26*C26 -> 4013 | X26: =L26*D26 -> 60 | Z26: =N26*B26 -> 1783 | AA26: =O26*C26 -> 4013 | AB26: =P26*D26 -> 60
A27: 2024 | B27: =B82 -> 3948.2834 | C27: =B135 -> 15243.849 | D27: =B188 -> 10026.191 | F27: ='EST Scenario projections'!D5 -> 0.42428571 | G27: ='EST Scenario projections'!C5 -> 0.28857143 | H27: ='EST Scenario projections'!E5 -> 0.0051428571 | J27: ='EST Scenario projections'!K5 -> 0.313 | K27: ='EST Scenario projections'!J5 -> 0.2905 | L27: ='EST Scenario projections'!L5 -> 0.006 | N27: ='EST Scenario projections'!R5 -> 0.313 | O27: ='EST Scenario projections'!Q5 -> 0.2905 | P27: ='EST Scenario projections'!S5 -> 0.006 | R27: =F27*B27 -> 1675.2002 | S27: =G27*C27 -> 4398.9393 | T27: =H27*D27 -> 51.563268 | V27: =J27*B27 -> 1235.8127 | W27: =K27*C27 -> 4428.3382 | X27: =L27*D27 -> 60.157146 | Z27: =N27*B27 -> 1235.8127 | AA27: =O27*C27 -> 4428.3382 | AB27: =P27*D27 -> 60.157146
A28: 2025 | B28: =B83 -> 3934.8073 | C28: =B136 -> 15253.486 | D28: =B189 -> 10045.401 | F28: ='EST Scenario projections'!D6 -> 0.39857143 | G28: ='EST Scenario projections'!C6 -> 0.30714286 | H28: ='EST Scenario projections'!E6 -> 0.023714286 | J28: ='EST Scenario projections'!K6 -> 0.3234375 | K28: ='EST Scenario projections'!J6 -> 0.30734375 | L28: ='EST Scenario projections'!L6 -> 0.024375 | N28: ='EST Scenario projections'!R6 -> 0.32019231 | O28: ='EST Scenario projections'!Q6 -> 0.29836538 | P28: ='EST Scenario projections'!S6 -> 0.020192308 | R28: =F28*B28 -> 1568.3018 | S28: =G28*C28 -> 4684.9994 | T28: =H28*D28 -> 238.2195 | V28: =J28*B28 -> 1272.6642 | W28: =K28*C28 -> 4688.0637 | X28: =L28*D28 -> 244.85664 | Z28: =N28*B28 -> 1259.895 | AA28: =O28*C28 -> 4551.1124 | AB28: =P28*D28 -> 202.83982
A29: 2026 | B29: =B84 -> 3914.5847 | C29: =B137 -> 15236.691 | D29: =B190 -> 10047.213 | F29: ='EST Scenario projections'!D7 -> 0.37285714 | G29: ='EST Scenario projections'!C7 -> 0.32571429 | H29: ='EST Scenario projections'!E7 -> 0.042285714 | J29: ='EST Scenario projections'!K7 -> 0.333875 | K29: ='EST Scenario projections'!J7 -> 0.3241875 | L29: ='EST Scenario projections'!L7 -> 0.04275 | N29: ='EST Scenario projections'!R7 -> 0.32738462 | O29: ='EST Scenario projections'!Q7 -> 0.30623077 | P29: ='EST Scenario projections'!S7 -> 0.034384615 | R29: =F29*B29 -> 1459.5808 | S29: =G29*C29 -> 4962.8079 | T29: =H29*D29 -> 424.85358 | V29: =J29*B29 -> 1306.982 | W29: =K29*C29 -> 4939.5447 | X29: =L29*D29 -> 429.51836 | Z29: =N29*B29 -> 1281.5748 | AA29: =O29*C29 -> 4665.9436 | AB29: =P29*D29 -> 345.46956
A30: 2027 | B30: =B85 -> 3925.3178 | C30: =B138 -> 15340.486 | D30: =B191 -> 10128.634 | F30: ='EST Scenario projections'!D8 -> 0.34714286 | G30: ='EST Scenario projections'!C8 -> 0.34428571 | H30: ='EST Scenario projections'!E8 -> 0.060857143 | J30: ='EST Scenario projections'!K8 -> 0.3443125 | K30: ='EST Scenario projections'!J8 -> 0.34103125 | L30: ='EST Scenario projections'!L8 -> 0.061125 | N30: ='EST Scenario projections'!R8 -> 0.33457692 | O30: ='EST Scenario projections'!Q8 -> 0.31409615 | P30: ='EST Scenario projections'!S8 -> 0.048576923 | R30: =F30*B30 -> 1362.646 | S30: =G30*C30 -> 5281.5101 | T30: =H30*D30 -> 616.39973 | V30: =J30*B30 -> 1351.536 | W30: =K30*C30 -> 5231.5851 | X30: =L30*D30 -> 619.11276 | Z30: =N30*B30 -> 1313.3208 | AA30: =O30*C30 -> 4818.3876 | AB30: =P30*D30 -> 492.01788
A31: 2028 | B31: =B86 -> 3913.8494 | C31: =B139 -> 15357.754 | D31: =B192 -> 10153.045 | F31: ='EST Scenario projections'!D9 -> 0.32142857 | G31: ='EST Scenario projections'!C9 -> 0.36285714 | H31: ='EST Scenario projections'!E9 -> 0.079428571 | J31: ='EST Scenario projections'!K9 -> 0.35475 | K31: ='EST Scenario projections'!J9 -> 0.357875 | L31: ='EST Scenario projections'!L9 -> 0.0795 | N31: ='EST Scenario projections'!R9 -> 0.34176923 | O31: ='EST Scenario projections'!Q9 -> 0.32196154 | P31: ='EST Scenario projections'!S9 -> 0.062769231 | R31: =F31*B31 -> 1258.023 | S31: =G31*C31 -> 5572.6709 | T31: =H31*D31 -> 806.44184 | V31: =J31*B31 -> 1388.4381 | W31: =K31*C31 -> 5496.1564 | X31: =L31*D31 -> 807.16705 | Z31: =N31*B31 -> 1337.6333 | AA31: =O31*C31 -> 4944.6062 | AB31: =P31*D31 -> 637.29881
A32: 2029 | B32: =B87 -> 3902.7428 | C32: =B140 -> 15376.336 | D32: =B193 -> 10178.371 | F32: ='EST Scenario projections'!D10 -> 0.29571429 | G32: ='EST Scenario projections'!C10 -> 0.38142857 | H32: ='EST Scenario projections'!E10 -> 0.098 | J32: ='EST Scenario projections'!K10 -> 0.3651875 | K32: ='EST Scenario projections'!J10 -> 0.37471875 | L32: ='EST Scenario projections'!L10 -> 0.097875 | N32: ='EST Scenario projections'!R10 -> 0.34896154 | O32: ='EST Scenario projections'!Q10 -> 0.32982692 | P32: ='EST Scenario projections'!S10 -> 0.076961538 | R32: =F32*B32 -> 1154.0968 | S32: =G32*C32 -> 5864.974 | T32: =H32*D32 -> 997.48032 | V32: =J32*B32 -> 1425.2329 | W32: =K32*C32 -> 5761.8015 | X32: =L32*D32 -> 996.20802 | Z32: =N32*B32 -> 1361.9071 | AA32: =O32*C32 -> 5071.5297 | AB32: =P32*D32 -> 783.34306
A33: 2030 | B33: =B88 -> 3893.1413 | C33: =B141 -> 15400.769 | D33: =B194 -> 10207.623 | F33: ='EST Scenario projections'!D11 -> 0.27 | G33: ='EST Scenario projections'!C11 -> 0.4 | H33: ='EST Scenario projections'!E11 -> 0 | J33: ='EST Scenario projections'!K11 -> 0.375625 | K33: ='EST Scenario projections'!J11 -> 0.3915625 | L33: ='EST Scenario projections'!L11 -> 0.11625 | N33: ='EST Scenario projections'!R11 -> 0.35615385 | O33: ='EST Scenario projections'!Q11 -> 0.33769231 | P33: ='EST Scenario projections'!S11 -> 0.091153846 | R33: =F33*B33 -> 1051.1482 | S33: =G33*C33 -> 6160.3078 | T33: =H33*D33 -> 0 | V33: =J33*B33 -> 1462.3612 | W33: =K33*C33 -> 6030.3638 | X33: =L33*D33 -> 1186.6362 | Z33: =N33*B33 -> 1386.5573 | AA33: =O33*C33 -> 5200.7214 | AB33: =P33*D33 -> 930.4641
A34: 2031 | B34: =B89 -> 3884.3928 | C34: =B142 -> 15428.536 | D34: =B195 -> 10239.146 | F34: ='EST Scenario projections'!D12 -> 0.2565 | G34: ='EST Scenario projections'!C12 -> 0.405 | H34: ='EST Scenario projections'!E12 -> 0 | J34: ='EST Scenario projections'!K12 -> 0.3860625 | K34: ='EST Scenario projections'!J12 -> 0.40840625 | L34: ='EST Scenario projections'!L12 -> 0.134625 | N34: ='EST Scenario projections'!R12 -> 0.36334615 | O34: ='EST Scenario projections'!Q12 -> 0.34555769 | P34: ='EST Scenario projections'!S12 -> 0.10534615 | R34: =F34*B34 -> 996.34675 | S34: =G34*C34 -> 6248.557 | T34: =H34*D34 -> 0 | V34: =J34*B34 -> 1499.6184 | W34: =K34*C34 -> 6301.1104 | X34: =L34*D34 -> 1378.445 | Z34: =N34*B34 -> 1411.3792 | AA34: =O34*C34 -> 5331.4492 | AB34: =P34*D34 -> 1078.6546
